Workbook

Sheet NAV structure31.07.24
A1: Main indicators of mandatory pension system in RA (AMD)
A3: Date | B3: NAV | C3: Currency and deposits | D3: Bonds, of which | E3: RA Government bonds | F3: other bonds | G3: Shares | H3: Collective investment scheemes | I3: Other assets | J3: Total assets | K3: Liabilities | L3: FX assets | M3: AMD assets | N3: NAVPS (not weighted average)
A4: 45504 | B4: 9.5707768e+11 | C4: 1.7735876e+11 | D4: 4.6442532e+11 | E4: 4.0382946e+11 | F4: 6.0595854e+10 | G4: 2.5510934e+09 | H4: 3.1351332e+11 | I4: 1.649535e+09 | J4: 9.5949802e+11 | K4: 2.4203435e+09 | L4: 3.3122677e+11 | M4: =+J4-L4 -> 6.2827125e+11 | N4: 2178.1638
A5: 45535 | B5: 9.8465879e+11 | C5: 1.7538981e+11 | D5: 4.8130286e+11 | E5: 4.1432572e+11 | F5: 6.6977133e+10 | G5: 2.7161195e+09 | H5: 3.2803247e+11 | I5: 1.8099053e+09 | J5: 9.8925116e+11 | K5: 4.5923649e+09 | L5: 3.4131532e+11 | M5: =+J5-L5 -> 6.4793584e+11 | N5: 2201.3499
A6: 45565 | B6: 1.0047628e+12 | C6: 1.8022836e+11 | D6: 4.8710569e+11 | E6: 4.2149728e+11 | F6: 6.5608412e+10 | G6: 2.7631018e+09 | H6: 3.3722457e+11 | I6: 1.8258092e+09 | J6: 1.0091475e+12 | K6: 4.3847166e+09 | L6: 3.517203e+11 | M6: =+J6-L6 -> 6.5742723e+11 | N6: 2224.9441
A7: 45596 | B7: 1.019982e+12 | C7: 2.0044001e+11 | D7: 4.8465655e+11 | E7: 4.1591064e+11 | F7: 6.8745916e+10 | G7: 3.8031728e+09 | H7: 3.3543429e+11 | I7: 2.0676943e+09 | J7: 1.0264017e+12 | K7: 6.4196883e+09 | L7: 355132691256 | M7: =+J7-L7 -> 6.7126903e+11 | N7: 2214.2501
A8: 45626 | B8: 1.0435342e+12 | C8: 2.0391847e+11 | D8: 4.8693443e+11 | E8: 4.1460504e+11 | F8: 7.2329391e+10 | G8: 3.2304325e+09 | H8: 3.5853826e+11 | I8: 2.6205002e+09 | J8: 1.0552421e+12 | K8: 1.1707933e+10 | L8: 3.7349725e+11 | M8: =+J8-L8 -> 6.8174485e+11 | N8: 2253.0492
A9: 45657 | B9: 1.0738725e+12 | C9: 213020311432 | D9: 4.9619579e+11 | E9: 4.2386764e+11 | F9: 7.2328145e+10 | G9: 4.1172482e+09 | H9: 3.5576581e+11 | I9: 9.3038135e+09 | J9: 1.078403e+12 | K9: 4.5304266e+09 | L9: 3.7234904e+11 | M9: =+J9-L9 -> 7.0605393e+11 | N9: 2256.1548
A10: 45688 | B10: 1.1069594e+12 | C10: 2.0701088e+11 | D10: 5.2513991e+11 | E10: 4.47461e+11 | F10: 7.7678911e+10 | G10: 3.267622e+09 | H10: 3.73803e+11 | I10: 2.3618454e+09 | J10: 1.1115833e+12 | K10: 4.6238359e+09 | L10: 3.8925742e+11 | M10: 7.2232583e+11 | N10: 2281.9813
A11: 45716 | B11: 1.1088243e+12 | C11: 1.9769786e+11 | D11: 5.3867321e+11 | E11: 4.6115113e+11 | F11: 7.7522076e+10 | G11: 3.1457773e+09 | H11: 3.786116e+11 | I11: 2.2490217e+09 | J11: 1.1203775e+12 | K11: 1.1553211e+10 | L11: 3.8964684e+11 | M11: 7.3073063e+11 | N11: 2288.3675
A12: 45747 | B12: 1.1513729e+12 | C12: 2.2625939e+11 | D12: 5.4995835e+11 | E12: 4.7064567e+11 | F12: 7.9312676e+10 | G12: 3.3086374e+09 | H12: 3.8361489e+11 | I12: 2.4378226e+09 | J12: 1.1655791e+12 | K12: 1.4206199e+10 | L12: 4.1247047e+11 | M12: 7.5310861e+11 | N12: 2283.5471
A13: 45777 | B13: 1.1783265e+12 | C13: 2.431052e+11 | D13: 5.4034992e+11 | E13: 4.5963613e+11 | F13: 8.0713795e+10 | G13: 3.2362225e+09 | H13: 3.9620894e+11 | I13: 2.681046e+09 | J13: 1.1855813e+12 | K13: 7.2548002e+09 | L13: 418074862167 | M13: 7.6750647e+11 | N13: 2292.748
A14: 45808 | B14: =IF('[1]Զուտ ակտիվներ սկսած 31.07.24'!B14="","",'[1]Զուտ ակտիվներ սկսած 31.07.24'!B14) -> 1.207538e+12 | C14: =IF('[1]Զուտ ակտիվներ սկսած 31.07.24'!C14="","",'[1]Զուտ ակտիվներ սկսած 31.07.24'!C14) -> 2.3792079e+11 | D14: =IF('[1]Զուտ ակտիվներ սկսած 31.07.24'!D14="","",'[1]Զուտ ակտիվներ սկսած 31.07.24'!D14) -> 5.5655391e+11 | E14: =IF('[1]Զուտ ակտիվներ սկսած 31.07.24'!E14="","",'[1]Զուտ ակտիվներ սկսած 31.07.24'!E14) -> 4.7600884e+11 | F14: =IF('[1]Զուտ ակտիվներ սկսած 31.07.24'!F14="","",'[1]Զուտ ակտիվներ սկսած 31.07.24'!F14) -> 8.0545064e+10 | G14: =IF('[1]Զուտ ակտիվներ սկսած 31.07.24'!G14="","",'[1]Զուտ ակտիվներ սկսած 31.07.24'!G14) -> 3.1113122e+09 | H14: =IF('[1]Զուտ ակտիվներ սկսած 31.07.24'!H14="","",'[1]Զուտ ակտիվներ սկսած 31.07.24'!H14) -> 4.185818e+11 | I14: =IF('[1]Զուտ ակտիվներ սկսած 31.07.24'!I14="","",'[1]Զուտ ակտիվներ սկսած 31.07.24'!I14) -> 3.3163711e+09 | ... N14: =IF('[1]Զուտ ակտիվներ սկսած 31.07.24'!N14="","",'[1]Զուտ ակտիվներ սկսած 31.07.24'!N14) -> 2321.9452
A15: 45838 | B15: =IF('[1]Զուտ ակտիվներ սկսած 31.07.24'!B15="","",'[1]Զուտ ակտիվներ սկսած 31.07.24'!B15) -> 1.2420285e+12 | C15: =IF('[1]Զուտ ակտիվներ սկսած 31.07.24'!C15="","",'[1]Զուտ ակտիվներ սկսած 31.07.24'!C15) -> 2.5524459e+11 | D15: =IF('[1]Զուտ ակտիվներ սկսած 31.07.24'!D15="","",'[1]Զուտ ակտիվներ սկսած 31.07.24'!D15) -> 5.6415106e+11 | E15: =IF('[1]Զուտ ակտիվներ սկսած 31.07.24'!E15="","",'[1]Զուտ ակտիվներ սկսած 31.07.24'!E15) -> 4.7934272e+11 | F15: =IF('[1]Զուտ ակտիվներ սկսած 31.07.24'!F15="","",'[1]Զուտ ակտիվներ սկսած 31.07.24'!F15) -> 8.4808338e+10 | G15: =IF('[1]Զուտ ակտիվներ սկսած 31.07.24'!G15="","",'[1]Զուտ ակտիվներ սկսած 31.07.24'!G15) -> 3.2597289e+09 | H15: =IF('[1]Զուտ ակտիվներ սկսած 31.07.24'!H15="","",'[1]Զուտ ակտիվներ սկսած 31.07.24'!H15) -> 4.2123174e+11 | I15: =IF('[1]Զուտ ակտիվներ սկսած 31.07.24'!I15="","",'[1]Զուտ ակտիվներ սկսած 31.07.24'!I15) -> 2.943736e+09 | ... N15: =IF('[1]Զուտ ակտիվներ սկսած 31.07.24'!N15="","",'[1]Զուտ ակտիվներ սկսած 31.07.24'!N15) -> 2353.8227
A16: 45869 | B16: =IF('[1]Զուտ ակտիվներ սկսած 31.07.24'!B16="","",'[1]Զուտ ակտիվներ սկսած 31.07.24'!B16) -> 1.2625506e+12 | C16: =IF('[1]Զուտ ակտիվներ սկսած 31.07.24'!C16="","",'[1]Զուտ ակտիվներ սկսած 31.07.24'!C16) -> 2.5305439e+11 | D16: =IF('[1]Զուտ ակտիվներ սկսած 31.07.24'!D16="","",'[1]Զուտ ակտիվներ սկսած 31.07.24'!D16) -> 5.754099e+11 | E16: =IF('[1]Զուտ ակտիվներ սկսած 31.07.24'!E16="","",'[1]Զուտ ակտիվներ սկսած 31.07.24'!E16) -> 4.9331034e+11 | F16: =IF('[1]Զուտ ակտիվներ սկսած 31.07.24'!F16="","",'[1]Զուտ ակտիվներ սկսած 31.07.24'!F16) -> 8.2099557e+10 | G16: =IF('[1]Զուտ ակտիվներ սկսած 31.07.24'!G16="","",'[1]Զուտ ակտիվներ սկսած 31.07.24'!G16) -> 3.2378576e+09 | H16: =IF('[1]Զուտ ակտիվներ սկսած 31.07.24'!H16="","",'[1]Զուտ ակտիվներ սկսած 31.07.24'!H16) -> 4.2510889e+11 | I16: =IF('[1]Զուտ ակտիվներ սկսած 31.07.24'!I16="","",'[1]Զուտ ակտիվներ սկսած 31.07.24'!I16) -> 7.0100314e+09 | ... N16: =IF('[1]Զուտ ակտիվներ սկսած 31.07.24'!N16="","",'[1]Զուտ ակտիվներ սկսած 31.07.24'!N16) -> 2369.9572
A17: 45900 | B17: =IF('[1]Զուտ ակտիվներ սկսած 31.07.24'!B17="","",'[1]Զուտ ակտիվներ սկսած 31.07.24'!B17) -> 1.2924439e+12 | C17: =IF('[1]Զուտ ակտիվներ սկսած 31.07.24'!C17="","",'[1]Զուտ ակտիվներ սկսած 31.07.24'!C17) -> 2.7544718e+11 | D17: =IF('[1]Զուտ ակտիվներ սկսած 31.07.24'!D17="","",'[1]Զուտ ակտիվներ սկսած 31.07.24'!D17) -> 5.77891e+11 | E17: =IF('[1]Զուտ ակտիվներ սկսած 31.07.24'!E17="","",'[1]Զուտ ակտիվներ սկսած 31.07.24'!E17) -> 4.9559078e+11 | F17: =IF('[1]Զուտ ակտիվներ սկսած 31.07.24'!F17="","",'[1]Զուտ ակտիվներ սկսած 31.07.24'!F17) -> 8.2300222e+10 | G17: =IF('[1]Զուտ ակտիվներ սկսած 31.07.24'!G17="","",'[1]Զուտ ակտիվներ սկսած 31.07.24'!G17) -> 3.3161151e+09 | H17: =IF('[1]Զուտ ակտիվներ սկսած 31.07.24'!H17="","",'[1]Զուտ ակտիվներ սկսած 31.07.24'!H17) -> 4.3205994e+11 | I17: =IF('[1]Զուտ ակտիվներ սկսած 31.07.24'!I17="","",'[1]Զուտ ակտիվներ սկսած 31.07.24'!I17) -> 6.8388334e+09 | ... N17: =IF('[1]Զուտ ակտիվներ սկսած 31.07.24'!N17="","",'[1]Զուտ ակտիվներ սկսած 31.07.24'!N17) -> 2395.6351
A18: 45930 | B18: =IF('[1]Զուտ ակտիվներ սկսած 31.07.24'!B18="","",'[1]Զուտ ակտիվներ սկսած 31.07.24'!B18) -> 1.331058e+12 | C18: =IF('[1]Զուտ ակտիվներ սկսած 31.07.24'!C18="","",'[1]Զուտ ակտիվներ սկսած 31.07.24'!C18) -> 2.8171344e+11 | D18: =IF('[1]Զուտ ակտիվներ սկսած 31.07.24'!D18="","",'[1]Զուտ ակտիվներ սկսած 31.07.24'!D18) -> 5.932672e+11 | E18: =IF('[1]Զուտ ակտիվներ սկսած 31.07.24'!E18="","",'[1]Զուտ ակտիվներ սկսած 31.07.24'!E18) -> 5.1032506e+11 | F18: =IF('[1]Զուտ ակտիվներ սկսած 31.07.24'!F18="","",'[1]Զուտ ակտիվներ սկսած 31.07.24'!F18) -> 8.2942134e+10 | G18: =IF('[1]Զուտ ակտիվներ սկսած 31.07.24'!G18="","",'[1]Զուտ ակտիվներ սկսած 31.07.24'!G18) -> 3.3555079e+09 | H18: =IF('[1]Զուտ ակտիվներ սկսած 31.07.24'!H18="","",'[1]Զուտ ակտիվներ սկսած 31.07.24'!H18) -> 4.4709514e+11 | I18: =IF('[1]Զուտ ակտիվներ սկսած 31.07.24'!I18="","",'[1]Զուտ ակտիվներ սկսած 31.07.24'!I18) -> 6.7456003e+09 | ... N18: =IF('[1]Զուտ ակտիվներ սկսած 31.07.24'!N18="","",'[1]Զուտ ակտիվներ սկսած 31.07.24'!N18) -> 2434.5447
A19: 45961 | B19: =IF('[1]Զուտ ակտիվներ սկսած 31.07.24'!B19="","",'[1]Զուտ ակտիվներ սկսած 31.07.24'!B19) -> 1.331058e+12 | C19: =IF('[1]Զուտ ակտիվներ սկսած 31.07.24'!C19="","",'[1]Զուտ ակտիվներ սկսած 31.07.24'!C19) -> 3.0009517e+11 | D19: =IF('[1]Զուտ ակտիվներ սկսած 31.07.24'!D19="","",'[1]Զուտ ակտիվներ սկսած 31.07.24'!D19) -> 5.8542625e+11 | E19: =IF('[1]Զուտ ակտիվներ սկսած 31.07.24'!E19="","",'[1]Զուտ ակտիվներ սկսած 31.07.24'!E19) -> 5.0262143e+11 | F19: =IF('[1]Զուտ ակտիվներ սկսած 31.07.24'!F19="","",'[1]Զուտ ակտիվներ սկսած 31.07.24'!F19) -> 8.2804818e+10 | G19: =IF('[1]Զուտ ակտիվներ սկսած 31.07.24'!G19="","",'[1]Զուտ ակտիվներ սկսած 31.07.24'!G19) -> 3.3780118e+09 | H19: =IF('[1]Զուտ ակտիվներ սկսած 31.07.24'!H19="","",'[1]Զուտ ակտիվներ սկսած 31.07.24'!H19) -> 4.5677945e+11 | I19: =IF('[1]Զուտ ակտիվներ սկսած 31.07.24'!I19="","",'[1]Զուտ ակտիվներ սկսած 31.07.24'!I19) -> 6.7461395e+09 | ... N19: =IF('[1]Զուտ ակտիվներ սկսած 31.07.24'!N19="","",'[1]Զուտ ակտիվներ սկսած 31.07.24'!N19) -> 2472.0696
A20: 45991 | B20: =IF('[1]Զուտ ակտիվներ սկսած 31.07.24'!B20="","",'[1]Զուտ ակտիվներ սկսած 31.07.24'!B20) -> 1.4071998e+12 | C20: =IF('[1]Զուտ ակտիվներ սկսած 31.07.24'!C20="","",'[1]Զուտ ակտիվներ սկսած 31.07.24'!C20) -> 3.2661277e+11 | D20: =IF('[1]Զուտ ակտիվներ սկսած 31.07.24'!D20="","",'[1]Զուտ ակտիվներ սկսած 31.07.24'!D20) -> 6.069191e+11 | E20: =IF('[1]Զուտ ակտիվներ սկսած 31.07.24'!E20="","",'[1]Զուտ ակտիվներ սկսած 31.07.24'!E20) -> 5.2588178e+11 | F20: =IF('[1]Զուտ ակտիվներ սկսած 31.07.24'!F20="","",'[1]Զուտ ակտիվներ սկսած 31.07.24'!F20) -> 8.1037317e+10 | G20: =IF('[1]Զուտ ակտիվներ սկսած 31.07.24'!G20="","",'[1]Զուտ ակտիվներ սկսած 31.07.24'!G20) -> 3.4699238e+09 | H20: =IF('[1]Զուտ ակտիվներ սկսած 31.07.24'!H20="","",'[1]Զուտ ակտիվներ սկսած 31.07.24'!H20) -> 4.643816e+11 | I20: =IF('[1]Զուտ ակտիվներ սկսած 31.07.24'!I20="","",'[1]Զուտ ակտիվներ սկսած 31.07.24'!I20) -> 1.2059252e+10 | ... N20: =IF('[1]Զուտ ակտիվներ սկսած 31.07.24'!N20="","",'[1]Զուտ ակտիվներ սկսած 31.07.24'!N20) -> 2497.897
A21: 46022 | B21: =IF('[1]Զուտ ակտիվներ սկսած 31.07.24'!B21="","",'[1]Զուտ ակտիվներ սկսած 31.07.24'!B21) -> 1.4409993e+12 | C21: =IF('[1]Զուտ ակտիվներ սկսած 31.07.24'!C21="","",'[1]Զուտ ակտիվներ սկսած 31.07.24'!C21) -> 3.3448029e+11 | D21: =IF('[1]Զուտ ակտիվներ սկսած 31.07.24'!D21="","",'[1]Զուտ ակտիվներ սկսած 31.07.24'!D21) -> 6.1154901e+11 | E21: =IF('[1]Զուտ ակտիվներ սկսած 31.07.24'!E21="","",'[1]Զուտ ակտիվներ սկսած 31.07.24'!E21) -> 5.3277909e+11 | F21: =IF('[1]Զուտ ակտիվներ սկսած 31.07.24'!F21="","",'[1]Զուտ ակտիվներ սկսած 31.07.24'!F21) -> 7.8769919e+10 | G21: =IF('[1]Զուտ ակտիվներ սկսած 31.07.24'!G21="","",'[1]Զուտ ակտիվներ սկսած 31.07.24'!G21) -> 3.5807231e+09 | H21: =IF('[1]Զուտ ակտիվներ սկսած 31.07.24'!H21="","",'[1]Զուտ ակտիվներ սկսած 31.07.24'!H21) -> 4.8040956e+11 | I21: =IF('[1]Զուտ ակտիվներ սկսած 31.07.24'!I21="","",'[1]Զուտ ակտիվներ սկսած 31.07.24'!I21) -> 1.2257802e+10 | ... N21: =IF('[1]Զուտ ակտիվներ սկսած 31.07.24'!N21="","",'[1]Զուտ ակտիվներ սկսած 31.07.24'!N21) -> 2526.7826
A22: 46053 | B22: =IF('[1]Զուտ ակտիվներ սկսած 31.07.24'!B22="","",'[1]Զուտ ակտիվներ սկսած 31.07.24'!B22) -> 1.4836131e+12 | C22: =IF('[1]Զուտ ակտիվներ սկսած 31.07.24'!C22="","",'[1]Զուտ ակտիվներ սկսած 31.07.24'!C22) -> 3.5347657e+11 | D22: =IF('[1]Զուտ ակտիվներ սկսած 31.07.24'!D22="","",'[1]Զուտ ակտիվներ սկսած 31.07.24'!D22) -> 6.2308913e+11 | E22: =IF('[1]Զուտ ակտիվներ սկսած 31.07.24'!E22="","",'[1]Զուտ ակտիվներ սկսած 31.07.24'!E22) -> 5.4332668e+11 | F22: =IF('[1]Զուտ ակտիվներ սկսած 31.07.24'!F22="","",'[1]Զուտ ակտիվներ սկսած 31.07.24'!F22) -> 7.9762449e+10 | G22: =IF('[1]Զուտ ակտիվներ սկսած 31.07.24'!G22="","",'[1]Զուտ ակտիվներ սկսած 31.07.24'!G22) -> 3.5564328e+09 | H22: =IF('[1]Զուտ ակտիվներ սկսած 31.07.24'!H22="","",'[1]Զուտ ակտիվներ սկսած 31.07.24'!H22) -> 4.9149435e+11 | I22: =IF('[1]Զուտ ակտիվներ սկսած 31.07.24'!I22="","",'[1]Զուտ ակտիվներ սկսած 31.07.24'!I22) -> 1.5529527e+10 | ... N22: =IF('[1]Զուտ ակտիվներ սկսած 31.07.24'!N22="","",'[1]Զուտ ակտիվներ սկսած 31.07.24'!N22) -> 2563.9305
A23: 46081 | B23: =IF('[1]Զուտ ակտիվներ սկսած 31.07.24'!B23="","",'[1]Զուտ ակտիվներ սկսած 31.07.24'!B23) -> 1.5134477e+12 | C23: =IF('[1]Զուտ ակտիվներ սկսած 31.07.24'!C23="","",'[1]Զուտ ակտիվներ սկսած 31.07.24'!C23) -> 3.54963e+11 | D23: =IF('[1]Զուտ ակտիվներ սկսած 31.07.24'!D23="","",'[1]Զուտ ակտիվներ սկսած 31.07.24'!D23) -> 6.4341634e+11 | E23: =IF('[1]Զուտ ակտիվներ սկսած 31.07.24'!E23="","",'[1]Զուտ ակտիվներ սկսած 31.07.24'!E23) -> 5.6181549e+11 | F23: =IF('[1]Զուտ ակտիվներ սկսած 31.07.24'!F23="","",'[1]Զուտ ակտիվներ սկսած 31.07.24'!F23) -> 8.1600843e+10 | G23: =IF('[1]Զուտ ակտիվներ սկսած 31.07.24'!G23="","",'[1]Զուտ ակտիվներ սկսած 31.07.24'!G23) -> 3.8842315e+09 | H23: =IF('[1]Զուտ ակտիվներ սկսած 31.07.24'!H23="","",'[1]Զուտ ակտիվներ սկսած 31.07.24'!H23) -> 4.9995644e+11 | I23: =IF('[1]Զուտ ակտիվներ սկսած 31.07.24'!I23="","",'[1]Զուտ ակտիվներ սկսած 31.07.24'!I23) -> 1.9832577e+10 | ... N23: =IF('[1]Զուտ ակտիվներ սկսած 31.07.24'!N23="","",'[1]Զուտ ակտիվներ սկսած 31.07.24'!N23) -> 2605.663
A24: 46112 | B24: =IF('[1]Զուտ ակտիվներ սկսած 31.07.24'!B24="","",'[1]Զուտ ակտիվներ սկսած 31.07.24'!B24) -> 1.4897403e+12 | C24: =IF('[1]Զուտ ակտիվներ սկսած 31.07.24'!C24="","",'[1]Զուտ ակտիվներ սկսած 31.07.24'!C24) -> 3.8468652e+11 | D24: =IF('[1]Զուտ ակտիվներ սկսած 31.07.24'!D24="","",'[1]Զուտ ակտիվներ սկսած 31.07.24'!D24) -> 6.2269076e+11 | E24: =IF('[1]Զուտ ակտիվներ սկսած 31.07.24'!E24="","",'[1]Զուտ ակտիվներ սկսած 31.07.24'!E24) -> 5.4343599e+11 | F24: =IF('[1]Զուտ ակտիվներ սկսած 31.07.24'!F24="","",'[1]Զուտ ակտիվներ սկսած 31.07.24'!F24) -> 7.9254773e+10 | G24: =IF('[1]Զուտ ակտիվներ սկսած 31.07.24'!G24="","",'[1]Զուտ ակտիվներ սկսած 31.07.24'!G24) -> 3.9897377e+09 | H24: =IF('[1]Զուտ ակտիվներ սկսած 31.07.24'!H24="","",'[1]Զուտ ակտիվներ սկսած 31.07.24'!H24) -> 4.7400028e+11 | I24: =IF('[1]Զուտ ակտիվներ սկսած 31.07.24'!I24="","",'[1]Զուտ ակտիվներ սկսած 31.07.24'!I24) -> 1.2769241e+10 | ... N24: =IF('[1]Զուտ ակտիվներ սկսած 31.07.24'!N24="","",'[1]Զուտ ակտիվներ սկսած 31.07.24'!N24) -> 2529.2577
A25: 46142 | B25: =IF('[1]Զուտ ակտիվներ սկսած 31.07.24'!B25="","",'[1]Զուտ ակտիվներ սկսած 31.07.24'!B25) -> 1.5482828e+12 | C25: =IF('[1]Զուտ ակտիվներ սկսած 31.07.24'!C25="","",'[1]Զուտ ակտիվներ սկսած 31.07.24'!C25) -> 4.0881602e+11 | D25: =IF('[1]Զուտ ակտիվներ սկսած 31.07.24'!D25="","",'[1]Զուտ ակտիվներ սկսած 31.07.24'!D25) -> 5.9767671e+11 | E25: =IF('[1]Զուտ ակտիվներ սկսած 31.07.24'!E25="","",'[1]Զուտ ակտիվներ սկսած 31.07.24'!E25) -> 5.1818295e+11 | F25: =IF('[1]Զուտ ակտիվներ սկսած 31.07.24'!F25="","",'[1]Զուտ ակտիվներ սկսած 31.07.24'!F25) -> 7.9493756e+10 | G25: =IF('[1]Զուտ ակտիվներ սկսած 31.07.24'!G25="","",'[1]Զուտ ակտիվներ սկսած 31.07.24'!G25) -> 3.8978031e+09 | H25: =IF('[1]Զուտ ակտիվներ սկսած 31.07.24'!H25="","",'[1]Զուտ ակտիվներ սկսած 31.07.24'!H25) -> 5.2642171e+11 | I25: =IF('[1]Զուտ ակտիվներ սկսած 31.07.24'!I25="","",'[1]Զուտ ակտիվներ սկսած 31.07.24'!I25) -> 1.2874871e+10 | ... N25: =IF('[1]Զուտ ակտիվներ սկսած 31.07.24'!N25="","",'[1]Զուտ ակտիվներ սկսած 31.07.24'!N25) -> 2586.9357
A26: 46173 | B26: =IF('[1]Զուտ ակտիվներ սկսած 31.07.24'!B26="","",'[1]Զուտ ակտիվներ սկսած 31.07.24'!B26) -> 1.5895371e+12 | C26: =IF('[1]Զուտ ակտիվներ սկսած 31.07.24'!C26="","",'[1]Զուտ ակտիվներ սկսած 31.07.24'!C26) -> 3.9851077e+11 | D26: =IF('[1]Զուտ ակտիվներ սկսած 31.07.24'!D26="","",'[1]Զուտ ակտիվներ սկսած 31.07.24'!D26) -> 6.218326e+11 | E26: =IF('[1]Զուտ ակտիվներ սկսած 31.07.24'!E26="","",'[1]Զուտ ակտիվներ սկսած 31.07.24'!E26) -> 5.2460614e+11 | F26: =IF('[1]Զուտ ակտիվներ սկսած 31.07.24'!F26="","",'[1]Զուտ ակտիվներ սկսած 31.07.24'!F26) -> 9.7226463e+10 | G26: =IF('[1]Զուտ ակտիվներ սկսած 31.07.24'!G26="","",'[1]Զուտ ակտիվներ սկսած 31.07.24'!G26) -> 4.0232782e+09 | H26: =IF('[1]Զուտ ակտիվներ սկսած 31.07.24'!H26="","",'[1]Զուտ ակտիվներ սկսած 31.07.24'!H26) -> 5.5212204e+11 | I26: =IF('[1]Զուտ ակտիվներ սկսած 31.07.24'!I26="","",'[1]Զուտ ակտիվներ սկսած 31.07.24'!I26) -> 1.9976448e+10 | ... N26: =IF('[1]Զուտ ակտիվներ սկսած 31.07.24'!N26="","",'[1]Զուտ ակտիվներ սկսած 31.07.24'!N26) -> 2622.1597
A27: 6/31/2026 | B27: =IF('[1]Զուտ ակտիվներ սկսած 31.07.24'!B27="","",'[1]Զուտ ակտիվներ սկսած 31.07.24'!B27) -> 1.6160096e+12 | C27: =IF('[1]Զուտ ակտիվներ սկսած 31.07.24'!C27="","",'[1]Զուտ ակտիվներ սկսած 31.07.24'!C27) -> 4.1943219e+11 | D27: =IF('[1]Զուտ ակտիվներ սկսած 31.07.24'!D27="","",'[1]Զուտ ակտիվներ սկսած 31.07.24'!D27) -> 6.2701924e+11 | E27: =IF('[1]Զուտ ակտիվներ սկսած 31.07.24'!E27="","",'[1]Զուտ ակտիվներ սկսած 31.07.24'!E27) -> 5.3108162e+11 | F27: =IF('[1]Զուտ ակտիվներ սկսած 31.07.24'!F27="","",'[1]Զուտ ակտիվներ սկսած 31.07.24'!F27) -> 9.5937615e+10 | G27: =IF('[1]Զուտ ակտիվներ սկսած 31.07.24'!G27="","",'[1]Զուտ ակտիվներ սկսած 31.07.24'!G27) -> 4.1619248e+09 | H27: =IF('[1]Զուտ ակտիվներ սկսած 31.07.24'!H27="","",'[1]Զուտ ակտիվներ սկսած 31.07.24'!H27) -> 5.4610592e+11 | I27: =IF('[1]Զուտ ակտիվներ սկսած 31.07.24'!I27="","",'[1]Զուտ ակտիվներ սկսած 31.07.24'!I27) -> 2.0763999e+10 | ... N27: =IF('[1]Զուտ ակտիվներ սկսած 31.07.24'!N27="","",'[1]Զուտ ակտիվներ սկսած 31.07.24'!N27) -> 2636.7343
A28: 45869 | B28: =IF('[1]Զուտ ակտիվներ սկսած 31.07.24'!B28="","",'[1]Զուտ ակտիվներ սկսած 31.07.24'!B28) -> 1.638131e+12 | C28: =IF('[1]Զուտ ակտիվներ սկսած 31.07.24'!C28="","",'[1]Զուտ ակտիվներ սկսած 31.07.24'!C28) -> 4.2799273e+11 | D28: =IF('[1]Զուտ ակտիվներ սկսած 31.07.24'!D28="","",'[1]Զուտ ակտիվներ սկսած 31.07.24'!D28) -> 6.5023542e+11 | E28: =IF('[1]Զուտ ակտիվներ սկսած 31.07.24'!E28="","",'[1]Զուտ ակտիվներ սկսած 31.07.24'!E28) -> 5.4503559e+11 | F28: =IF('[1]Զուտ ակտիվներ սկսած 31.07.24'!F28="","",'[1]Զուտ ակտիվներ սկսած 31.07.24'!F28) -> 1.0519983e+11 | G28: =IF('[1]Զուտ ակտիվներ սկսած 31.07.24'!G28="","",'[1]Զուտ ակտիվներ սկսած 31.07.24'!G28) -> 4.2120183e+09 | H28: =IF('[1]Զուտ ակտիվներ սկսած 31.07.24'!H28="","",'[1]Զուտ ակտիվներ սկսած 31.07.24'!H28) -> 5.4663457e+11 | I28: =IF('[1]Զուտ ակտիվներ սկսած 31.07.24'!I28="","",'[1]Զուտ ակտիվներ սկսած 31.07.24'!I28) -> 2.3545902e+10 | ... N28: =IF('[1]Զուտ ակտիվներ սկսած 31.07.24'!N28="","",'[1]Զուտ ակտիվներ սկսած 31.07.24'!N28) -> 2646.1013

Sheet NAV structure30.06.15-30.06.24
A1: Main indicators of mandatory pension system in RA (AMD)
A3: Date | B3: NAV | C3: Currency and deposits | D3: Bonds, of which | E3: RA Government bonds | F3: other bonds | G3: Collective investment scheemes | H3: Other assets | I3: Total assets | J3: Liabilities | K3: FX assets | L3: AMD assets | M3: NAVPS (not weighted average)
A4: 42185 | B4: 1.9039268e+10 | C4: 5.1988217e+09 | D4: 8.3446357e+09 | E4: 7.1445907e+09 | F4: 1.200045e+09 | G4: 5.5109464e+09 | H4: 14971855 | I4: 1.906811e+10 | J4: 28841689 | K4: 6.6447352e+09 | L4: 1.2423374e+10 | M4: 1065.3024
A5: 42277 | B5: 2.4042815e+10 | C5: 5.2855933e+09 | D5: 1.1234356e+10 | E5: 9.7957727e+09 | F5: 1.4385838e+09 | G5: 7.4968809e+09 | H5: 62792479 | I5: 2.4079623e+10 | J5: 36807775 | K5: 8.4014093e+09 | L5: 1.5678214e+10 | M5: 1069.53
A6: 42308 | B6: 2.7381387e+10 | C6: 7.3306078e+09 | D6: 1.2035117e+10 | E6: 1.0568801e+10 | F6: 1.4663158e+09 | G6: 7.9965136e+09 | H6: 59532868 | I6: 2.7421771e+10 | J6: 40383973 | K6: 9.5110039e+09 | L6: 1.7910767e+10 | M6: 1084.57
A7: 42338 | B7: 2.8293709e+10 | C7: 6.1027949e+09 | D7: 1.3505821e+10 | E7: 1.1984167e+10 | F7: 1.5216535e+09 | G7: 8.6595591e+09 | H7: 68100206 | I7: 2.8336275e+10 | J7: 42566191 | K7: 1.0065689e+10 | L7: 1.8270586e+10 | M7: 1092.21
A8: 42369 | B8: 3.1499548e+10 | C8: 7.2064549e+09 | D8: 1.4684423e+10 | E8: 1.3414042e+10 | F8: 1.2703811e+09 | G8: 9.5701413e+09 | H8: 79040563 | I8: 3.154006e+10 | J8: 40511735 | K8: 1.0341544e+10 | L8: 2.1198516e+10 | M8: 1102.5399
A9: 42400 | B9: 3.2248824e+10 | C9: 8.3334951e+09 | D9: 1.4575826e+10 | E9: 1.3304421e+10 | F9: 1.2714052e+09 | G9: 9.2848682e+09 | H9: 87712910 | I9: 3.2281903e+10 | J9: 33078202 | K9: 1.1311226e+10 | L9: 2.0970677e+10 | M9: 1100.8453
A10: 42428 | B10: 3.5468156e+10 | C10: 9.9807321e+09 | D10: 1.4893419e+10 | E10: 1.3610166e+10 | F10: 1.2832534e+09 | G10: 1.0535456e+10 | H10: 97388858 | I10: 3.5506997e+10 | J10: 38841144 | K10: 1.2048059e+10 | L10: 2.3458938e+10 | M10: 1114.387
A11: 42460 | B11: 3.6243822e+10 | C11: 9.8667609e+09 | D11: 1.5621737e+10 | E11: 1.4361835e+10 | F11: 1.2599023e+09 | G11: 1.0692667e+10 | H11: 1.0736725e+08 | I11: 3.6288532e+10 | J11: 44709976 | K11: 1.2572279e+10 | L11: 2.3716253e+10 | M11: 1133.6608
A12: 42490 | B12: 4.0572957e+10 | C12: 1.1904576e+10 | D12: 1.7017166e+10 | E12: 1.5181109e+10 | F12: 1.836057e+09 | G12: 1.1564951e+10 | H12: 1.3430121e+08 | I12: 4.0620995e+10 | J12: 48037988 | K12: 1.4339212e+10 | L12: 2.6281784e+10 | M12: 1142.13
A13: 42521 | B13: 4.3146634e+10 | C13: 1.2454196e+10 | D13: 1.8520422e+10 | E13: 1.6366762e+10 | F13: 2.1536597e+09 | G13: 1.2044936e+10 | H13: 1.7353598e+08 | I13: 4.319309e+10 | J13: 46455761 | K13: 1.5099699e+10 | L13: 2.8093391e+10 | M13: 1156.0554
A14: 42551 | B14: 4.3822984e+10 | C14: 1.0804546e+10 | D14: 1.9588461e+10 | E14: 1.7179041e+10 | F14: 2.4094194e+09 | G14: 1.3365661e+10 | H14: 1.145424e+08 | I14: 4.387321e+10 | J14: 50226306 | K14: 1.5894447e+10 | L14: 2.7978763e+10 | M14: 1174.027
A15: 42582 | B15: 4.9207848e+10 | C15: 1.322944e+10 | D15: 2.0583417e+10 | E15: 1.7980906e+10 | F15: 2.6025116e+09 | G15: 1.5330043e+10 | H15: 1.1657779e+08 | I15: 4.9259478e+10 | J15: 51630077 | K15: 1.786582e+10 | L15: 3.1393658e+10 | M15: 1205.4359
... A107: 45382 | B107: 8.7866344e+11 | C107: 1.7170429e+11 | D107: 4.1857504e+11 | E107: 3.7356673e+11 | F107: 4.500831e+10 | G107: 2.8894004e+11 | H107: 1.83045e+09 | I107: 8.8104982e+11 | J107: 2.3863875e+09 | K107: 3.0142702e+11 | L107: 5.796228e+11 | M107: 2127.6231
A108: 45412 | B108: 8.8227918e+11 | C108: 1.8176055e+11 | D108: 4.2047276e+11 | E108: 3.6839339e+11 | F108: 5.2079368e+10 | G108: 2.8070083e+11 | H108: 1.8295444e+09 | I108: 8.8476369e+11 | J108: 2.4845054e+09 | K108: ='[2]Assets by fund'!$O$17 -> 292412215993 | L108: =I108-K108 -> 5.9235147e+11 | M108: 2104.3923
A109: 45443 | B109: 9.0858606e+11 | C109: 1.8699303e+11 | D109: 4.3180867e+11 | E109: 3.7895674e+11 | F109: 5.2851932e+10 | G109: 2.9313581e+11 | H109: 2.1672964e+09 | I109: 9.1410481e+11 | J109: 5.5187534e+09 | K109: 3.1009354e+11 | L109: 6.0401127e+11 | M109: 2133.2551
A110: 45473 | B110: 9.3205738e+11 | C110: 1.7723872e+11 | D110: 4.5165814e+11 | E110: 3.9363451e+11 | F110: 5.8023628e+10 | G110: 3.1030378e+11 | H110: 1.6198731e+09 | I110: 9.4082051e+11 | J110: 8.7631286e+09 | K110: 3.2407756e+11 | L110: 6.1674295e+11 | M110: 2156.0926

Sheet Members and shares
B1: Number of shares | E1: Number of members
A2: Date | B2: Total | C2: men | D2: women | E2: Total | F2: men | G2: women
A3: 42185 | B3: 17495578 | C3: 8712233.5 | D3: 8783344.3 | E3: 160898 | F3: 74771 | G3: 86127
A4: 42277 | B4: 22189650 | C4: 11030072 | D4: 11159578 | E4: 187980 | F4: 88729 | G4: 99251
A5: 42368 | B5: 28309435 | C5: 14084330 | D5: 14225105 | E5: 202430 | F5: 95615 | G5: 106815
A6: 42400 | B6: 30172739 | C6: 14995544 | D6: 15177194 | E6: 211055 | F6: 100080 | G6: 110975
A7: 42429 | B7: 31729667 | C7: 15753917 | D7: 15975750 | E7: 213128 | F7: 101140 | G7: 111988
A8: 42490 | B8: 35357538 | C8: 17560898 | D8: 17796640 | E8: 218792 | F8: 104025 | G8: 114767
A9: 42613 | B9: 41326863 | C9: 20554368 | D9: 20772495 | E9: 244585 | F9: 118159 | G9: 126426
A10: 42643 | B10: 41334299 | C10: 20557990 | D10: 20776310 | E10: 245316 | F10: 118563 | G10: 126753
A11: 42674 | B11: 46114834 | C11: 22952727 | D11: 23162107 | E11: 245816 | F11: 118797 | G11: 127019
A12: 42704 | B12: 48185480 | C12: 24010995 | D12: 24174485 | E12: 259841 | F12: 126150 | G12: 133691
A13: 42735 | B13: 50055021 | C13: 24942917 | D13: 25114228 | E13: 265219 | F13: 128641 | G13: 136589
A14: 42766 | B14: 50130791 | C14: 24985426 | D14: 25145365 | E14: 272119 | F14: 132157 | G14: 139962
... A113: 45777 | B113: 5.1111916e+08 | C113: 2.8543529e+08 | D113: 2.2568386e+08 | E113: 955799 | F113: 491447 | G113: 464352
A114: 45808 | B114: =IF([1]Մասնակիցներ!B114="","",[1]Մասնակիցներ!B114) -> 5.1820216e+08 | C114: =IF([1]Մասնակիցներ!C114="","",[1]Մասնակիցներ!C114) -> 2.8937485e+08 | D114: =IF([1]Մասնակիցներ!D114="","",[1]Մասնակիցներ!D114) -> 2.2882731e+08 | E114: =IF([1]Մասնակիցներ!E114="","",[1]Մասնակիցներ!E114) -> 961944 | F114: =IF([1]Մասնակիցներ!F114="","",[1]Մասնակիցներ!F114) -> 494819 | G114: =IF([1]Մասնակիցներ!G114="","",[1]Մասնակիցներ!G114) -> 467125
A115: 45838 | B115: =IF([1]Մասնակիցներ!B115="","",[1]Մասնակիցներ!B115) -> 5.2592671e+08 | C115: =IF([1]Մասնակիցներ!C115="","",[1]Մասնակիցներ!C115) -> 2.940742e+08 | D115: =IF([1]Մասնակիցներ!D115="","",[1]Մասնակիցներ!D115) -> 2.3185251e+08 | E115: =IF([1]Մասնակիցներ!E115="","",[1]Մասնակիցներ!E115) -> 969387 | F115: =IF([1]Մասնակիցներ!F115="","",[1]Մասնակիցներ!F115) -> 499215 | G115: =IF([1]Մասնակիցներ!G115="","",[1]Մասնակիցներ!G115) -> 470172
A116: 45869 | B116: =IF([1]Մասնակիցներ!B116="","",[1]Մասնակիցներ!B116) -> 5.3046347e+08 | C116: =IF([1]Մասնակիցներ!C116="","",[1]Մասնակիցներ!C116) -> 2.9682966e+08 | D116: =IF([1]Մասնակիցներ!D116="","",[1]Մասնակիցներ!D116) -> 2.3363381e+08 | E116: =IF([1]Մասնակիցներ!E116="","",[1]Մասնակիցներ!E116) -> 977503 | F116: =IF([1]Մասնակիցներ!F116="","",[1]Մասնակիցներ!F116) -> 504272 | G116: =IF([1]Մասնակիցներ!G116="","",[1]Մասնակիցներ!G116) -> 473231
A117: 45900 | B117: =IF([1]Մասնակիցներ!B117="","",[1]Մասնակիցներ!B117) -> 5.3730818e+08 | C117: =IF([1]Մասնակիցներ!C117="","",[1]Մասնակիցներ!C117) -> 3.0074308e+08 | D117: =IF([1]Մասնակիցներ!D117="","",[1]Մասնակիցներ!D117) -> 2.365651e+08 | E117: =IF([1]Մասնակիցներ!E117="","",[1]Մասնակիցներ!E117) -> 980733 | F117: =IF([1]Մասնակիցներ!F117="","",[1]Մասնակիցներ!F117) -> 506041 | G117: =IF([1]Մասնակիցներ!G117="","",[1]Մասնակիցներ!G117) -> 474692
A118: 45930 | B118: =IF([1]Մասնակիցներ!B118="","",[1]Մասնակիցներ!B118) -> 5.4369381e+08 | C118: =IF([1]Մասնակիցներ!C118="","",[1]Մասնակիցներ!C118) -> 3.0444242e+08 | D118: =IF([1]Մասնակիցներ!D118="","",[1]Մասնակիցներ!D118) -> 2.3925139e+08 | E118: =IF([1]Մասնակիցներ!E118="","",[1]Մասնակիցներ!E118) -> 988657 | F118: =IF([1]Մասնակիցներ!F118="","",[1]Մասնակիցներ!F118) -> 510112 | G118: =IF([1]Մասնակիցներ!G118="","",[1]Մասնակիցներ!G118) -> 478545
A119: 45960 | B119: =IF([1]Մասնակիցներ!B119="","",[1]Մասնակիցներ!B119) -> 5.5056838e+08 | C119: =IF([1]Մասնակիցներ!C119="","",[1]Մասնակիցներ!C119) -> 3.0842748e+08 | D119: =IF([1]Մասնակիցներ!D119="","",[1]Մասնակիցներ!D119) -> 2.421409e+08 | E119: =IF([1]Մասնակիցներ!E119="","",[1]Մասնակիցներ!E119) -> 994238 | F119: =IF([1]Մասնակիցներ!F119="","",[1]Մասնակիցներ!F119) -> 513045 | G119: =IF([1]Մասնակիցներ!G119="","",[1]Մասնակիցներ!G119) -> 481193
A120: 11/31/2025 | B120: =IF([1]Մասնակիցներ!B120="","",[1]Մասնակիցներ!B120) -> 5.5966825e+08 | C120: =IF([1]Մասնակիցներ!C120="","",[1]Մասնակիցներ!C120) -> 3.1362192e+08 | D120: =IF([1]Մասնակիցներ!D120="","",[1]Մասնակիցներ!D120) -> 2.4604633e+08 | E120: =IF([1]Մասնակիցներ!E120="","",[1]Մասնակիցներ!E120) -> 1000777 | F120: =IF([1]Մասնակիցներ!F120="","",[1]Մասնակիցներ!F120) -> 516177 | G120: =IF([1]Մասնակիցներ!G120="","",[1]Մասնակիցներ!G120) -> 484600
A121: 46022 | B121: =IF([1]Մասնակիցներ!B121="","",[1]Մասնակիցներ!B121) -> 5.6609075e+08 | C121: =IF([1]Մասնակիցներ!C121="","",[1]Մասնակիցներ!C121) -> 3.1730414e+08 | D121: =IF([1]Մասնակիցներ!D121="","",[1]Մասնակիցներ!D121) -> 2.4878661e+08 | E121: =IF([1]Մասնակիցներ!E121="","",[1]Մասնակիցներ!E121) -> 1006752 | F121: =IF([1]Մասնակիցներ!F121="","",[1]Մասնակիցներ!F121) -> 519139 | G121: =IF([1]Մասնակիցներ!G121="","",[1]Մասնակիցներ!G121) -> 487613
A122: 46053 | B122: =IF([1]Մասնակիցներ!B122="","",[1]Մասնակիցներ!B122) -> 5.7370927e+08 | C122: =IF([1]Մասնակիցներ!C122="","",[1]Մասնակիցներ!C122) -> 3.2159661e+08 | D122: =IF([1]Մասնակիցներ!D122="","",[1]Մասնակիցներ!D122) -> 2.5211266e+08 | E122: =IF([1]Մասնակիցներ!E122="","",[1]Մասնակիցներ!E122) -> 1012089 | F122: =IF([1]Մասնակիցներ!F122="","",[1]Մասնակիցներ!F122) -> 521857 | G122: =IF([1]Մասնակիցներ!G122="","",[1]Մասնակիցներ!G122) -> 490232
A123: 46081 | B123: =IF([1]Մասնակիցներ!B123="","",[1]Մասնակիցներ!B123) -> 5.7945972e+08 | C123: =IF([1]Մասնակիցներ!C123="","",[1]Մասնակիցներ!C123) -> 3.2483119e+08 | D123: =IF([1]Մասնակիցներ!D123="","",[1]Մասնակիցներ!D123) -> 2.5462853e+08 | E123: =IF([1]Մասնակիցներ!E123="","",[1]Մասնակիցներ!E123) -> 1012165 | F123: =IF([1]Մասնակիցներ!F123="","",[1]Մասնակիցներ!F123) -> 521906 | G123: =IF([1]Մասնակիցներ!G123="","",[1]Մասնակիցներ!G123) -> 490259
A124: 46112 | B124: =IF([1]Մասնակիցներ!B124="","",[1]Մասնակիցներ!B124) -> 5.8653374e+08 | C124: =IF([1]Մասնակիցներ!C124="","",[1]Մասնակիցներ!C124) -> 3.2886884e+08 | D124: =IF([1]Մասնակիցներ!D124="","",[1]Մասնակիցներ!D124) -> 2.5766489e+08 | E124: =IF([1]Մասնակիցներ!E124="","",[1]Մասնակիցներ!E124) -> 1018967 | F124: =IF([1]Մասնակիցներ!F124="","",[1]Մասնակիցներ!F124) -> 525312 | G124: =IF([1]Մասնակիցներ!G124="","",[1]Մասնակիցներ!G124) -> 493655
A125: 46142 | B125: =IF([1]Մասնակիցներ!B125="","",[1]Մասնակիցներ!B125) -> 5.9450038e+08 | C125: =IF([1]Մասնակիցներ!C125="","",[1]Մասնակիցներ!C125) -> 3.3349185e+08 | D125: =IF([1]Մասնակիցներ!D125="","",[1]Մասնակիցներ!D125) -> 2.6100853e+08 | E125: =IF([1]Մասնակիցներ!E125="","",[1]Մասնակիցներ!E125) -> 1024527 | F125: =IF([1]Մասնակիցներ!F125="","",[1]Մասնակիցներ!F125) -> 528134 | G125: =IF([1]Մասնակիցներ!G125="","",[1]Մասնակիցներ!G125) -> 496393
A126: 46173 | B126: =IF([1]Մասնակիցներ!B126="","",[1]Մասնակիցներ!B126) -> 6.0126608e+08 | C126: =IF([1]Մասնակիցներ!C126="","",[1]Մասնակիցներ!C126) -> 3.3735606e+08 | D126: =IF([1]Մասնակիցներ!D126="","",[1]Մասնակիցներ!D126) -> 2.6391002e+08 | E126: =IF([1]Մասնակիցներ!E126="","",[1]Մասնակիցներ!E126) -> 1032966 | F126: =IF([1]Մասնակիցներ!F126="","",[1]Մասնակիցներ!F126) -> 532765 | G126: =IF([1]Մասնակիցներ!G126="","",[1]Մասնակիցներ!G126) -> 500201
A127: 46203 | B127: =IF([1]Մասնակիցներ!B127="","",[1]Մասնակիցներ!B127) -> 6.0795331e+08 | C127: =IF([1]Մասնակիցներ!C127="","",[1]Մասնակիցներ!C127) -> 3.4115925e+08 | D127: =IF([1]Մասնակիցներ!D127="","",[1]Մասնակիցներ!D127) -> 2.6679406e+08 | E127: =IF([1]Մասնակիցներ!E127="","",[1]Մասնակիցներ!E127) -> 1038847 | F127: =IF([1]Մասնակիցներ!F127="","",[1]Մասնակիցներ!F127) -> 535960 | G127: =IF([1]Մասնակիցներ!G127="","",[1]Մասնակիցներ!G127) -> 502887
A128: 46234 | B128: =IF([1]Մասնակիցներ!B128="","",[1]Մասնակիցներ!B128) -> 6.1473238e+08 | C128: =IF([1]Մասնակիցներ!C128="","",[1]Մասնակիցներ!C128) -> 3.450541e+08 | D128: =IF([1]Մասնակիցներ!D128="","",[1]Մասնակիցներ!D128) -> 2.6967828e+08 | E128: =IF([1]Մասնակիցներ!E128="","",[1]Մասնակիցներ!E128) -> 1044067 | F128: =IF([1]Մասնակիցներ!F128="","",[1]Մասնակիցներ!F128) -> 538793 | G128: =IF([1]Մասնակիցներ!G128="","",[1]Մասնակիցներ!G128) -> 505274
