Workbook

Sheet Գծապատկեր 2.1
A1: Գծապատկեր 2.1. Քաղաքականության տոկոսադրույքի սցենարային ուղեգծեր | J1: Ա տիպի սցենար | K1: Բ տիպի սցենար | L1: Շուկայի ուղղորդիչ (1 տարի ժամկ. պարտատոմսի եկամտաբերություն) | M1: Շուկայի ուղղորդիչ (ակնկալվող ուղեգիծ)
I2: 0 | J2: 8.6 | K2: 8.6 | L2: 9.25 | M2: =AVERAGE(J2:K2) -> 8.6
I3: 1 | J3: 9.8 | K3: 8.9 | M3: =AVERAGE(J3:K3) -> 9.35
I4: 2 | J4: 10.6 | K4: 9 | M4: =AVERAGE(J4:K4) -> 9.8
I5: 3 | J5: 10.9 | K5: 9 | M5: =AVERAGE(J5:K5) -> 9.95
I6: 4 | J6: 10.8 | K6: 8.8 | M6: =AVERAGE(J6:K6) -> 9.8
I7: 5 | J7: 10.2 | K7: 8.5 | M7: =AVERAGE(J7:K7) -> 9.35
I8: 6 | J8: 9.4 | K8: 8.2 | M8: =AVERAGE(J8:K8) -> 8.8
I9: 7 | J9: 8.7 | K9: 7.9 | M9: =AVERAGE(J9:K9) -> 8.3
I10: 8 | J10: 8.3 | K10: 7.7 | M10: =AVERAGE(J10:K10) -> 8
I11: 9 | J11: 7.9 | K11: 7.5 | M11: =AVERAGE(J11:K11) -> 7.7
I12: 10 | J12: 7.7 | K12: 7.4 | M12: =AVERAGE(J12:K12) -> 7.55
I13: 11 | J13: 7.5 | K13: 7.35 | M13: =AVERAGE(J13:K13) -> 7.425
I14: 12 | J14: 7.3 | K14: 7.3 | M14: =AVERAGE(J14:K14) -> 7.3
A21: Percent, Q-o-Q, Annualized

Sheet Գծապատկեր 3.Ա.1
B1: Սպառում | C1: Ներդրումներ (ռեզ.) | D1: Ներդրումներ (ոչ ռեզ.) | E1: Պետական սպառում | F1: ՀՆԱ | G1: Ներքին պահանջարկ | H1: Արտահանում | I1: Ներմուծում | J1: Պաշարներ
A2: 2022/1 | B2: -0.03 | C2: 1.32 | D2: -0.09 | E2: -0.52 | F2: -2 | G2: 0.68 | H2: -0.5 | I2: -2.08 | J2: -0.07
A3: 2022/2 | B3: 1.32 | C3: 0.68 | D3: -0.73 | E3: -0.34 | F3: -0.6 | G3: 0.93 | H3: 1.19 | I3: -0.63 | J3: -2.05
A4: 2022/3 | B4: 1.05 | C4: 0.62 | D4: -1.41 | E4: 0.49 | F4: 2.66 | G4: 0.75 | H4: 1.8 | I4: 0.77 | J4: -0.66
A5: 2022/4 | B5: 0.79 | C5: 0.24 | D5: -1.23 | E5: 0.9 | F5: 2.56 | G5: 0.7 | H5: -0.41 | I5: 0.66 | J5: 1.61
A6: 2023/1 | B6: 2.54 | C6: 0.76 | D6: -0.22 | E6: 0.82 | F6: 2.2 | G6: 3.9 | H6: 0.76 | I6: -0.18 | J6: -2.22
A7: 2023/2 | B7: 0.55 | C7: 0.98 | D7: -0.09 | E7: 0.57 | F7: 2.05 | G7: 2.01 | H7: -1.09 | I7: 1.13 | J7: 0
A8: 2023/3 | B8: 2.11 | C8: 0.21 | D8: 0.26 | E8: 0.99 | F8: 4.87 | G8: 3.57 | H8: 0.59 | I8: -0.56 | J8: 1.27
A9: 2023/4 | B9: 2.2 | C9: 0.5 | D9: 0.11 | E9: 0.79 | F9: 3.4 | G9: 3.6 | H9: 0.55 | I9: -0.3 | J9: -0.47
A10: 2024/1 | B10: 1.34 | C10: 0.44 | D10: 0.57 | E10: 0.23 | F10: 1.3 | G10: 2.58 | H10: 0.13 | I10: -1.02 | J10: -0.45
A11: 2024/2* | B11: 1.88 | C11: -0.08 | D11: -0.04 | E11: 0.42 | F11: 3.1 | G11: 2.18 | J11: 0.47
A13: Գծապատկեր 3.Ա.1.Համախառն ներքին արդյունքի իրական աճն ըստ ծախսային բաղադրիչների

Sheet Գծապատկեր 3.Ա.2
C1: Կոշտ գների ինդեքս | D1: Personal Consumption Expenditures Excluding Food and Energy (Chain-Type Price Index), Index 2017=100, Monthly, Seasonally Adjusted | E1: Գնաճն առանց սննդամթերքի և վառելիքի | F1: Անձնական սպառման ծախսերի հիմնարար գնաճ | G1: Բնականոն գնաճ | H1: Աշխատավարձերի աճ | I1: Թիրախ | K1: Գծապատկեր 3.Ա.2.Հիմնարար գնաճի ցուցանիշները
A2: 43466 | C2: 2.764135 | D2: 102.878 | E2: 260.766 | H2: 3.8 | I2: 2 | K2: %, եռամսյակային, տարեկանացված
A3: 43497 | C3: 2.690158 | D3: 102.959 | E3: 261.186 | H3: 3.4 | I3: 2
A4: 43525 | C4: 2.552654 | D4: 103.049 | E4: 261.567 | H4: 3.5 | I4: 2
A5: 43556 | C5: 2.624713 | D5: 103.274 | E5: 261.997 | F5: =4*(D5/D2*100-100) -> 1.5396878 | G5: =4*(E5/E2*100-100) -> 1.888283 | H5: 3.6 | I5: 2
A6: 43586 | C6: 2.385537 | D6: 103.381 | E6: 262.217 | F6: =4*(D6/D3*100-100) -> 1.6394876 | G6: =4*(E6/E3*100-100) -> 1.5789514 | H6: 3.7 | I6: 2
A7: 43617 | B7: 2019 | C7: 2.564936 | D7: 103.586 | E7: 262.739 | F7: =4*(D7/D4*100-100) -> 2.0844453 | G7: =4*(E7/E4*100-100) -> 1.792275 | H7: 3.9 | I7: 2
A8: 43647 | C8: 2.622018 | D8: 103.706 | E8: 263.28 | F8: =4*(D8/D5*100-100) -> 1.6732188 | G8: =4*(E8/E5*100-100) -> 1.9588011 | H8: 3.9 | I8: 2
A9: 43678 | C9: 3.164225 | D9: 103.811 | E9: 263.877 | F9: =4*(D9/D6*100-100) -> 1.6637487 | G9: =4*(E9/E6*100-100) -> 2.5322538 | H9: 3.7 | I9: 2
A10: 43709 | C10: 2.983384 | D10: 103.889 | E10: 264.388 | F10: =4*(D10/D7*100-100) -> 1.1700423 | G10: =4*(E10/E7*100-100) -> 2.5104762 | H10: 3.6 | I10: 2
A11: 43739 | C11: 3.08315 | D11: 104.048 | E11: 264.97 | F11: =4*(D11/D8*100-100) -> 1.3191136 | G11: =4*(E11/E8*100-100) -> 2.5676086 | H11: 3.5 | I11: 2
A12: 43770 | C12: 2.874372 | D12: 104.066 | E12: 265.548 | F12: =4*(D12/D9*100-100) -> 0.98255484 | G12: =4*(E12/E9*100-100) -> 2.5329983 | H12: 3.7 | I12: 2
A13: 43800 | C13: 2.903476 | D13: 104.279 | E13: 266.02 | F13: =4*(D13/D10*100-100) -> 1.5016027 | G13: =4*(E13/E10*100-100) -> 2.4690984 | H13: 3.7 | I13: 2
A14: 43831 | C14: 2.837968 | D14: 104.475 | E14: 266.698 | F14: =4*(D14/D11*100-100) -> 1.6415501 | G14: =4*(E14/E11*100-100) -> 2.6085972 | H14: 3.8 | I14: 2
A15: 43862 | C15: 2.741912 | D15: 104.664 | E15: 267.402 | F15: =4*(D15/D12*100-100) -> 2.2985413 | G15: =4*(E15/E12*100-100) -> 2.7927154 | H15: 3.7 | I15: 2
A16: 43891 | C16: 2.034221 | D16: 104.586 | E16: 267.068 | F16: =4*(D16/D13*100-100) -> 1.1776101 | G16: =4*(E16/E13*100-100) -> 1.5758214 | H16: 3.5 | I16: 2
A17: 43922 | C17: 0.3836907 | D17: 104.237 | E17: 265.796 | F17: =4*(D17/D14*100-100) -> -0.91122278 | G17: =4*(E17/E14*100-100) -> -1.352841 | H17: 3.3 | I17: 2
A18: 43952 | C18: -0.3594109 | D18: 104.364 | E18: 265.461 | F18: =4*(D18/D15*100-100) -> -1.146526 | G18: =4*(E18/E15*100-100) -> -2.9034936 | H18: 3.5 | I18: 2
A19: 43983 | B19: 2020 | C19: 0.4679867 | D19: 104.527 | E19: 265.839 | F19: =4*(D19/D16*100-100) -> -0.22565162 | G19: =4*(E19/E16*100-100) -> -1.8407297 | H19: 3.8 | I19: 2
A20: 44013 | C20: 3.184655 | D20: 104.913 | E20: 267.373 | F20: =4*(D20/D17*100-100) -> 2.5940885 | G20: =4*(E20/E17*100-100) -> 2.3732487 | H20: 3.9 | I20: 2
A21: 44044 | C21: 4.04557 | D21: 105.229 | E21: 268.39 | F21: =4*(D21/D18*100-100) -> 3.3153195 | G21: =4*(E21/E18*100-100) -> 4.4134543 | H21: 3.5 | I21: 2
A22: 44075 | C22: 3.132312 | D22: 105.39 | E22: 268.9 | F22: =4*(D22/D19*100-100) -> 3.302496 | G22: =4*(E22/E19*100-100) -> 4.6057952 | H22: 3.5 | I22: 2
A23: 44105 | C23: 1.351884 | D23: 105.47 | E23: 269.28 | F23: =4*(D23/D20*100-100) -> 2.1236644 | G23: =4*(E23/E20*100-100) -> 2.8529433 | H23: 3.5 | I23: 2
A24: 44136 | C24: 1.202824 | D24: 105.552 | E24: 269.967 | F24: =4*(D24/D21*100-100) -> 1.2277984 | G24: =4*(E24/E21*100-100) -> 2.3503111 | H24: 3.7 | I24: 2
A25: 44166 | C25: 1.62974 | D25: 105.899 | E25: 270.34 | F25: =4*(D25/D22*100-100) -> 1.9318721 | G25: =4*(E25/E22*100-100) -> 2.1420602 | H25: 3.4 | I25: 2
A26: 44197 | C26: 1.595782 | D26: 106.267 | E26: 270.422 | F26: =4*(D26/D23*100-100) -> 3.0226605 | G26: =4*(E26/E23*100-100) -> 1.6963755 | H26: 3.4 | I26: 2
A27: 44228 | C27: 1.590866 | D27: 106.499 | E27: 270.813 | F27: =4*(D27/D24*100-100) -> 3.5887525 | G27: =4*(E27/E24*100-100) -> 1.2534865 | H27: 3.4 | I27: 2
A28: 44256 | C28: 1.879484 | D28: 106.945 | E28: 271.461 | F28: =4*(D28/D25*100-100) -> 3.9509344 | G28: =4*(E28/E25*100-100) -> 1.6586521 | H28: 3.4 | I28: 2
A29: 44287 | C29: 3.254225 | D29: 107.594 | E29: 273.665 | F29: =4*(D29/D26*100-100) -> 4.9949655 | G29: =4*(E29/E26*100-100) -> 4.796947 | H29: 3.2 | I29: 2
A30: 44317 | C30: 3.882874 | D30: 108.167 | E30: 275.494 | F30: =4*(D30/D27*100-100) -> 6.2648476 | G30: =4*(E30/E27*100-100) -> 6.913996 | H30: 3 | I30: 2
A31: 44348 | B31: 2021 | C31: 4.139296 | D31: 108.655 | E31: 277.585 | F31: =4*(D31/D28*100-100) -> 6.3958109 | G31: =4*(E31/E28*100-100) -> 9.023764 | H31: 3.2 | I31: 2
A32: 44378 | C32: 3.876566 | D32: 109.12 | E32: 278.612 | F32: =4*(D32/D29*100-100) -> 5.6731788 | G32: =4*(E32/E29*100-100) -> 7.2307383 | H32: 3.7 | I32: 2
A33: 44409 | C33: 3.495445 | D33: 109.458 | E33: 278.993 | F33: =4*(D33/D30*100-100) -> 4.7740993 | G33: =4*(E33/E30*100-100) -> 5.0803284 | H33: 3.9 | I33: 2
A34: 44440 | C34: 3.533959 | D34: 109.684 | E34: 279.71 | F34: =4*(D34/D31*100-100) -> 3.7881368 | G34: =4*(E34/E31*100-100) -> 3.0621251 | H34: 4.2 | I34: 2
A35: 44470 | C35: 4.052816 | D35: 110.217 | E35: 281.623 | F35: =4*(D35/D32*100-100) -> 4.021261 | G35: =4*(E35/E32*100-100) -> 4.3228576 | H35: 4.1 | I35: 2
A36: 44501 | C36: 4.606652 | D36: 110.778 | E36: 283.393 | F36: =4*(D36/D33*100-100) -> 4.823768 | G36: =4*(E36/E33*100-100) -> 6.308402 | H36: 4.3 | I36: 2
A37: 44531 | C37: 5.109932 | D37: 111.446 | E37: 285.221 | F37: =4*(D37/D34*100-100) -> 6.4257321 | G37: =4*(E37/E34*100-100) -> 7.8810196 | H37: 4.5 | I37: 2
A38: 44562 | C38: 5.432961 | D38: 111.973 | E38: 286.811 | F38: =4*(D38/D35*100-100) -> 6.3728826 | G38: =4*(E38/E35*100-100) -> 7.3687163 | H38: 5.1 | I38: 2
A39: 44593 | C39: 5.960108 | D39: 112.436 | E39: 288.287 | F39: =4*(D39/D36*100-100) -> 5.9867483 | G39: =4*(E39/E36*100-100) -> 6.9077218 | H39: 5.8 | I39: 2
A40: 44621 | C40: 6.149834 | D40: 112.88 | E40: 289.041 | F40: =4*(D40/D37*100-100) -> 5.1468873 | G40: =4*(E40/E37*100-100) -> 5.3572493 | H40: 6 | I40: 2
A41: 44652 | C41: 6.290118 | D41: 113.248 | E41: 290.515 | F41: =4*(D41/D38*100-100) -> 4.5546694 | G41: =4*(E41/E38*100-100) -> 5.1657712 | H41: 6 | I41: 2
A42: 44682 | C42: 6.557428 | D42: 113.656 | E42: 292.072 | F42: =4*(D42/D39*100-100) -> 4.3402469 | G42: =4*(E42/E39*100-100) -> 5.251711 | H42: 6.1 | I42: 2
A43: 44713 | B43: 2022 | C43: 7.516982 | D43: 114.297 | E43: 293.972 | F43: =4*(D43/D40*100-100) -> 5.0212615 | G43: =4*(E43/E40*100-100) -> 6.8239454 | H43: 6.7 | I43: 2
A44: 44743 | C44: 7.191487 | D44: 114.534 | E44: 295.055 | F44: =4*(D44/D41*100-100) -> 4.5422436 | G44: =4*(E44/E41*100-100) -> 6.2509681 | H44: 6.7 | I44: 2
A45: 44774 | C45: 7.284253 | D45: 115.158 | E45: 296.569 | F45: =4*(D45/D42*100-100) -> 5.2861266 | G45: =4*(E45/E42*100-100) -> 6.1587554 | H45: 6.7 | I45: 2
A46: 44805 | C46: 7.183292 | D46: 115.686 | E46: 298.284 | F46: =4*(D46/D43*100-100) -> 4.86102 | G46: =4*(E46/E43*100-100) -> 5.8672255 | H46: 6.3 | I46: 2
A47: 44835 | C47: 6.971694 | D47: 116.087 | E47: 299.351 | F47: =4*(D47/D44*100-100) -> 5.423717 | G47: =4*(E47/E44*100-100) -> 5.8239989 | H47: 6.4 | I47: 2
A48: 44866 | C48: 6.466939 | D48: 116.417 | E48: 300.292 | F48: =4*(D48/D45*100-100) -> 4.3731221 | G48: =4*(E48/E45*100-100) -> 5.0214284 | H48: 6.4 | I48: 2
A49: 44896 | C49: 5.775383 | D49: 116.868 | E49: 301.423 | F49: =4*(D49/D46*100-100) -> 4.086925 | G49: =4*(E49/E46*100-100) -> 4.2094112 | H49: 6.1 | I49: 2
A50: 44927 | C50: 5.967903 | D50: 117.461 | E50: 302.709 | F50: =4*(D50/D47*100-100) -> 4.7343802 | G50: =4*(E50/E47*100-100) -> 4.4870403 | H50: 6.1 | I50: 2
A51: 44958 | C51: 6.262574 | D51: 117.883 | E51: 304.124 | F51: =4*(D51/D48*100-100) -> 5.037065 | G51: =4*(E51/E48*100-100) -> 5.1043651 | H51: 6.1 | I51: 2
A52: 44986 | C52: 5.694005 | D52: 118.279 | E52: 305.112 | F52: =4*(D52/D49*100-100) -> 4.8293802 | G52: =4*(E52/E49*100-100) -> 4.8954459 | H52: 6.4 | I52: 2
A53: 45017 | C53: 5.512975 | D53: 118.642 | E53: 306.539 | F53: =4*(D53/D50*100-100) -> 4.0217604 | G53: =4*(E53/E50*100-100) -> 5.0609661 | H53: 6.1 | I53: 2
A54: 45047 | C54: 4.501094 | D54: 118.984 | E54: 307.646 | F54: =4*(D54/D51*100-100) -> 3.7359076 | G54: =4*(E54/E51*100-100) -> 4.632321 | H54: 6 | I54: 2
A55: 45078 | B55: 2023 | C55: 4.247277 | D55: 119.189 | E55: 308.245 | F55: =4*(D55/D52*100-100) -> 3.0774694 | G55: =4*(E55/E52*100-100) -> 4.1073442 | H55: 5.6 | I55: 2
A56: 45108 | C56: 3.618058 | D56: 119.332 | E56: 308.945 | F56: =4*(D56/D53*100-100) -> 2.3263263 | G56: =4*(E56/E53*100-100) -> 3.1395679 | H56: 5.7 | I56: 2
A57: 45139 | C57: 3.803038 | D57: 119.449 | E57: 309.656 | F57: =4*(D57/D54*100-100) -> 1.5632354 | G57: =4*(E57/E54*100-100) -> 2.6133933 | H57: 5.3 | I57: 2
A58: 45170 | C58: 4.381205 | D58: 119.842 | E58: 310.644 | F58: =4*(D58/D55*100-100) -> 2.1914774 | G58: =4*(E58/E55*100-100) -> 3.1131081 | H58: 5.2 | I58: 2
A59: 45200 | C59: 4.523102 | D59: 120.01 | E59: 311.39 | F59: =4*(D59/D56*100-100) -> 2.2726511 | G59: =4*(E59/E56*100-100) -> 3.165612 | H59: 5.2 | I59: 2
A60: 45231 | C60: 4.277518 | D60: 120.088 | E60: 312.349 | F60: =4*(D60/D57*100-100) -> 2.1398254 | G60: =4*(E60/E57*100-100) -> 3.4786989 | H60: 5.2 | I60: 2
A61: 45261 | C61: 3.991216 | D61: 120.294 | E61: 313.209 | F61: =4*(D61/D58*100-100) -> 1.5086531 | G61: =4*(E61/E58*100-100) -> 3.3028161 | H61: 5.2 | I61: 2
A62: 45292 | B62: 2024 | C62: 4.7878985 | D62: 120.878 | E62: 314.438 | F62: =4*(D62/D59*100-100) -> 2.8930922 | G62: =4*(E62/E59*100-100) -> 3.9153473 | H62: 5 | I62: 2
A63: 45323 | C63: 5 | D63: 121.201 | E63: 315.565 | F63: =4*(D63/D60*100-100) -> 3.7072813 | G63: =4*(E63/E60*100-100) -> 4.11847 | H63: 5 | I63: 2
A64: 45352 | C64: 5.2 | D64: 121.606 | E64: 316.698 | F64: =4*(D64/D61*100-100) -> 4.3626449 | G64: =4*(E64/E61*100-100) -> 4.4558107 | H64: 4.7 | I64: 2
A65: 45383 | C65: 4.5 | D65: 121.909 | E65: 317.622 | F65: =4*(D65/D62*100-100) -> 3.4117044 | G65: =4*(E65/E62*100-100) -> 4.050401 | I65: 2

Sheet Գծապատկեր 3.Ա.3
B1: 19-Հկտ | C1: 8-Նյմ | D1: 7-Դկտ | E1: 25-Հնվ | F1: 1-Փտվ | G1: 7-Փտվ | H1: 7-Մրտ | I1: 9-Ապր | J1: 15-Մյս | K1: 5-Հուն | L1: ԴՊՀ
A2: 45352 | B2: 537 | C2: 526 | D2: 510 | E2: 512 | F2: 510 | G2: 521 | H2: 529
A3: 45444 | B3: 518 | C3: 500 | D3: 475 | E3: 468 | F3: 461 | G3: 482 | H3: 504 | I3: 516 | J3: 530 | K3: 533.32
A4: 45536 | B4: 496 | C4: 470 | D4: 438 | E4: 425 | F4: 417 | G4: 443 | H4: 471 | I4: 492 | J4: 507 | K4: 515.28
A5: 45627 | B5: 475 | C5: 441 | D5: 403 | E5: 390 | F5: 380 | G5: 409 | H5: 438 | I5: 466 | J5: 481 | K5: 491.3 | L5: 489
A6: 45717 | B6: 455 | C6: 415 | D6: 374 | E6: 362 | F6: 350 | G6: 380 | H6: 407 | I6: 444 | J6: 453 | K6: 467.45
A7: 45809 | B7: 444 | C7: 398 | D7: 353 | E7: 343 | F7: 329 | G7: 359 | H7: 383 | I7: 425 | J7: 429 | K7: 444.59
A8: 45901 | B8: 439 | C8: 389 | D8: 341 | E8: 334 | F8: 317 | G8: 347 | H8: 365 | I8: 410 | J8: 411 | K8: 425.41
A9: 45992 | H9: 354 | I9: 399 | J9: 398 | K9: 410.5 | L9: 425
A10: 46082 | H10: 348 | I10: 391 | J10: 389 | K10: 399.5
A11: 46174 | H11: 346 | I11: 386 | J11: 383 | K11: 391.98
A12: 46266 | H12: 345 | I12: 382 | J12: 379 | K12: 386.25
A13: 46357 | H13: 345 | I13: 378 | J13: 376 | K13: 382.3 | L13: 404
B16: Գծապատկեր 3.Ա.3: ԴՊՀ քաղաքականության տոկոսադրույքների հետագծի վերաբերյալ շուկայի սպասումները
B17: բազիսային կետ

Sheet Գծապատկեր 3.Ա.4
A1: Time | B1: ՀՆԱ | C1: Վերջնական սպառում | D1: GFCF | E1: Ներքին պահանջարկ | F1: Արտահանում | G1: Ներմուծում | H1: Պաշարներ (Մնացորդ)
A2: 2022/1 | B2: 0.65 | C2: 0.06 | D2: -0.12 | E2: -0.06 | F2: 0.83 | G2: -0.12 | H2: 1.110223e-16
A3: 2022/2 | B3: 0.81 | C3: 0.36 | D3: 0.12 | E3: 0.48 | F3: 1 | G3: -0.85 | H3: 0.18
A4: 2022/3 | B4: 0.46 | C4: 0.64 | D4: 0.28 | E4: 0.92 | F4: 0.64 | G4: -1.14 | H4: 0.04
A5: 2022/4 | B5: -0.09 | C5: -0.28 | D5: -0.09 | E5: -0.37 | F5: -0.18 | G5: 0.54 | H5: -0.08
A6: 2023/1 | B6: 0.09 | C6: -0.02 | D6: 0.12 | E6: =C6+D6 -> 0.1 | F6: -0.18 | G6: 0.61 | H6: =B6-E6-F6-G6 -> -0.44
A7: 2023/2 | B7: 0.12 | C7: 0.13 | D7: 0.04 | E7: =C7+D7 -> 0.17 | F7: -0.54 | G7: 0.11 | H7: =B7-E7-F7-G7 -> 0.38
A8: 2023/3 | B8: 0.01 | C8: 0.34 | D8: 0.01 | E8: =C8+D8 -> 0.35 | F8: -0.74 | G8: 0.83 | H8: =B8-E8-F8-G8 -> -0.43
A9: 2023/4 | B9: -0.06 | C9: 0.22 | D9: 0.19 | E9: =C9+D9 -> 0.41 | F9: 0.11 | G9: -0.3 | H9: =B9-E9-F9-G9 -> -0.28
A10: 2024/1 | B10: 0.31 | C10: 0.09 | D10: -0.34 | E10: =C10+D10 -> -0.25 | F10: 0.71 | G10: 0.15 | H10: =B10-E10-F10-G10 -> -0.3
A12: Figure 3.A.4: Real GDP by Expenditure Components
A13: Percent, QoQ

Sheet Գծապատկեր 3.Ա.5
B1: Ընդհանուր PMI | C1: Մշակող Ադրյունաբերական PMI | D1: Ծառայությունների PMI | E1: Բեկումնային կետ
A2: 2022-10 | B2: 47.3 | C2: 46.4 | D2: 48.6 | E2: 50 | G2: Գծապատկեր 3.Ա.5.Գնման մենեջերների ինդեքսը (PMI), Եվրոգոտի
A3: 2022-11 | B3: 47.8 | C3: 47.1 | D3: 48.5 | E3: 50 | G3: Ինեքս, աճ նախորդ ժամանակշրջանի նկատմամբ, եթե >50
A4: 2022-12 | B4: 49.3 | C4: 47.8 | D4: 49.8 | E4: 50
A5: 2023-01 | B5: 50.3 | C5: 48.8 | D5: 50.8 | E5: 50
A6: 2023-02 | B6: 52 | C6: 48.5 | D6: 52.7 | E6: 50
A7: 2023-03 | B7: 53.7 | C7: 47.3 | D7: 55 | E7: 50
A8: 2023-04 | B8: 54.1 | C8: 45.8 | D8: 56.2 | E8: 50
A9: 2023-05 | B9: 52.8 | C9: 44.8 | D9: 55.1 | E9: 50
A10: 2023-06 | B10: 49.9 | C10: 43.4 | D10: 52 | E10: 50
A11: 2023-07 | B11: 48.6 | C11: 42.7 | D11: 50.9 | E11: 50
A12: 2023-08 | B12: 46.7 | C12: 43.5 | D12: 47.9 | E12: 50
A13: 2023-09 | B13: 47.2 | C13: 43.4 | D13: 48.7 | E13: 50
A14: 2023-10 | B14: 46.5 | C14: 43.1 | D14: 47.8 | E14: 50
A15: 2023-11 | B15: 47.1 | C15: 44.2 | D15: 48.2 | E15: 50
... A21: 2024-05 | B21: 52.2 | C21: 47.3 | D21: 53.2 | E21: 50

Sheet Գծապատկեր 3.Ա.6
C1: Ծառայությունների գնաճ | D1: Բնականոն գնաճ | E1: Գնաճային սպասումներ | F1: Աշխատավարձերի աճ | I1: Գծապատկեր 3.Ա.5.Հիմնարար գնաճի ցուցանիշները
A2: 2019-01 | C2: 1.6 | D2: 1.1 | F2: 2.4 | G2: 2 | I2: %, նախորդ տարվա նույն ամսվա նկատմամբ
A3: 2019-02 | C3: 1.4 | D3: 1 | F3: 2.4 | G3: 2
A4: 2019-03 | C4: 1.1 | D4: 0.8 | F4: 2.4 | G4: 2
A5: 2019-04 | C5: 1.9 | D5: 1.3 | F5: 2.9 | G5: 2
A6: 2019-05 | C6: 1 | D6: 0.8 | F6: 2.9 | G6: 2
A7: 2019-06 | B7: 2019 | C7: 1.6 | D7: 1.1 | F7: 2.9 | G7: 2
A8: 2019-07 | C8: 1.2 | D8: 0.9 | F8: 2.4 | G8: 2
A9: 2019-08 | C9: 1.3 | D9: 0.9 | F9: 2.4 | G9: 2
A10: 2019-09 | C10: 1.5 | D10: 1 | F10: 2.4 | G10: 2
A11: 2019-10 | C11: 1.5 | D11: 1.1 | F11: 2.5 | G11: 2
A12: 2019-11 | C12: 1.9 | D12: 1.3 | F12: 2.5 | G12: 2
A13: 2019-12 | C13: 1.8 | D13: 1.3 | F13: 2.5 | G13: 2
A14: 2020-01 | C14: 1.5 | D14: 1.1 | F14: 3.9 | G14: 2
A15: 2020-02 | C15: 1.6 | D15: 1.2 | F15: 3.9 | G15: 2
A16: 2020-03 | C16: 1.3 | D16: 1 | E16: 2.8 | F16: 3.9 | G16: 2
A17: 2020-04 | C17: 1.2 | D17: 0.9 | E17: 2.5 | F17: 3.8 | G17: 2
A18: 2020-05 | C18: 1.3 | D18: 0.9 | E18: 2.1 | F18: 3.8 | G18: 2
A19: 2020-06 | B19: 2020 | C19: 1.2 | D19: 0.8 | E19: 2 | F19: 3.8 | G19: 2
A20: 2020-07 | C20: 0.9 | D20: 1.2 | E20: 2 | F20: 3.7 | G20: 2
A21: 2020-08 | C21: 0.7 | D21: 0.4 | E21: 2 | F21: 3.7 | G21: 2
A22: 2020-09 | C22: 0.5 | D22: 0.2 | E22: 1.9 | F22: 3.7 | G22: 2
A23: 2020-10 | C23: 0.4 | D23: 0.2 | E23: 2 | F23: 3 | G23: 2
A24: 2020-11 | C24: 0.6 | D24: 0.2 | E24: 1.9 | F24: 3 | G24: 2
A25: 2020-12 | C25: 0.7 | D25: 0.2 | E25: 1.9 | F25: 3 | G25: 2
A26: 2021-01 | C26: 1.4 | D26: 1.4 | E26: 1.9 | F26: 0.8 | G26: 2
A27: 2021-02 | C27: 1.2 | D27: 1.1 | E27: 2 | F27: 0.8 | G27: 2
A28: 2021-03 | C28: 1.3 | D28: 0.9 | E28: 2 | F28: 0.8 | G28: 2
A29: 2021-04 | C29: 0.9 | D29: 0.7 | E29: 2 | F29: -0.6 | G29: 2
A30: 2021-05 | C30: 1.1 | D30: 1 | E30: 2 | F30: -0.6 | G30: 2
A31: 2021-06 | B31: 2021 | C31: 0.7 | D31: 0.9 | E31: 2.1 | F31: -0.6 | G31: 2
A32: 2021-07 | C32: 0.9 | D32: 0.7 | E32: 2.1 | F32: 2 | G32: 2
A33: 2021-08 | C33: 1.1 | D33: 1.6 | E33: 2.4 | F33: 2 | G33: 2
A34: 2021-09 | C34: 1.7 | D34: 1.9 | E34: 3 | F34: 2 | G34: 2
A35: 2021-10 | C35: 2.1 | D35: 2 | E35: 3 | F35: 2.1 | G35: 2
A36: 2021-11 | C36: 2.7 | D36: 2.6 | E36: 3 | F36: 2.1 | G36: 2
A37: 2021-12 | C37: 2.4 | D37: 2.6 | E37: 3 | F37: 2.1 | G37: 2
A38: 2022-01 | C38: 2.3 | D38: 2.3 | E38: 3.2 | F38: 3 | G38: 2
A39: 2022-02 | C39: 2.5 | D39: 2.7 | E39: 5 | F39: 3 | G39: 2
A40: 2022-03 | C40: 2.7 | D40: 3 | E40: 5 | F40: 3 | G40: 2
A41: 2022-04 | C41: 3.3 | D41: 3.5 | E41: 4.9 | F41: 4.6 | G41: 2
A42: 2022-05 | C42: 3.5 | D42: 3.8 | E42: 5 | F42: 4.6 | G42: 2
A43: 2022-06 | B43: 2022 | C43: 3.4 | D43: 3.7 | E43: 5 | F43: 4.6 | G43: 2
A44: 2022-07 | C44: 3.7 | D44: 4 | E44: 5 | F44: 2.7 | G44: 2
A45: 2022-08 | C45: 3.8 | D45: 4.3 | E45: 5.1 | F45: 2.7 | G45: 2
A46: 2022-09 | C46: 4.3 | D46: 4.8 | E46: 5.4 | F46: 2.7 | G46: 2
A47: 2022-10 | C47: 4.3 | D47: 5 | E47: 5 | F47: 5.3 | G47: 2
A48: 2022-11 | C48: 4.2 | D48: 5 | E48: 5 | F48: 5.3 | G48: 2
A49: 2022-12 | C49: 4.4 | D49: 5.2 | E49: 4.9 | F49: 5.3 | G49: 2
A50: 2023-01 | C50: 4.4 | D50: 5.3 | E50: 4.6 | F50: 5 | G50: 2
A51: 2023-02 | C51: 4.8 | D51: 5.6 | E51: 5 | F51: 5 | G51: 2
A52: 2023-03 | C52: 5.1 | D52: 5.7 | E52: 4.1 | F52: 5 | G52: 2
A53: 2023-04 | C53: 5.2 | D53: 5.6 | E53: 3.9 | F53: 4.6 | G53: 2
A54: 2023-05 | C54: 5 | D54: 5.3 | E54: 3.4 | F54: 4.6 | G54: 2
A55: 2023-06 | B55: 2023 | C55: 5.4 | D55: 5.5 | E55: 3.4 | F55: 4.6 | G55: 2
A56: 2023-07 | C56: 5.6 | D56: 5.5 | E56: 3.5 | F56: 5.3 | G56: 2
A57: 2023-08 | C57: 5.5 | D57: 5.3 | E57: 4 | F57: 5.3 | G57: 2
A58: 2023-09 | C58: 4.7 | D58: 4.5 | E58: 4 | F58: 5.3 | G58: 2
A59: 2023-10 | C59: 4.6 | D59: 4.2 | E59: 3.5 | F59: 4.5 | G59: 2
A60: 2023-11 | C60: 4 | D60: 3.6 | E60: 3.2 | F60: 4.5 | G60: 2
A61: 2023-12 | C61: 4 | D61: 3.4 | E61: 3.2 | F61: 4.5 | G61: 2
A62: 2024-01 | B62: 2024 | C62: 4 | D62: 3.3 | E62: 3.3 | F62: 4.9 | G62: 2
A63: 2024-02 | C63: 4 | D63: 3.1 | E63: 3.1 | F63: 4.9 | G63: 2
A64: 2024-03 | C64: 4 | D64: 2.9 | E64: 3 | F64: 4.9 | G64: 2
A65: 2024-04 | C65: 3.7 | D65: 2.7 | E65: 2.9 | G65: 2
A66: 2024-05 | C66: 4.1 | D66: 2.9 | E66: 2.9 | G66: 2

Sheet Գծապատկեր 3.Ա.7
A1: date | B1: Household consumption | C1: General government consumption | D1: GFCF | E1: Պաշարներ | F1: Արտահանում | G1: Ներմուծում | H1: Զուտ արտահանում | I1: Այլ | J1: Ներքին պահանջարկ | K1: GDP, % YoY | M1: Գծապատկեր 3.Ա.7.Համախառն ներքին արդյունքի իրական աճն ըստ ծախսային բաղադրիչների
A2: 42094 | B2: -3.9508633 | C2: -0.699525 | D2: -0.6095152 | E2: -3.776868 | F2: 1.3115208 | G2: 6.3400212 | I2: -0.14143055 | J2: -5.2599035 | K2: -1.5266601 | M2: %, նախորդ տարվա նույն եռամսյակի նկատմամբ
A3: 42185 | B3: -4.8099778 | C3: -0.61688153 | D3: -1.9708206 | E3: -2.8558121 | F3: 0.55124194 | G3: 7.6981198 | I3: -1.0852452 | J3: -7.3976799 | K3: -3.0893754
A4: 42277 | B4: -5.0081349 | C4: -0.6051016 | D4: -2.7802892 | E4: 1.3588301 | F4: -0.21437173 | G4: 6.2177149 | I4: -0.66900277 | J4: -8.3935256 | K4: -1.7003551
A5: 42369 | B5: -5.5179317 | C5: -0.5702475 | D5: -3.3267353 | E5: 2.0990706 | F5: 2.2938177 | G5: 3.7730793 | I5: -0.3486981 | J5: -9.4149145 | K5: -1.5976451
A6: 42460 | B6: -1.4858751 | C6: 0.26305999 | D6: -1.3487672 | E6: 1.7996758 | F6: -1.2674381 | G6: 2.1030405 | I6: -0.27029001 | J6: -2.5715823 | K6: -0.20659423
A7: 42551 | B7: -1.3472283 | C7: 0.23689383 | D7: -0.19544583 | E7: 0.06469931 | F7: 0.66047212 | G7: 1.1096606 | I7: -0.20822376 | J7: -1.3057803 | K7: 0.32082789
A8: 42643 | B8: -1.5195855 | C8: 0.24121915 | D8: 0.29637307 | E8: -1.5737885 | F8: 2.4166292 | G8: 0.55249011 | I8: -0.35496729 | J8: -0.98199333 | K8: 0.058370126
A9: 42735 | B9: -0.58898662 | C9: 0.23938692 | D9: 1.886357 | E9: -1.4600232 | F9: 1.5340909 | G9: -0.80141288 | I9: -0.27154165 | J9: 1.5367573 | K9: 0.53787054
A10: 42825 | B10: 0.77458638 | C10: 0.46554517 | D10: 1.3306442 | E10: -0.25062269 | F10: 2.0745789 | G10: -2.6400125 | I10: -0.444055 | J10: 2.5707757 | K10: 1.3106644
A11: 42916 | B11: 1.7779077 | C11: 0.45279039 | D11: 1.5313586 | E11: 1.536733 | F11: 1.0113886 | G11: -3.9988647 | I11: 0.0308015 | J11: 3.7620567 | K11: 2.3421151
A12: 43008 | B12: 2.0977942 | C12: 0.42133287 | D12: 0.86547474 | E12: 0.98363801 | F12: 1.3606201 | G12: -3.1999123 | I12: 0.10966485 | J12: 3.3846018 | K12: 2.6386124
A13: 43100 | B13: 2.0804825 | C13: 0.39694192 | D13: 0.047149745 | E13: -0.27317384 | F13: 1.5594778 | G13: -2.3000235 | I13: -0.4698706 | J13: 2.5245742 | K13: 1.040984
A14: 43190 | B14: 2.109674 | C14: 0.2477363 | D14: 0.77880321 | E14: -0.61613727 | F14: 2.1776591 | G14: -1.9238717 | I14: -0.21109951 | J14: 3.1362135 | K14: 2.562764
... A29: 44561 | B29: 3.5488445 | C29: 0.38185001 | D29: 1.575166 | E29: 2.1989006 | F29: 1.8900881 | G29: -3.4935804 | I29: -0.30620084 | J29: 5.5058605 | K29: 5.795068
A30: 2022/1 | B30: 2.9383597 | C30: 0.36218083 | D30: 1.0332214 | E30: -2.3991127 | F30: 1.1153828 | G30: -0.28940931 | I30: 0.25761233 | J30: 4.3337619 | K30: 3.0182351
A31: 2022/2 | B31: -2.1727254 | C31: 0.40941167 | D31: 0.46720017 | E31: -4.5882236 | F31: -4.7796289 | G31: 6.0237634 | I31: 0.18140158 | J31: -1.2961136 | K31: -4.4588011
A32: 2022/3 | B32: -1.8913032 | C32: 0.40462006 | D32: 0.34521041 | E32: 0.96930008 | F32: -8.120664 | G32: 4.2033766 | I32: 0.55160103 | J32: -1.1414727 | K32: -3.537859
A33: 2022/4 | B33: -1.127163 | C33: 0.72895473 | D33: 0.79116657 | E33: -1.455022 | F33: -4.1219936 | G33: 2.2293888 | I33: 0.28972561 | J33: 0.39295831 | K33: -2.6649429
A34: 2023/1 | B34: -0.05078228 | C34: 2.5944537 | D34: 0.088217936 | E34: 1.7513376 | H34: -6.6166707 | I34: 0.42912112 | J34: 2.6318893 | K34: -1.8043226
A35: 2023/2 | B35: 4.3415096 | C35: 0.37315348 | D35: 2.4101363 | E35: 1.6839911 | H35: -4.4701611 | I35: 0.51208683 | J35: 7.1247993 | K35: 4.8507161
A36: 2023/3 | E36: 0.1 | H36: -2.3 | I36: 0.4 | J36: 7.6 | K36: 5.73
A37: 2023/4 | E37: 3.1 | H37: -5.3 | I37: 0.4 | J37: 6.7 | K37: 4.88
A38: 2024/1* | K38: 5.4

Sheet Գծապատկեր 3.Ա.8
C1: Իրական աճ (ձախ առանցք) | D1: Գործազրկության մակարդակ (աջ առանցք) | F1: Գծապատկեր 3.Ա.8. Գործազրկության մակարդակն ու աշխատավարձերի աճը
A2: 40939 | C2: 10.5 | D2: 6.6 | F2: Ձախ առանցք` %, նախորդ տարվա նույն ամսվա նկատմամբ, աջ առանցք՝ %
A3: 40968 | C3: 12.1 | D3: 6.5
A4: 40999 | C4: 9 | D4: 6.5
A5: 41029 | C5: 11.1 | D5: 5.8
A6: 41060 | C6: 12.4 | D6: 5.4
A7: 41090 | C7: 10.2 | D7: 5.4
A8: 41121 | C8: 8.1 | D8: 5.4
A9: 41152 | C9: 6 | D9: 5.2
A10: 41182 | C10: 4.7 | D10: 5.2
A11: 41213 | C11: 7.1 | D11: 5.3
A12: 41243 | C12: 6.7 | D12: 5.4
A13: 41274 | C13: 5 | D13: 5.3
A14: 41305 | C14: 5.4 | D14: 6
... A90: 43616 | C90: 1.6 | D90: 4.5
A91: 43646 | B91: 2019 | C91: 2.9 | D91: 4.4
A92: 43677 | C92: 3 | D92: 4.5
A93: 43708 | C93: 2.4 | D93: 4.3
A94: 43738 | C94: 3.1 | D94: 4.5
A95: 43769 | C95: 3.8 | D95: 4.6
A96: 43799 | C96: 2.7 | D96: 4.6
A97: 43830 | C97: 6.9 | D97: 4.6
A98: 43861 | C98: 6.5 | D98: 4.7
A99: 43890 | C99: 5.7 | D99: 4.6
A100: 43921 | C100: 5.9 | D100: 4.7
A101: 43951 | C101: -2 | D101: 5.8
A102: 43982 | C102: 1 | D102: 6.1
A103: 44012 | B103: 2020 | C103: 0.6 | D103: 6.2
A104: 44043 | C104: 2.3 | D104: 6.3
A105: 44074 | C105: 0.1 | D105: 6.4
A106: 44104 | C106: 2.2 | D106: 6.3
A107: 44135 | C107: 0.5 | D107: 6.3
A108: 44165 | C108: 0.2 | D108: 6.1
A109: 44196 | C109: 4.6 | D109: 5.9
A110: 44227 | C110: 0.1 | D110: 5.8
A111: 44255 | C111: 2 | D111: 5.7
A112: 44286 | C112: 1.8 | D112: 5.4
A113: 44316 | C113: 7.8 | D113: 5.2
A114: 44347 | C114: 3.3 | D114: 4.9
A115: 44377 | B115: 2021 | C115: 4.9 | D115: 4.8
A116: 44408 | C116: 2.2 | D116: 4.5
A117: 44439 | C117: 1.5 | D117: 4.4
A118: 44469 | C118: 2 | D118: 4.3
A119: 44500 | C119: 0.6 | D119: 4.3
A120: 44530 | C120: 3.4 | D120: 4.3
A121: 44561 | C121: 3.6 | D121: 4.3
A122: 44592 | C122: 1.9 | D122: 4.4
A123: 44620 | C123: 2.6 | D123: 4.1
A124: 44651 | C124: 3.6 | D124: 4.1
A125: 44681 | C125: -7.2 | D125: 4
A126: 44712 | C126: -6.1 | D126: 3.9
A127: 44742 | B127: 2022 | C127: -3.2 | D127: 3.9
A128: 44773 | C128: -3.2 | D128: 3.9
A129: 44804 | C129: -1.2 | D129: 3.8
A130: 44834 | C130: -1.4 | D130: 3.9
A131: 44865 | C131: 0.4 | D131: 3.9
A132: 44895 | C132: 0.3 | D132: 3.7
A133: 44926 | C133: 0.6 | D133: 3.7
A134: 44957 | C134: 0.6 | D134: 3.6
A135: 44985 | C135: 2 | D135: 3.5
A136: 45016 | C136: 2.7 | D136: 3.5
A137: 45046 | C137: 10.4 | D137: 3.3
A138: 45077 | C138: 13.3 | D138: 3.2
A139: 45107 | B139: 2023 | C139: 10.5 | D139: 3.1
A140: 45138 | C140: 9.2 | D140: 3
A141: 45169 | C141: 9.5 | D141: 3
A142: 45199 | C142: 7.2 | D142: 3
A143: 45230 | C143: 9.9 | D143: 2.9
A144: 45260 | C144: 7.2 | D144: 2.9
A145: 45291 | C145: 8.5 | D145: 3
A146: 45322 | B146: 2024 | C146: 8.5 | D146: 2.9
A147: 45351 | C147: 10.8 | D147: 2.8
A148: 45382 | C148: 12.9 | D148: 2.7
A149: 45412 | D149: 2.6

Sheet Գծապատկեր 3.Ա.9
B1: 2021/1 | C1: 2021/2 | D1: 2021/3 | E1: 2021/4 | F1: 2022/1 | G1: 2022/2 | H1: 2022/3 | I1: 2022/4 | J1: 2023/1 | K1: 2023/2 | L1: 2023/3 | M1: 2023/4 | N1: 2024/1*
A2: Բյուջեի եկամուտներ | B2: 52.999 | C2: 59.658468 | D2: 66.581012 | E2: 73.62506 | F2: 71.631225 | G2: 56.789397 | H2: 57.221199 | I2: 80.851558 | J2: 56.789397 | K2: 67.026482 | L2: 73.52883 | M2: 93.895827 | N2: 87.192694
A3: Նավթագազային եկամուտներ | B3: 16.18 | C3: 21.58 | D3: 24.087682 | E3: 28.717385 | F3: 29.743037 | G3: 56.799397 | H3: 21.306485 | I3: 30.796286 | J3: 16.348718 | K3: 17.467415 | L3: 21.938668 | M3: 32.467714 | N3: 29.283511
A4: Ոչնավթագազային եկամուտներ | B4: 36.819235 | C4: 38.078468 | D4: 42.49333 | E4: 44.907675 | F4: 41.888187 | G4: 56.809397 | H4: 35.914714 | I4: 50.055272 | J4: 40.440679 | K4: 49.559067 | L4: 51.590162 | M4: 61.428113 | N4: 57.909182
A5: Բյուջեի ծախսեր | B5: 50.132741 | C5: 54.778342 | D5: 58.077801 | E5: 84.63212 | F5: 58.596352 | G5: 66.751612 | H5: 70.017889 | I5: 115.82442 | J5: 77.646978 | K5: 69.670506 | L5: 64.528495 | M5: 111.69151 | N5: 93.263375
A6: Գծապատկեր 3.Ա.9: ՌԴ բյուջեի եկամուտներն ու ծախսերը
A7: Տրիլիոն ռուսական ռուբլի

Sheet Գծապատկեր 3.Ա.10
C1: Copper Price | F1: Գծապատկեր 3.Ա.10. Պղնձի համաշխարհային գներ
A2: 44197 | C2: 7972.1475 | F2: ԱՄՆ դոլար 1 տոննայի դիմաց
A3: 44228 | C3: 8470.94
A4: 44256 | C4: 8988.2478
A5: 44287 | C5: 9324.8175
A6: 44317 | C6: 10166.285
A7: 44348 | B7: 2021 | C7: 9631.5
A8: 44378 | C8: 9450.8205
A9: 44409 | C9: 9370.1386
A10: 44440 | C10: 9324.7095
A11: 44470 | C11: 9829.219
A12: 44501 | C12: 9728.9045
A13: 44531 | C13: 9551.18
A14: 44562 | C14: 9782.3375
A15: 44593 | C15: 9943.175
A16: 44621 | C16: 10230.894
A17: 44652 | C17: 10174.348
A18: 44682 | C18: 9395.0273
A19: 44713 | B19: 2022 | C19: 9067.5518
A20: 44743 | C20: 7544.8095
A21: 44774 | C21: 7990.8122
A22: 44805 | C22: 7746.0114
A23: 44835 | C23: 7651.0829
A24: 44866 | C24: 8049.8614
A25: 44896 | C25: 8371.0914
A26: 44927 | C26: 9007.3464
A27: 44958 | C27: 8936.587
A28: 44986 | C28: 8856.3109
A29: 45017 | C29: 8809.1575
A30: 45047 | C30: 8243.1561
A31: 45078 | B31: 2023 | C31: 8396.5177
A32: 45108 | C32: 8476.679
A33: 45139 | C33: 8347.8283
A34: 45170 | C34: 8276.7138
A35: 45200 | C35: 7941.3559
A36: 45231 | C36: 8189.5877
A37: 45261 | C37: 8407.9005 | D37: 8407.9005
A38: 45292 | B38: 2024 | C38: 8351.3396 | D38: 8351.3396
A39: 45323 | C39: 8304.9505
A40: 45352 | C40: 8692.8191
A41: 45383 | C41: 9445.5936
A42: 45413 | C42: 10117

Sheet Գծապատկեր 3.Ա.11
C1: Brent Crude նավթի գինը | F1: Գծապատկեր 3.Ա.11. Brent Crude տեսակի նավթի համաշխարհային գինը
A2: 44197 | C2: 55.224762 | F2: ԱՄՆ դոլար 1 բարելի դիմաց
A3: 44228 | C3: 62.3625
A4: 44256 | C4: 65.796087
A5: 44287 | C5: 65.531818
A6: 44317 | C6: 68.375238
A7: 44348 | B7: 2021 | C7: 73.512727
A8: 44378 | C8: 74.403182
A9: 44409 | C9: 70.588182
A10: 44440 | C10: 74.749545
A11: 44470 | C11: 83.865238
A12: 44501 | C12: 80.890455
A13: 44531 | C13: 74.678261
A14: 44562 | C14: 85.622381
A15: 44593 | C15: 94.267
A16: 44621 | C16: 112.44
A17: 44652 | C17: 106.15571
A18: 44682 | C18: 112.11364
A19: 44713 | B19: 2022 | C19: 117.69273
A20: 44743 | C20: 105.25286
A21: 44774 | C21: 97.643043
A22: 44805 | C22: 90.608182
A23: 44835 | C23: 93.718571
A24: 44866 | C24: 90.938636
A25: 44896 | C25: 81.503182
A26: 44927 | C26: 84.081818
A27: 44958 | C27: 83.6325
A28: 44986 | C28: 79.256522
A29: 45017 | C29: 83.536
A30: 45047 | C30: 75.747391
A31: 45078 | B31: 2023 | C31: 74.975
A32: 45108 | C32: 80.109048
A33: 45139 | C33: 85.168261
A34: 45170 | C34: 92.673333
A35: 45200 | C35: 88.947727
A36: 45231 | C36: 82.186364
A37: 45261 | C37: 77.540952 | D37: 77.540952
A38: 45292 | B38: 2024 | C38: 79.11 | D38: 79.11
A39: 45323 | C39: 81.795714
A40: 45352 | C40: 84.961429
A41: 45383 | C41: 88.974545
A42: 45413 | C42: 81.91

Sheet Գծապատկեր 3.Ա.12
A1: FAO Food Price Index | J1: Գծապատկեր 3.Ա.12. Պարենի համաշխարհային կազմակերպության (FAO) սննդամթերքի գների ինդեքսը
A2: 2014-2016=100 | J2: %, 2014-2016=100
A3: Date | C3: Սննդամթերքի գների ինդեքս | D3: Մսամթերք | E3: Կաթնամթերք | F3: Հացահատիկ | G3: Յուղեր | H3: Շաքարավազ
A4: 2014-01 | C4: 116.2 | D4: 103.2 | E4: 156.2 | F4: 117 | G4: 115.58 | H4: 96.7
A5: 2014-02 | C5: 118.5 | D5: 103.6 | E5: 156.4 | F5: 119.7 | G5: 120.84 | H5: 102.6
A6: 2014-03 | C6: 122.1 | D6: 106.2 | E6: 154.8 | F6: 125.4 | G6: 125.38 | H6: 110.8
A7: 2014-04 | C7: 121.5 | D7: 109.7 | E7: 147.3 | F7: 125.5 | G7: 121.53 | H7: 109
A8: 2014-05 | C8: 121.3 | D8: 112.1 | E8: 141.8 | F8: 125.2 | G8: 119.18 | H8: 113.1
A9: 2014-06 | C9: 119.3 | D9: 116.2 | E9: 136.1 | F9: 118.7 | G9: 115.22 | H9: 112.5
A10: 2014-07 | C10: 116.4 | D10: 117.8 | E10: 130.2 | F10: 112.2 | G10: 110.63 | H10: 113
A11: 2014-08 | C11: 113 | D11: 119.2 | E11: 120.6 | F11: 110.4 | G11: 101.65 | H11: 106.6
A12: 2014-09 | C12: 109.3 | D12: 117.9 | E12: 110.8 | F12: 107.4 | G12: 98.55 | H12: 99.5
A13: 2014-10 | C13: 109.4 | D13: 117.2 | E13: 107.1 | F13: 108.2 | G13: 100.09 | H13: 103.6
A14: 2014-11 | C14: 108.2 | D14: 115.1 | E14: 102.6 | F14: 109.3 | G14: 100.85 | H14: 100.2
A15: 2014-12 | C15: 105.1 | D15: 108.8 | E15: 98.5 | F15: 110.9 | G15: 97.89 | H15: 94.8
... A68: 2019-05 | C68: 94.3 | D68: 100.5 | E68: 106.6 | F68: 94.4 | G68: 78.5 | H68: 76.7
A69: 2019-06 | B69: 2019 | C69: 95.4 | D69: 101.2 | E69: 102.9 | F69: 99.2 | G69: 77.46 | H69: 79.9
A70: 2019-07 | C70: 95.1 | D70: 102.4 | E70: 101.1 | F70: 97.6 | G70: 78.09 | H70: 79.4
A71: 2019-08 | C71: 94.1 | D71: 102.3 | E71: 100.3 | F71: 92.6 | G71: 82.59 | H71: 76.2
A72: 2019-09 | C72: 93.4 | D72: 101 | E72: 99.6 | F72: 91.8 | G72: 83.89 | H72: 73.5
A73: 2019-10 | C73: 95.2 | D73: 101.6 | E73: 100.8 | F73: 96 | G73: 84.11 | H73: 77.8
A74: 2019-11 | C74: 98.6 | D74: 106.5 | E74: 102.5 | F74: 95.6 | G74: 93.16 | H74: 79.2
A75: 2019-12 | C75: 101 | D75: 106.6 | E75: 103.5 | F75: 97.4 | G75: 101.5 | H75: 83
A76: 2020-01 | C76: 102.5 | D76: 103.6 | E76: 103.8 | F76: 100.7 | G76: 108.73 | H76: 87.5
A77: 2020-02 | C77: 99.4 | D77: 100.5 | E77: 102.9 | F77: 99.6 | G77: 97.55 | H77: 91.4
A78: 2020-03 | C78: 95.2 | D78: 99.4 | E78: 101.5 | F78: 98 | G78: 85.42 | H78: 73.9
A79: 2020-04 | C79: 92.5 | D79: 96.9 | E79: 95.8 | F79: 99.6 | G79: 81.18 | H79: 63.2
A80: 2020-05 | C80: 91.1 | D80: 95.4 | E80: 94.4 | F80: 98 | G80: 77.77 | H80: 67.8
A81: 2020-06 | B81: 2020 | C81: 93.3 | D81: 94.8 | E81: 98.3 | F81: 97.3 | G81: 86.61 | H81: 74.9
A82: 2020-07 | C82: 94 | D82: 92.2 | E82: 101.8 | F82: 97.3 | G82: 93.2 | H82: 76
A83: 2020-08 | C83: 95.9 | D83: 92.2 | E83: 102.1 | F83: 99.2 | G83: 98.7 | H83: 81.1
A84: 2020-09 | C84: 98 | D84: 91.5 | E84: 102.3 | F84: 104.3 | G84: 104.6 | H84: 79
A85: 2020-10 | C85: 101.4 | D85: 91.8 | E85: 104.5 | F85: 112.1 | G85: 106.45 | H85: 84.7
A86: 2020-11 | C86: 105.6 | D86: 93.3 | E86: 105.4 | F86: 114.8 | G86: 121.9 | H86: 87.5
A87: 2020-12 | C87: 108.6 | D87: 94.8 | E87: 109.2 | F87: 116.4 | G87: 131.2 | H87: 87.1
A88: 2021-01 | C88: 113.5 | D88: 96 | E88: 111.1 | F88: 125 | G88: 138.87 | H88: 94.2
A89: 2021-02 | C89: 116.5 | D89: 97.8 | E89: 112.9 | F89: 126.1 | G89: 147.46 | H89: 100.2
A90: 2021-03 | C90: 119.2 | D90: 100.8 | E90: 117.3 | F90: 123.9 | G90: 159.3 | H90: 96.2
A91: 2021-04 | C91: 122.1 | D91: 104.3 | E91: 119 | F91: 126.2 | G91: 162.19 | H91: 100
A92: 2021-05 | C92: 128.1 | D92: 107.4 | E92: 121.2 | F92: 133.7 | G92: 174.9 | H92: 106.8
A93: 2021-06 | B93: 2021 | C93: 125.3 | D93: 110.7 | E93: 120.1 | F93: 130.3 | G93: 157.7 | H93: 107.7
A94: 2021-07 | C94: 124.6 | D94: 114.1 | E94: 117.2 | F94: 126.3 | G94: 155.5 | H94: 109.6
A95: 2021-08 | C95: 128.1 | D95: 113.4 | E95: 117.1 | F95: 130.4 | G95: 165.9 | H95: 120.5
A96: 2021-09 | C96: 129.3 | D96: 112.7 | E96: 119.2 | F96: 132.8 | G96: 168.6 | H96: 121.2
A97: 2021-10 | C97: 133.4 | D97: 112 | E97: 122.7 | F97: 137.1 | G97: 184.8 | H97: 119.1
A98: 2021-11 | C98: 135.5 | D98: 112.5 | E98: 127.3 | F98: 141.4 | G98: 184.6 | H98: 120.2
A99: 2021-12 | C99: 133.9 | D99: 111 | E99: 130.4 | F99: 140.5 | G99: 178.5 | H99: 116.4
A100: 2022-01 | C100: 135.8 | D100: 112.1 | E100: 134.4 | F100: 140.6 | G100: 185.9 | H100: 112.7
A101: 2022-02 | C101: 141.7 | D101: 113.9 | E101: 145 | F101: 145.3 | G101: 201.7 | H101: 110.5
A102: 2022-03 | C102: 160.3 | D102: 119.3 | E102: 149.7 | F102: 170.1 | G102: 251.8 | H102: 117.9
A103: 2022-04 | C103: 159 | D103: 121.9 | E103: 150.9 | F103: 169.7 | G103: 237.5 | H103: 121.5
A104: 2022-05 | C104: 158.8 | D104: 122.9 | E104: 149.8 | F104: 173.5 | G104: 229.2 | H104: 120.4
A105: 2022-06 | B105: 2022 | C105: 155.8 | D105: 125.9 | E105: 158.2 | F105: 166.3 | G105: 211.8 | H105: 117.3
A106: 2022-07 | C106: 141.8 | D106: 124.1 | E106: 155.5 | F106: 147.3 | G106: 168.8 | H106: 112.8
A107: 2022-08 | C107: 138.9 | D107: 121.1 | E107: 153 | F107: 145.6 | G107: 163.3 | H107: 110.5
A108: 2022-09 | C108: 137.5 | D108: 120.3 | E108: 152.8 | F108: 147.9 | G108: 152.6 | H108: 109.7
A109: 2022-10 | C109: 136.8 | D109: 116.8 | E109: 149.2 | F109: 152.3 | G109: 151.3 | H109: 108.6
A110: 2022-11 | C110: 136.1 | D110: 114.6 | E110: 147.3 | F110: 150.1 | G110: 154.7 | H110: 114.4
A111: 2022-12 | C111: 133.3 | D111: 112.4 | E111: 148.5 | F111: 147.3 | G111: 144.6 | H111: 117.2
A112: 2023-01 | C112: 131.6 | D112: 111.1 | E112: 144.7 | F112: 147.5 | G112: 140.4 | H112: 116.8
A113: 2023-02 | C113: 131.1 | D113: 113.3 | E113: 138.6 | F113: 146.7 | G113: 135.9 | H113: 125.2
A114: 2023-03 | C114: 128.2 | D114: 114.7 | E114: 135.3 | F114: 138.6 | G114: 131.8 | H114: 127
A115: 2023-04 | C115: 128.7 | D115: 116.8 | E115: 129.2 | F115: 136.1 | G115: 130 | H115: 149.4
A116: 2023-05 | C116: 124.7 | D116: 118.1 | E116: 121.7 | F116: 129.3 | G116: 118.7 | H116: 157.2
A117: 2023-06 | B117: 2023 | C117: 123.1 | D117: 119 | E117: 119.9 | F117: 126.6 | G117: 115.8 | H117: 152.2
A118: 2023-07 | C118: 124.6 | D118: 118.5 | E118: 119.1 | F118: 125.9 | G118: 129.8 | H118: 146.3
A119: 2023-08 | C119: 122 | D119: 115.2 | E119: 114.3 | F119: 125 | G119: 125.8 | H119: 148.2
A120: 2023-09 | C120: 121.9 | D120: 114.1 | E120: 112 | F120: 126.3 | G120: 120.9 | H120: 162.7
A121: 2023-10 | C121: 120.9 | D121: 112.5 | E121: 114.7 | F121: 124.8 | G121: 120 | H121: 159.2
A122: 2023-11 | C122: 120.8 | D122: 112 | E122: 116.5 | F122: 121 | G122: 124.1 | H122: 161.4
A123: 2023-12 | C123: 119.1 | D123: 111.3 | E123: 118.8 | F123: 122.8 | G123: 122.3 | H123: 134.2
A124: 2024-01 | B124: 2024 | C124: 117.7 | D124: 109 | E124: 118.7 | F124: 119.9 | G124: 122.5 | H124: 136.4
A125: 2024-02 | C125: 117.4 | D125: 112.5 | E125: 120.7 | F125: 113.8 | G125: 120.9 | H125: 140.8
A126: 2024-03 | C126: 119 | D126: 115 | E126: 124 | F126: 110.9 | G126: 130.6 | H126: 133.4
A127: 2024-04 | C127: 119.3 | D127: 116.8 | E127: 123.8 | F127: 111.6 | G127: 130.9 | H127: 126.6
A128: 2024-05 | C128: 120.4 | D128: 116.6 | E128: 126 | F128: 118.7 | G128: 127.8 | H128: 117.1

Sheet Գծապատկեր 3.Բ.1
B1: 2022Q1 | C1: 2022/2 | D1: 2022/3 | E1: 2022/4 | F1: 2023/1 | G1: 2023/2 | H1: 2023/3 | I1: 2023/4 | J1: 2024/1 | K1: Գծապատկեր 3.Բ.1. Արտադրական եղանակով հաշվարկվող ՀՆԱ իրական աճն ըստ հիմնական բաղադրիչների
A2: ՀՆԱ | B2: 8.7637147 | C2: 13.119374 | D2: 14.799906 | E2: 12.688318 | F2: 11.824889 | G2: 9.3283579 | H2: 7.4365652 | I2: 7.6898705 | J2: 9.1798913 | K2: %, նախորդ տարվա նույն եռամսյակի նկատմամբ
A3: Հարկեր | B3: 1.2632404 | C3: -0.66539836 | D3: 1.9646286 | E3: 0.76954096 | F3: 1.4970826 | G3: 1.7311751 | H3: 0.76171016 | I3: 0.85051628 | J3: 0.060104958
A4: Գյուղ. | B4: -0.12177269 | C4: -0.14973349 | D4: -0.020944191 | E4: -0.049110098 | F4: 0.14150892 | G4: 0.15022413 | H4: 0.6327901 | I4: 0.18548871 | J4: 0.17860008
A5: Արդյունաբ. | B5: 0.4359363 | C5: 0.5496494 | D5: 1.9916848 | E5: 1.3885072 | F5: 0.53588398 | G5: -0.64136576 | H5: -0.80021882 | I5: 0.8305726 | J5: 3.8563103
A6: Շին. | B6: 0.36773895 | C6: 1.4094135 | D6: 1.3342906 | E6: 1.4907945 | F6: 0.55503831 | G6: 1.0870996 | H6: 1.2452831 | I6: 1.2644044 | J6: 0.50590288
A7: Ծառ. | B7: 6.8185717 | C7: 11.975443 | D7: 9.5302456 | E7: 9.0885857 | F7: 9.0953754 | G7: 7.0012249 | H7: 5.5970007 | I7: 4.5588885 | J7: 4.578973

Sheet Գծապատկեր 3.Բ.2
B1: Մեկ զբոսաշրջիկի հաշվով միջին իրական ծախսեր | C1: Ներգնա զբոսաշրջիկ
A2: 2017/1 | B2: 106.74729 | C2: 74.099804
A3: 2017/2 | B3: 105.34743 | C3: 82.795451 | F3: Գծապատկեր 3.Բ.2. Մեկ զբոսաշրջիկի հաշվով իրական ծախսերը
A4: 2017/3 | B4: 104.40841 | C4: 80.533346 | F4: %, 2019=100, եռամսյակային, սեզոնային հարթեցված
A5: 2017/4 | B5: 102.96748 | C5: 77.03954
A6: 2018/1 | B6: 100.38058 | C6: 86.601029
A7: 2018/2 | B7: 103.51064 | C7: 86.270374
A8: 2018/3 | B8: 102.32571 | C8: 86.308369
A9: 2018/4 | B9: 102.08756 | C9: 89.743605
A10: 2019/1 | B10: 98.311534 | C10: 92.053103
A11: 2019/2 | B11: 100.98304 | C11: 101.93436
A12: 2019/3 | B12: 100.54861 | C12: 101.25503
A13: 2019/4 | B13: 100.36756 | C13: 103.68949
A14: 2020/1 | B14: 95.81219 | C14: 77.632829
A15: 2020/2 | B15: 94.889022 | C15: 1.1903214
A16: 2020/3 | B16: 101.08072 | C16: 2.4183486
... A30: 2024/1 | B30: 106.90116 | C30: 114.37007

Sheet Գծապատկեր 3.Բ.3
C1: 2 | D1: 2 | F1: Գծապատկեր 3.Բ.3. ՀՆԱ ճեղքը
B2: ՀՆԱ ճեղքը | C2: Ստորին | D2: Վերին | F2: %, եռամսյակային
A3: 2017/1 | B3: -3.8721968 | C3: =B3-C$1 -> -5.8721968 | D3: =SUM($C$1:$D$1) -> 4
A4: 2017/2 | B4: -2.0637451 | C4: =B4-C$1 -> -4.0637451 | D4: =SUM($C$1:$D$1) -> 4
A5: 2017/3 | B5: 2.1456905 | C5: =B5-C$1 -> 0.1456905 | D5: =SUM($C$1:$D$1) -> 4
A6: 2017/4 | B6: 0.60476665 | C6: =B6-C$1 -> -1.3952334 | D6: =SUM($C$1:$D$1) -> 4
A7: 2018/1 | B7: -1.8582804 | C7: =B7-C$1 -> -3.8582804 | D7: =SUM($C$1:$D$1) -> 4
A8: 2018/2 | B8: -1.3709722 | C8: =B8-C$1 -> -3.3709722 | D8: =SUM($C$1:$D$1) -> 4
A9: 2018/3 | B9: -0.84247222 | C9: =B9-C$1 -> -2.8424722 | D9: =SUM($C$1:$D$1) -> 4
A10: 2018/4 | B10: -2.4216868 | C10: =B10-C$1 -> -4.4216868 | D10: =SUM($C$1:$D$1) -> 4
A11: 2019/1 | B11: -5.5841384 | C11: =B11-C$1 -> -7.5841384 | D11: =SUM($C$1:$D$1) -> 4
A12: 2019/2 | B12: -3.3889328 | C12: =B12-C$1 -> -5.3889328 | D12: =SUM($C$1:$D$1) -> 4
A13: 2019/3 | B13: -0.73562412 | C13: =B13-C$1 -> -2.7356241 | D13: =SUM($C$1:$D$1) -> 4
A14: 2019/4 | B14: -0.37787515 | C14: =B14-C$1 -> -2.3778751 | D14: =SUM($C$1:$D$1) -> 4
... A32: 2024/2 | B32: 0.15 | C32: =B32-C$1 -> -1.85 | D32: =SUM($C$1:$D$1) -> 4

Sheet Գծապատկեր 3.Բ.4
B1: 2022/1 | C1: 2022/2 | D1: 2022/3 | E1: 2022/4 | F1: 2023/1 | G1: 2023/2 | H1: 2023/3 | I1: 2023/4 | J1: 2024/1 | O1: Գծապատկեր 3.Բ.4. ՀՆԱ իրական աճն ըստ ծախսային բաղադրիչների
A2: ՀՆԱ | B2: 9.0911843 | C2: 12.914282 | D2: 14.55806 | E2: 12.701908 | F2: 11.824889 | G2: 9.3283579 | H2: 7.4365652 | I2: 7.6898705 | J2: 9.1798913 | O2: %, նախորդ տարվա նույն եռամսյակի նկատմամբ
A3: Մասն. սպառում | B3: 5.6954845 | C3: 6.8575498 | D3: 7.5728677 | E3: -2.0349911 | F3: 4.7234067 | G3: 7.1061218 | H3: 2.6477554 | I3: 3.7422116 | J3: 3.5005448
A4: Պետ. սպառում | B4: -2.4748191 | C4: -0.54627757 | D4: -0.45264615 | E4: 1.3591801 | F4: 2.4348393 | G4: 3.3799882 | H4: 3.928192 | I4: 3.1637617 | J4: -1.4185968
A5: Հիմն. կապիտալ | B5: 2.0848162 | C5: 4.9753875 | D5: 1.3123775 | E5: 3.5184296 | F5: 1.3750347 | G5: 2.9216292 | H5: 1.9814085 | I5: 2.1572291 | J5: 1.0670722
A6: Արտահանում | B6: 11.624646 | C6: 14.622037 | D6: 27.161159 | E6: 26.546646 | F6: 27.992956 | G6: 14.239279 | H6: 3.5599543 | I6: 17.35551 | J6: 64.495636
A7: ՆԵրմուծում | B7: -10.841661 | C7: -12.466781 | D7: -19.726014 | E7: -15.48541 | F7: -27.775147 | G7: -18.30249 | H7: -4.1331819 | I7: -15.507176 | J7: -52.483669
A8: Զուտ արտահանում | B8: 0.78298456 | C8: 2.1552554 | D8: 7.4351452 | E8: 11.061236 | F8: 0.21780857 | G8: -4.0632105 | H8: -0.57322757 | I8: 1.8483342 | J8: 12.011966

Sheet Գծապատկեր 3.Բ.5
A1: Column1 | B1: Ընդամենը | C1: ՌԴ | D1: ԱՄՆ | E1: Այլ
A2: 43131 | B2: 67.727838 | C2: 47.877418 | D2: 8.0579392 | E2: 11.792481 | H2: Գծապատկեր 3.Բ.5. Դրամական փոխանցումներն ըստ ծագման երկրի
A3: 43159 | B3: 80.87977 | C3: 57.894862 | D3: 9.3943924 | E3: 13.590515 | H3: մլն ԱՄՆ դոլար
A4: 43190 | B4: 92.953389 | C4: 66.633763 | D4: 10.930538 | E4: 15.389088
A5: 43220 | B5: 82.429166 | C5: 58.740675 | D5: 9.7394744 | E5: 13.949017
A6: 43251 | B6: 104.52737 | C6: 76.982891 | D6: 11.675746 | E6: 15.868728
A7: 43281 | B7: 124.46063 | C7: 97.369283 | D7: 10.933413 | E7: 16.157933
A8: 43312 | B8: 132.73335 | C8: 104.3856 | D8: 11.41442 | E8: 16.933328
A9: 43343 | B9: 124.99487 | C9: 97.222037 | D9: 11.894481 | E9: 15.87835
A10: 43373 | B10: 107.64385 | C10: 80.846533 | D10: 11.216517 | E10: 15.580804
A11: 43404 | B11: 119.94931 | C11: 89.903196 | D11: 12.652084 | E11: 17.394029
A12: 43434 | B12: 106.645 | C12: 77.223959 | D12: 12.75013 | E12: 16.670913
A13: 43465 | B13: 115.8828 | C13: 81.996611 | D13: 16.017035 | E13: 17.869153
A14: 43496 | B14: 67.110509 | C14: 43.951336 | D14: 10.37304 | E14: 12.786133
A15: 43524 | B15: 76.794356 | C15: 50.475374 | D15: 11.749624 | E15: 14.569358
... A77: 45412 | B77: 81.403826 | C77: 32.676615 | D77: 27.334323 | E77: 21.392888

Sheet Գծապատկեր 3.Բ.6
B1: Ավարտական ակտ | C1: Շինարարության թույլտվություն | D1: Նախագծման թույլտվություն
A2: 2017/1 | B2: 93 | C2: 219 | D2: 133
A3: 2017/2 | B3: 120 | C3: 490 | D3: 331
A4: 2017/3 | B4: 88 | C4: 563 | D4: 297 | G4: Գծապատկեր 3.Բ.6. Շինարարական թույլտվությունների քանակը Երևանում
A5: 2017/4 | B5: 166 | C5: 527 | D5: 247 | G5: Քանակ, եռամսյակային
A6: 2018/1 | B6: 112 | C6: 246 | D6: 405
A7: 2018/2 | B7: 174 | C7: 394 | D7: 571
A8: 2018/3 | B8: 132 | C8: 503 | D8: 548
A9: 2018/4 | B9: 114 | C9: 337 | D9: 264
A10: 2019/1 | B10: 45 | C10: 380 | D10: 269
A11: 2019/2 | B11: 141 | C11: 624 | D11: 546
A12: 2019/3 | B12: 145 | C12: 789 | D12: 544
A13: 2019/4 | B13: 166 | C13: 819 | D13: 494
A14: 2020/1 | B14: 104 | C14: 881 | D14: 385
A15: 2020/2 | B15: 63 | C15: 521 | D15: 353
A16: 2020/3 | B16: 113 | C16: 954 | D16: 514
A17: 2020/4 | B17: 94 | C17: 608 | D17: 348
... A30: 2024/1 | B30: 30 | C30: 941 | D30: 299

Sheet Գծապատկեր 3.Բ.7
A1: Figure 3.B.7: Value of Imports by Broad Economic Category (BEC) | H1: Գծապատկեր 3.Բ.7. Ներմուծման ծավալներն ըստ տնտեսական գործունեության տեսակի
A2: Million USD | H2: Մլն ԱՄՆ դոլար
B5: Կապիտալ ապր. | C5: Միջանկյալ սպառման ապր. | D5: Վերջնական սպառման ապր. | E5: Այլ | F5: Ընդհանուր ներմուծում
A6: 2022/1 | B6: 160.89297 | C6: 680.41741 | D6: 443.47101 | E6: 80.039897 | F6: 1364.8213
A7: 2022/2 | B7: 248.74513 | C7: 955.50008 | D7: 576.24739 | E7: 111.47125 | F7: 1891.9638
A8: 2022/3 | B8: 335.53349 | C8: 1135.4568 | D8: 804.27122 | E8: 265.00076 | F8: 2540.2623
A9: 2022/4 | B9: 382.00314 | C9: 1271.9514 | D9: 1136.8912 | E9: 187.9661 | F9: 2978.8118
A10: 2023/1 | B10: 380.76056 | C10: 1134.1493 | D10: 926.83425 | E10: 237.93909 | F10: 2679.6832
A11: 2023/2 | B11: 428.49401 | C11: 1161.7856 | D11: 1093.7992 | E11: 257.7838 | F11: 2941.8626
A12: 2023/3 | B12: 421.74384 | C12: 1134.5986 | D12: 1030.042 | E12: 277.37105 | F12: 2863.7555
A13: 2023/4 | B13: 364.02444 | C13: 2146.9248 | D13: 1033.1808 | E13: 282.90605 | F13: 3827.0361
A14: 2024/1 | B14: 313.06983 | C14: 3348.2628 | D14: 756.08306 | E14: 329.45016 | F14: 4746.8658
B20: =B13/B9*100-100 -> -4.7064261 | C20: =C13/C9*100-100 -> 68.789844 | D20: =D13/D9*100-100 -> -9.1222794 | E20: =E13/E9*100-100 -> 50.509084 | F20: =F13/F9*100-100 -> 28.475255
B21: =B14/B10*100-100 -> -17.777769 | C21: =C14/C10*100-100 -> 195.22239 | D21: =D14/D10*100-100 -> -18.423056 | E21: =E14/E10*100-100 -> 38.459872 | F21: =F14/F10*100-100 -> 77.142796

Sheet Գծապատկեր 3.Բ.8
B1: Իրական փոխարժեք | C1: Իրական փոխարժեքի միտում | G1: Գծապատկեր 3.Բ.8: Իրական արդյունավետ փոխարժեքը դոլարի, եվրոյի և ռուբլու նկատմամբ (ցուցանիշի նվազումը նշանակում է դրամի արժևորում)
A2: 2017/1 | B2: 167.21454 | C2: 164.24988 | G2: Ինդեքս
A3: 2017/2 | B3: 168.71458 | C3: 164.13721
A4: 2017/3 | B4: 171.09945 | C4: 164.05097
A5: 2017/4 | B5: 171.88595 | C5: 164.01217
A6: 2018/1 | B6: 174.32141 | C6: 164.00856
A7: 2018/2 | B7: 170.88861 | C7: 163.86193
A8: 2018/3 | B8: 166.83628 | C8: 163.65451
A9: 2018/4 | B9: 166.27104 | C9: 163.35483
A10: 2019/1 | B10: 166.46243 | C10: 163.0248
A11: 2019/2 | B11: 165.87054 | C11: 162.68512
A12: 2019/3 | B12: 164.96932 | C12: 162.30067
A13: 2019/4 | B13: 165.41395 | C13: 161.86294
A14: 2020/1 | B14: 164.90811 | C14: 161.28821
... A21: 2021/4 | B21: 160.13864 | C21: 153.75629
A22: 2022/1 | B22: 155.31177 | C22: 152.22129 | D22: =C22-10 -> 142.22129
A23: 2022/2 | B23: 153.88255 | C23: 151.40129 | D23: =C23-10 -> 141.40129
A24: 2022/3 | B24: 144.20201 | C24: 150.25629 | D24: =C24-10 -> 140.25629
A25: 2022/4 | B25: 141.17241 | C25: 149.12129 | D25: =C25-10 -> 139.12129
A26: 2023/1 | B26: 138.5519 | C26: 148.07629 | D26: =C26-10 -> 138.07629
A27: 2023/2 | B27: 136.35766 | C27: 147.06629 | D27: =C27-10 -> 137.06629
A28: 2023/3 | B28: 131.84739 | C28: 146.11629 | D28: =C28-10 -> 136.11629
A29: 2023/4 | B29: 136.72318 | C29: 145.24129 | D29: =C29-10 -> 135.24129
A30: 2024/1 | B30: 139.97102 | C30: 144.34129 | D30: =C30-10 -> 134.34129
A31: 2024/2 | B31: 136.20622 | C31: 143.49129 | D31: =C31-10 -> 133.49129

Sheet Գծապատկեր 3.Բ.9
B1: 2017 | C1: 2018 | D1: 2019 | E1: 2020 | F1: 2021 | G1: 2022 | H1: 2023 | I1: 2024*
A2: Եկամուտների ազդակի նպաստում | B2: 0.3 | C2: -1.1 | D2: 0.1 | E2: 0.3 | F2: 0 | G2: 0.24 | H2: -0.3 | I2: -0.3
A3: Ծախսերի ազդակի նպաստում | B3: -2.6 | C3: 0.2 | D3: 1.1 | E3: 2.8 | F3: -0.8 | G3: -0.56 | H3: -0.6 | I3: 0.8
A4: Հարկաբյուջետային ազդակ | B4: -2.5520752 | C4: -2.5645455 | D4: 1.5687911 | E4: 4.202548 | F4: -0.75 | G4: -0.1 | H4: -1 | I4: 0.5
A5: Հարկաբյուջետային ազդակ (ներառյալ պահուստային ֆոնդը) | H5: -1 | I5: 1.4
A6: Հարկաբյուջետային ազդակ (ներառյալ պահուստային ֆոնդը և եկամուտների թերկատարում) | H6: -1 | I6: 1.9
A7: Հարկաբյուջետային ազդակ (ներառյալ պահուստային ֆոնդը,եկամուտների և կապ. ծասերի թերակատարումը ) | H7: -1 | I7: 1
A8: *2024 թվականի հարկաբյուջետային ազդակի գնահատականները ֆինանսների նախարարության գնահատականներն ՝ 2024 թ-ի բյուջեի օրենքից: 2024 թ-ի ազդակի սցենարը, որը ներառում է պահուստային ֆոնդը, ԿԲ գնահատումներն են:
B11: Գծապատկեր 3.Բ.9: Հարկաբյուջետային ազդակ և 2024 թ-ի սցենարներ
B12: Տոկոսային կետ, նպաստումը տնտեսական աճին

Sheet Գծապատկեր 3.Գ.1
B1: Գործազրկության մակարդակ
A2: 2017/1 | B2: 21.8
A3: 2017/2 | B3: 20.5
A4: 2017/3 | B4: 19.9 | F4: Գծապատկեր 3.Գ.1. Գործազրկության մակարդակ
A5: 2017/4 | B5: 20.6 | F5: %, եռամսյակային
A6: 2018/1 | B6: 20
A7: 2018/2 | B7: 19.4
A8: 2018/3 | B8: 17.6
A9: 2018/4 | B9: 18.4
A10: 2019/1 | B10: 21.5
A11: 2019/2 | B11: 16.9
A12: 2019/3 | B12: 17.4
A13: 2019/4 | B13: 17.2
A14: 2020/1 | B14: 19.7
A15: 2020/2 | B15: 17.5
A16: 2020/3 | B16: 18.1
A17: 2020/4 | B17: 16
... A28: 2023/3 | B28: 12

Sheet Գծապատկեչ 3.Գ.2
B1: Ներհոսք | C1: Արտահոսք | D1: Զուտ հոսք | F1: Գծապատկեր 3.Գ.2. Հնդկաստանի ռեզիդենտների կողմից սահմանահատումները 2023 թ-ին
A2: 44927 | B2: 1.808 | C2: 1.576 | D2: 0.232 | F2: Անձանց թիվը
A3: 44958 | B3: 2.108 | C3: 1.689 | D3: 0.651
A4: 44986 | B4: 2.937 | C4: 2.116 | D4: 1.472
A5: 45017 | B5: 3.783 | C5: 3.107 | D5: 2.148
A6: 45047 | B6: 2.928 | C6: 2.067 | D6: 3.009
A7: 45078 | B7: 5.247 | C7: 3.601 | D7: 4.655
A8: 45108 | B8: 5.111 | C8: 4.997 | D8: 4.769
A9: 45139 | B9: 5.913 | C9: 3.814 | D9: 6.868
A10: 45170 | B10: 7.257 | C10: 2.71 | D10: 11.415
A11: 45200 | B11: 5.719 | C11: 3.414 | D11: 13.72
A12: 45231 | B12: 5.987 | C12: 3.792 | D12: 15.915
A13: 45261 | B13: 8.302 | C13: 7.609 | D13: 16.608
A14: 45292 | B14: 4.724 | C14: 5.7 | D14: 15.632
... A17: 45383 | B17: 5.6 | C17: 6.6 | D17: 12.6

Sheet Գծապատկեր 3.Գ.3
B1: 43131 | C1: =EOMONTH(B1,1) -> 43159 | D1: =EOMONTH(C1,1) -> 43190 | E1: =EOMONTH(D1,1) -> 43220 | F1: =EOMONTH(E1,1) -> 43251 | G1: =EOMONTH(F1,1) -> 43281 | H1: =EOMONTH(G1,1) -> 43312 | I1: =EOMONTH(H1,1) -> 43343 | J1: =EOMONTH(I1,1) -> 43373 | ... BX1: =EOMONTH(BW1,1) -> 45382
A2: ՀՀ շին․ ոլորտի միջին աշխատավարձ | B2: 176878 | C2: 181682 | D2: 185823 | E2: 184577 | F2: 187698 | G2: 186199 | H2: 178483 | I2: 179658 | J2: 186020 | K2: 185822 | L2: 184578 | M2: 202679 | N2: 175738 | O2: 187122 | P2: 181035 | Q2: 178954 | R2: 182982 | S2: 180827 | T2: 180195 | U2: 184687 | V2: 184605 | W2: 188004 | X2: 189980 | Y2: 205880 | Z2: 196263 | AA2: 201882 | AB2: 195425 | AC2: 183842 | AD2: 202398 | AE2: 210933 | AF2: 205543 | AG2: 209062 | AH2: 206261 | AI2: 195615 | AJ2: 199202 | AK2: 207005 | AL2: 193180 | AM2: 196878 | AN2: 204315 | AO2: 204611 | AP2: 217780 | AQ2: 215055 | AR2: 209422 | AS2: 211339 | AT2: 212597 | AU2: 205367 | AV2: 210440 | AW2: 221747 | AX2: 203132 | AY2: 206035 | AZ2: 214732 | BA2: 220094 | BB2: 225000 | BC2: 228263 | BD2: 229740 | BE2: 233020 | BF2: 240317 | BG2: 238411 | BH2: 248195 | BI2: 274601 | BJ2: 237025 | BK2: 237854 | BL2: 252610 | BM2: 245840 | BN2: 252805 | BO2: 251750 | BP2: 250506 | BQ2: 252984 | BR2: 256804 | BS2: 250284 | BT2: 255494 | BU2: 269067 | BV2: 247692 | BW2: 255216 | BX2: 261248
A3: ՌԴ շին․ ոլորտի միջին աշխատավարձ | B3: 293074.96 | C3: 291943.6 | D3: 315212.07 | E3: 293387.53 | F3: 291690.64 | G3: 290366.83 | H3: 296056.62 | I3: 285177.07 | J3: 274197.79 | K3: 285584.52 | L3: 285029.5 | M3: 320546.12 | N3: 275001.22 | O3: 277926.49 | P3: 300844.09 | Q3: 302848.5 | R3: 301134.12 | S3: 317969.07 | T3: 318726.36 | U3: 307886.79 | V3: 305739.63 | W3: 319700.74 | X3: 320317.33 | Y3: 385072.09 | Z3: 309484.62 | AA3: 306573.28 | AB3: 288564.84 | AC3: 268968.46 | AD3: 274862.46 | AE3: 306310.83 | AF3: 290869.46 | AG3: 280004 | AH3: 278981.15 | AI3: 277131.2 | AJ3: 284886.55 | AK3: 378031.5 | AL3: 303690.72 | AM3: 324487.68 | AN3: 363563.15 | AO3: 347521.17 | AP3: 351725.44 | AQ3: 362395.47 | AR3: 337634.7 | AS3: 338331.31 | AT3: 341683.25 | AU3: 351363.78 | AV3: 345804.5 | AW3: 433209.43 | AX3: 311626.56 | AY3: 325756.2 | AZ3: 286434.46 | BA3: 358663.53 | BB3: 423404.99 | BC3: 463187.78 | BD3: 426735.23 | BE3: 412483.01 | BF3: 428895.72 | BG3: 388378.24 | BH3: 391519.05 | BI3: 436213.36 | BJ3: 320851.75 | BK3: 318361.52 | BL3: 335040.93 | BM3: 314327.06 | BN3: 329692.31 | BO3: 322415.14 | BP3: 296653.98 | BQ3: 284931.91 | BR3: 279402.8 | BS3: 300797.4 | BT3: 319875.21 | BU3: 390787.88 | BV3: 316597.35 | BW3: 332760.08 | BX3: 351156.14
A4: Հարաբերական աշխատավարձ, % | B4: 65.693281 | C4: 60.689336 | D4: 69.630278 | E4: 58.951292 | F4: 55.404234 | G4: 55.944356 | H4: 65.873846 | I4: 58.733298 | J4: 47.402318 | K4: 53.68714 | L4: 54.42225 | M4: 58.154579 | N4: 56.48364 | O4: 48.52689 | P4: 66.18007 | Q4: 69.232596 | R4: 64.570351 | S4: 75.84159 | T4: 76.878579 | U4: 66.707344 | V4: 65.61828 | W4: 70.04997 | X4: 68.605819 | Y4: 87.037152 | Z4: 57.688726 | AA4: 51.85766 | AB4: 47.660145 | AC4: 46.304143 | AD4: 35.80295 | AE4: 45.217119 | AF4: 41.512704 | AG4: 33.933476 | AH4: 35.256373 | AI4: 41.671752 | AJ4: 43.0139 | AK4: 82.619502 | AL4: 57.20609 | AM4: 64.816628 | AN4: 77.942465 | AO4: 69.844815 | AP4: 61.504932 | AQ4: 68.512926 | AR4: 61.222175 | AS4: 60.089388 | AT4: 60.718754 | AU4: 71.090673 | AV4: 64.324509 | AW4: 95.362027 | AX4: 53.410866 | AY4: 58.107215 | AZ4: 33.391603 | BA4: 62.959249 | BB4: 88.179996 | BC4: 102.91847 | BD4: 85.747032 | BE4: 77.016139 | BF4: 78.47082 | BG4: 62.902819 | BH4: 57.74655 | BI4: 58.853523 | BJ4: 35.366207 | BK4: 33.847454 | BL4: 32.631697 | BM4: 27.858389 | BN4: 30.413683 | BO4: 28.06957 | BP4: 18.421906 | BQ4: 12.62843 | BR4: 8.8000187 | BS4: 20.182432 | BT4: 25.198719 | BU4: 45.238128 | BV4: 27.818966 | BW4: 30.383706 | BX4: 34.414864
I7: Գծապատկեր 3.Գ.3. Շինարարության ոլորտի աշխատավարձերը Ռուսաստանում և Հայաստանում
I8: Ձախ առանցք՝ հազար ՀՀ դրամ, աջ առանցք՝ հարաբերական աշխատավարձ, %

Sheet Գծապատկեր 3.Գ.4
B1: Աշխատավարձերի աճը
A2: 2017/1 | B2: 2.9808167
A3: 2017/2 | B3: 3.3461868
A4: 2017/3 | B4: 3.4321536 | F4: Գծապատկեր 3.Գ.4. Մասնավոր հատվածի անվանական աշխատավարձերի աճը
A5: 2017/4 | B5: 6.1749026 | F5: %, նախորդ տարվա նույն եռամսյակի նկատմամբ
A6: 2018/1 | B6: 5.0221094
A7: 2018/2 | B7: 4.9622861
A8: 2018/3 | B8: 2.7228989
A9: 2018/4 | B9: 3.9
A10: 2019/1 | B10: 3
A11: 2019/2 | B11: 3.6
A12: 2019/3 | B12: 4.5
A13: 2019/4 | B13: 3
A14: 2020/1 | B14: 7.7
A15: 2020/2 | B15: 0
A16: 2020/3 | B16: 2.1
A17: 2020/4 | B17: 2.7
... A30: 2024/1 | B30: 7.2598705

Sheet Գծապատկեր 3.Գ.5
B1: 42765 | C1: =EOMONTH(B1,1) -> 42794 | D1: =EOMONTH(C1,1) -> 42825 | E1: =EOMONTH(D1,1) -> 42855 | F1: =EOMONTH(E1,1) -> 42886 | G1: =EOMONTH(F1,1) -> 42916 | H1: =EOMONTH(G1,1) -> 42947 | I1: =EOMONTH(H1,1) -> 42978 | J1: =EOMONTH(I1,1) -> 43008 | ... CL1: =EOMONTH(CK1,1) -> 45443
A2: Գնաճ | B2: -0.64611633 | C2: -0.1540778 | D2: -0.13048516 | E2: 1.1728146 | F2: 1.6032775 | G2: 1.1093361 | H2: 0.86797897 | I2: 0.94738362 | J2: 0.9542466 | K2: 1.2118173 | L2: 2.2196785 | M2: 2.611484 | N2: 2.8529796 | O2: 3.2731236 | P2: 3.725703 | Q2: 2.3721461 | R2: 1.5580724 | S2: 0.87704173 | T2: 2.3265215 | U2: 3.3257116 | V2: 3.5247099 | W2: 2.8304155 | X2: 1.8479154 | Y2: 1.7912209 | Z2: 0.79097637 | AA2: 1.8976619 | AB2: 1.8811658 | AC2: 2.1504851 | AD2: 2.7652597 | AE2: 2.4537257 | AF2: 1.6569795 | AG2: 0.62640298 | AH2: 0.47793958 | AI2: 0.90758417 | AJ2: 0.9552054 | AK2: 0.72816648 | AL2: 0.27658563 | AM2: -0.54084569 | AN2: -0.11022337 | AO2: 0.85542195 | AP2: 1.1580086 | AQ2: 1.6775262 | AR2: 1.5187898 | AS2: 1.8167405 | AT2: 1.4326845 | AU2: 1.3441365 | AV2: 1.5585892 | AW2: 3.6638247 | AX2: 4.5145896 | AY2: 5.3267515 | AZ2: 5.7810093 | BA2: 6.1569193 | BB2: 5.9006949 | BC2: 6.5046445 | BD2: 8.2227276 | BE2: 8.7823861 | BF2: 8.888654 | BG2: 9.1040944 | BH2: 9.5566762 | BI2: 7.6754535 | BJ2: 7.0769206 | BK2: 6.543209 | BL2: 7.361797 | BM2: 8.4252581 | BN2: 8.9862918 | BO2: 10.274468 | BP2: 9.3216627 | BQ2: 9.128783 | BR2: 9.9151144 | BS2: 9.4771654 | BT2: 8.8458529 | BU2: 8.3038747 | BV2: 8.0513102 | BW2: 8.0504413 | BX2: 5.4496798 | BY2: 3.2368671 | BZ2: 1.2882103 | CA2: -0.50646122 | CB2: -0.10059011 | CC2: -0.16722027 | CD2: 0.076783993 | CE2: 0.12196043 | CF2: -0.48885045 | CG2: -0.62021526 | CH2: -0.85954367 | CI2: -1.7 | CJ2: -1.2012081 | CK2: -0.72822487 | CL2: 0.3
A3: Գնաճի թիրախ | B3: 4 | C3: 4 | D3: 4 | E3: 4 | F3: 4 | G3: 4 | H3: 4 | I3: 4 | J3: 4 | K3: 4 | L3: 4 | M3: 4 | N3: 4 | O3: 4 | P3: 4 | Q3: 4 | R3: 4 | S3: 4 | T3: 4 | U3: 4 | V3: 4 | W3: 4 | X3: 4 | Y3: 4 | Z3: 4 | AA3: 4 | AB3: 4 | AC3: 4 | AD3: 4 | AE3: 4 | AF3: 4 | AG3: 4 | AH3: 4 | AI3: 4 | AJ3: 4 | AK3: 4 | AL3: 4 | AM3: 4 | AN3: 4 | AO3: 4 | AP3: 4 | AQ3: 4 | AR3: 4 | AS3: 4 | AT3: 4 | AU3: 4 | AV3: 4 | AW3: 4 | AX3: 4 | AY3: 4 | AZ3: 4 | BA3: 4 | BB3: 4 | BC3: 4 | BD3: 4 | BE3: 4 | BF3: 4 | BG3: 4 | BH3: 4 | BI3: 4 | BJ3: 4 | BK3: 4 | BL3: 4 | BM3: 4 | BN3: 4 | BO3: 4 | BP3: 4 | BQ3: 4 | BR3: 4 | BS3: 4 | BT3: 4 | BU3: 4 | BV3: 4 | BW3: 4 | BX3: 4 | BY3: 4 | BZ3: 4 | CA3: 4 | CB3: 4 | CC3: 4 | CD3: 4 | CE3: 4 | CF3: 4 | CG3: 4 | CH3: 4 | CI3: 4 | CJ3: 4 | CK3: 4 | CL3: 4
A5: Գծապատկեր 3.Գ.5. Գնաճ
A6: %, նախորդ տարվա նույն ամսվա նկատմամբ

Sheet Գծապատկեր 3.Գ.6
A1: Տ/Տ | B1: 42765 | C1: =EOMONTH(B1,1) -> 42794 | D1: =EOMONTH(C1,1) -> 42825 | E1: =EOMONTH(D1,1) -> 42855 | F1: =EOMONTH(E1,1) -> 42886 | G1: =EOMONTH(F1,1) -> 42916 | H1: =EOMONTH(G1,1) -> 42947 | I1: =EOMONTH(H1,1) -> 42978 | J1: =EOMONTH(I1,1) -> 43008 | ... CK1: =EOMONTH(CJ1,1) -> 45412
A2: Գնաճ | B2: -0.64611633 | C2: -0.1540778 | D2: -0.13048516 | E2: 1.1728146 | F2: 1.6032775 | G2: 1.1093361 | H2: 0.86797897 | I2: 0.94738362 | J2: 0.9542466 | K2: 1.2118173 | L2: 2.2196785 | M2: 2.611484 | N2: 2.8529796 | O2: 3.2731236 | P2: 3.725703 | Q2: 2.3721461 | R2: 1.5580724 | S2: 0.87704173 | T2: 2.3265215 | U2: 3.3257116 | V2: 3.5247099 | W2: 2.8304155 | X2: 1.8479154 | Y2: 1.7912209 | Z2: 0.79097637 | AA2: 1.8976619 | AB2: 1.8811658 | AC2: 2.1504851 | AD2: 2.7652597 | AE2: 2.4537257 | AF2: 1.6569795 | AG2: 0.62640298 | AH2: 0.47793958 | AI2: 0.90758417 | AJ2: 0.9552054 | AK2: 0.72816648 | AL2: 0.27658563 | AM2: -0.54084569 | AN2: -0.11022337 | AO2: 0.85542195 | AP2: 1.1580086 | AQ2: 1.6775262 | AR2: 1.5187898 | AS2: 1.8167405 | AT2: 1.4326845 | AU2: 1.3441365 | AV2: 1.5585892 | AW2: 3.6638247 | AX2: 4.5145896 | AY2: 5.3267515 | AZ2: 5.7810093 | BA2: 6.1569193 | BB2: 5.9006949 | BC2: 6.5046445 | BD2: 8.2227276 | BE2: 8.7823861 | BF2: 8.888654 | BG2: 9.1040944 | BH2: 9.5566762 | BI2: 7.6754535 | BJ2: 7.0769206 | BK2: 6.543209 | BL2: 7.361797 | BM2: 8.4252581 | BN2: 8.9862918 | BO2: 10.274468 | BP2: 9.3216627 | BQ2: 9.128783 | BR2: 9.9151144 | BS2: 9.4771654 | BT2: 8.8458529 | BU2: 8.3038747 | BV2: 8.0513102 | BW2: 8.0504413 | BX2: 5.4496798 | BY2: 3.2368671 | BZ2: 1.2882103 | CA2: -0.50646122 | CB2: -0.10059011 | CC2: -0.16722027 | CD2: 0.076783993 | CE2: 0.12196043 | CF2: -0.48885045 | CG2: -0.62021526 | CH2: -0.85954367 | CI2: -1.6511542 | CJ2: -1.2012081 | CK2: -0.72822487
A3: Բնականոն գնաճ | B3: -1.7258662 | C3: -1.2971315 | D3: -0.85006545 | E3: -0.32023542 | F3: 0.088690246 | G3: 0.35091346 | H3: 0.82385168 | I3: 1.7187635 | J3: 2.0738006 | K3: 2.4671856 | L3: 3.2479768 | M3: 3.5860291 | N3: 4.5964207 | O3: 5.0582663 | P3: 4.9867579 | Q3: 4.6953087 | R3: 4.3646673 | S3: 4.2013117 | T3: 4.0598091 | U3: 3.7912296 | V3: 3.7326939 | W3: 3.42002 | X3: 2.838048 | Y3: 2.6862481 | Z3: 1.5047485 | AA3: 1.3177606 | AB3: 1.2599416 | AC3: 1.1721152 | AD3: 1.370193 | AE3: 1.4570278 | AF3: 1.4609158 | AG3: 1.2802353 | AH3: 1.0919334 | AI3: 0.70056217 | AJ3: 0.6272569 | AK3: 0.65436778 | AL3: 0.86538957 | AM3: 0.77184062 | AN3: 0.54227164 | AO3: 1.1321822 | AP3: 0.86253079 | AQ3: 0.77684596 | AR3: 0.83406828 | AS3: 1.0666176 | AT3: 1.3432163 | AU3: 1.6822168 | AV3: 1.990066 | AW3: 3.6322694 | AX3: 4.6777753 | AY3: 5.4829754 | AZ3: 6.6256762 | BA3: 6.7512686 | BB3: 7.3936282 | BC3: 7.8259768 | BD3: 8.1093537 | BE3: 8.0379242 | BF3: 7.9880735 | BG3: 7.8765203 | BH3: 8.3772656 | BI3: 7.2509011 | BJ3: 6.6016267 | BK3: 6.3614506 | BL3: 6.9671455 | BM3: 7.9799048 | BN3: 8.3564098 | BO3: 9.4404331 | BP3: 10.10041 | BQ3: 10.230228 | BR3: 10.540276 | BS3: 10.488322 | BT3: 9.8756503 | BU3: 9.4793414 | BV3: 9.0991562 | BW3: 8.3569861 | BX3: 6.4066572 | BY3: 4.3045803 | BZ3: 3.0865032 | CA3: 1.4518285 | CB3: 0.59949055 | CC3: 0.35313146 | CD3: -0.080847536 | CE3: -0.046504097 | CF3: -0.24390438 | CG3: -0.39353895 | CH3: -0.44083532 | CI3: -0.6541581 | CJ3: -0.70986288 | CK3: -0.5369214
A4: Գնաճն առանց սննդ. և վառելիքի | B4: -2.3711093 | C4: -3.2119893 | D4: -3.0632385 | E4: -2.5780182 | F4: -1.9556687 | G4: -2.0169483 | H4: -1.0808389 | I4: -0.35566043 | J4: -0.56619617 | K4: -0.63435015 | L4: 0.026401688 | M4: 0.26466576 | N4: 1.0468354 | O4: 1.9812735 | P4: 2.3524259 | Q4: 2.3643852 | R4: 2.3410309 | S4: 2.1626279 | T4: 2.1686343 | U4: 1.5975603 | V4: 1.1078124 | W4: 1.2831207 | X4: 1.0990613 | Y4: 1.0495771 | Z4: 0.90039175 | AA4: 0.66793545 | AB4: 0.57101106 | AC4: 0.61022186 | AD4: 0.4201034 | AE4: 0.45836584 | AF4: 0.61341273 | AG4: 0.77073843 | AH4: 1.3772643 | AI4: 1.1677323 | AJ4: 0.98042859 | AK4: 1.0339763 | AL4: 1.3739173 | AM4: 1.4739879 | AN4: 1.211001 | AO4: 1.2961595 | AP4: 1.2489502 | AQ4: 1.396656 | AR4: 1.5359365 | AS4: 1.5375469 | AT4: 1.3310719 | AU4: 1.1962371 | AV4: 1.4400798 | AW4: 2.165273 | AX4: 2.7708892 | AY4: 3.3386195 | AZ4: 4.2687507 | BA4: 4.154845 | BB4: 4.0556078 | BC4: 4.0262323 | BD4: 3.7920019 | BE4: 3.9795783 | BF4: 4.0652579 | BG4: 3.9849158 | BH4: 4.1462149 | BI4: 3.7751235 | BJ4: 3.2591075 | BK4: 2.9477999 | BL4: 3.6370734 | BM4: 4.1363562 | BN4: 4.9955751 | BO4: 5.7182511 | BP4: 6.5118778 | BQ4: 6.9528244 | BR4: 7.6215281 | BS4: 7.6886103 | BT4: 7.6447875 | BU4: 7.7631583 | BV4: 7.7854931 | BW4: 7.8012526 | BX4: 6.4306516 | BY4: 5.6294168 | BZ4: 4.9382713 | CA4: 3.9910795 | CB4: 3.3569715 | CC4: 2.9683864 | CD4: 2.4788579 | CE4: 2.2013377 | CF4: 2.0209377 | CG4: 1.7885164 | CH4: 1.9432532 | CI4: 1.5196637 | CJ4: 1.0279156 | CK4: 1.0084241
A5: Ոչ արտ. կոշտ գների ինդեքս | B5: 1.0349292 | C5: 1.147609 | D5: 1.5361398 | E5: 1.137846 | F5: 1.0015403 | G5: 1.1132436 | H5: 1.0421701 | I5: 0.97707822 | J5: 0.88180074 | K5: 0.84525893 | L5: 0.8741258 | M5: 0.86887204 | N5: 1.2067781 | O5: 1.987909 | P5: 2.2012192 | Q5: 2.166198 | R5: 2.2169057 | S5: 2.2091967 | T5: 2.220318 | U5: 2.0897019 | V5: 2.0674411 | W5: 2.0646876 | X5: 2.0427302 | Y5: 2.0616896 | Z5: 1.7327387 | AA5: 1.3917145 | AB5: 0.78474767 | AC5: 0.93719525 | AD5: 0.93777403 | AE5: 1.1418916 | AF5: 1.249598 | AG5: 1.4232691 | AH5: 1.7354844 | AI5: 1.9354819 | AJ5: 1.9333658 | AK5: 1.9248656 | AL5: 1.9717884 | AM5: 1.995788 | AN5: 1.9681189 | AO5: 1.6751296 | AP5: 1.6497509 | AQ5: 1.4943814 | AR5: 1.4239065 | AS5: 1.4490957 | AT5: 1.5142736 | AU5: 1.3272938 | AV5: 1.4504924 | AW5: 1.5221336 | AX5: 1.7547405 | AY5: 1.7064539 | AZ5: 2.0318701 | BA5: 2.1673152 | BB5: 2.2529338 | BC5: 2.3551445 | BD5: 2.3483872 | BE5: 2.2744377 | BF5: 2.1013846 | BG5: 1.9794583 | BH5: 2.0454973 | BI5: 2.0302444 | BJ5: 1.8764029 | BK5: 1.9197152 | BL5: 2.5438756 | BM5: 3.1039714 | BN5: 3.5737523 | BO5: 4.0507766 | BP5: 4.7217386 | BQ5: 5.100247 | BR5: 6.2894081 | BS5: 6.9545917 | BT5: 7.1318797 | BU5: 7.1851937 | BV5: 7.3948979 | BW5: 7.269106 | BX5: 6.5409631 | BY5: 5.5825661 | BZ5: 5.5244919 | CA5: 5.0487594 | CB5: 4.2719056 | CC5: 3.9913452 | CD5: 3.3861394 | CE5: 3.1255683 | CF5: 2.9425889 | CG5: 2.8695041 | CH5: 2.9600668 | CI5: 2.66202 | CJ5: 2.4319162 | CK5: 2.954069
A7: Գծապատկեր 3.Գ.6. Հիմնարար գնաճի ցուցանիշները
A8: %, նախորդ տարվա նույն ամսվա նկատմամբ

Sheet Գծապատկեր 3.Գ.7
B2: 2011/1 | C2: 2011/2 | D2: 2011/3 | E2: 2011/4 | F2: 2012/1 | G2: 2012/2 | H2: 2012/3 | I2: 2012/4 | J2: 2013/1 | K2: 2013/2 | L2: 2013/3 | M2: 2013/4 | N2: 2014/1 | O2: 2014/2 | P2: 2014/3 | Q2: 2014/4 | R2: 2015/1 | S2: 2015/2 | T2: 2015/3 | U2: 2015/4 | V2: 2016/1 | W2: 2016/2 | X2: 2016/3 | Y2: 2016/4 | Z2: 2017/1 | AA2: 2017/2 | AB2: 2017/3 | AC2: 2017/4 | AD2: 2018/1 | AE2: 2018/2 | AF2: 2018/3 | AG2: 2018/4 | AH2: 2019/1 | AI2: 2019/2 | AJ2: 2019/3 | AK2: 2019/4 | AL2: 2020/1 | AM2: 2020/2 | AN2: 2020/3 | AO2: 2020/4 | AP2: 2021/1 | AQ2: 2021/2 | AR2: 2021/3 | AS2: 2021/4 | AT2: 2022/1 | AU2: 2022/2 | AV2: 2022/3 | AW2: 2022/4 | AX2: 2023/1 | AY2: 2023/2 | AZ2: 2023/3 | BA2: 2023/4 | BB2: 2024/1 | BC2: 2024/2
A3: Կնվազի | B3: 3.6 | C3: 9.2 | D3: 4.8 | E3: 3.2 | F3: 3.1 | G3: 3 | H3: 2 | I3: 2.7 | J3: 1.7 | K3: 1.2 | L3: 1 | M3: 1.1 | N3: 0.9 | O3: 0.7 | P3: 0.7 | Q3: 1.3 | R3: 3.9 | S3: 1.9 | T3: 1.2 | U3: 0.4 | V3: 2.9 | W3: 5.1 | X3: 3.6 | Y3: 14.8 | Z3: 8.1 | AA3: 6.3 | AB3: 2.4 | AC3: 1.4 | AD3: 2.4046434 | AE3: 58.201499 | AF3: 39.666667 | AG3: 32.220367 | AH3: 19.6 | AI3: 17.7 | AJ3: 14.7 | AK3: 13.064361 | AL3: 9.6747289 | AM3: 10.321489 | AN3: 8.8952654 | AO3: 3.2670455 | AP3: 3.4770515 | AQ3: 9.2811647 | AR3: 3.7514654 | AS3: 3.042328 | AT3: 2.12 | AU3: 3.90625 | AV3: 3.45 | AW3: 8.6 | AX3: 10.104167 | AY3: 9.5 | AZ3: 9.3942054 | BA3: 5.6020067 | BB3: 7.9822616 | BC3: 8.1598668
A4: Կմնա անփոփոխ | B4: 7.6 | C4: 13.9 | D4: 6.4 | E4: 5.1 | F4: 6 | G4: 3.6 | H4: 3.1 | I4: 5.6 | J4: 6.2 | K4: 4.6 | L4: 8.6 | M4: 7 | N4: 5.1 | O4: 8 | P4: 6.2 | Q4: 5.6 | R4: 13.4 | S4: 9.2 | T4: 9.1 | U4: 10.3 | V4: 17 | W4: 15.3 | X4: 16.1 | Y4: 14.8 | Z4: 20.8 | AA4: 18.6 | AB4: 18.3 | AC4: 13.2 | AD4: 17.412935 | AE4: 21.482098 | AF4: 28.5 | AG4: 26.961603 | AH4: 24.5 | AI4: 27.4 | AJ4: 28.8 | AK4: 24.975985 | AL4: 23.603003 | AM4: 22.081218 | AN4: 21.520803 | AO4: 14.772727 | AP4: 12.100139 | AQ4: 13.830755 | AR4: 20.28136 | AS4: 17.063492 | AT4: 12.74 | AU4: 15.9 | AV4: 15.11 | AW4: 10.375276 | AX4: 11.041667 | AY4: 8.75 | AZ4: 10.272169 | BA4: 7.5250836 | BB4: 7.7605322 | BC4: 7.6602831
A5: Կաճի դանդաղ տեմպով | B5: 16.5 | C5: 21.4 | D5: 26.7 | E5: 38.3 | F5: 26.4 | G5: 27.2 | H5: 21.4 | I5: 44.7 | J5: 37 | K5: 31.9 | L5: 31.7 | M5: 27.9 | N5: 23.6 | O5: 22.7 | P5: 20.1 | Q5: 24.5 | R5: 29 | S5: 21.5 | T5: 22.6 | U5: 38.1 | V5: 44.4 | W5: 41.1 | X5: 50.8 | Y5: 54.6 | Z5: 64.2 | AA5: 63.9 | AB5: 61.8 | AC5: 48.4 | AD5: 43.117745 | AE5: 10.158201 | AF5: 18.833333 | AG5: 23.873122 | AH5: 36.9 | AI5: 33.5 | AJ5: 36.5 | AK5: 44.380403 | AL5: 46.622185 | AM5: 35.36379 | AN5: 35.868006 | AO5: 35.653409 | AP5: 33.79694 | AQ5: 13.102821 | AR5: 17.116061 | AS5: 8.0687831 | AT5: 6.99 | AU5: 6.8080357 | AV5: 11.87 | AW5: 20.0883 | AX5: 19.375 | AY5: 12.5 | AZ5: 16.41791 | BA5: 19.063545 | BB5: 22.394678 | BC5: 20.149875
A6: Կաճի արագընթաց տեմպով | B6: 30.2 | C6: 17 | D6: 32 | E6: 31.4 | F6: 46.3 | G6: 48.6 | H6: 44 | I6: 33.2 | J6: 36 | K6: 47.6 | L6: 47.5 | M6: 49.5 | N6: 52 | O6: 49.5 | P6: 53.3 | Q6: 51.1 | R6: 38.4 | S6: 43.9 | T6: 43.8 | U6: 35.4 | V6: 24.8 | W6: 27.2 | X6: 22.5 | Y6: 9 | Z6: 4.1 | AA6: 9.4 | AB6: 13.8 | AC6: 26.5 | AD6: 28.358209 | AE6: 0 | AF6: 0.83333333 | AG6: 1.5859766 | AH6: 1.2 | AI6: 3.5 | AJ6: 3.6 | AK6: 3.1700288 | AL6: 2.2518766 | AM6: 7.1912014 | AN6: 7.6040172 | AO6: 11.647727 | AP6: 12.517385 | AQ6: 20.473157 | AR6: 23.563892 | AS6: 27.248677 | AT6: 33.19 | AU6: 28.459821 | AV6: 23.11 | AW6: 28.03532 | AX6: 20.520833 | AY6: 18.666667 | AZ6: 14.661984 | BA6: 14.715719 | BB6: 17.627494 | BC6: 12.406328
A7: Կաճի ավելի արագընթաց տեմպով | B7: 22.7 | C7: 4.9 | D7: 11.9 | E7: 5.7 | F7: 9.2 | G7: 12.1 | H7: 21.8 | I7: 10.2 | J7: 12.8 | K7: 12.1 | L7: 9.3 | M7: 12.1 | N7: 14.3 | O7: 16.2 | P7: 17.4 | Q7: 12.8 | R7: 6.9 | S7: 14 | T7: 14 | U7: 7.1 | V7: 3.3 | W7: 3.6 | X7: 3 | Y7: 2.2 | Z7: 0.2 | AA7: 1.3 | AB7: 1.6 | AC7: 7.8 | AD7: 5.3067993 | AE7: 0.58284763 | AF7: 0.083333333 | AG7: 0.083472454 | AH7: 0.1 | AI7: 0.8 | AJ7: 1.1 | AK7: 0.96061479 | AL7: 0.33361134 | AM7: 0.76142132 | AN7: 0.57388809 | AO7: 1.9886364 | AP7: 3.0598053 | AQ7: 3.9126479 | AR7: 2.9308324 | AS7: 3.968254 | AT7: 6.73 | AU7: 3.7946429 | AV7: 6.04 | AW7: 8 | AX7: 7.3958333 | AY7: 8.8333333 | AZ7: 7.4626866 | BA7: 6.7725753 | BB7: 7.2062084 | BC7: 5.3288926
A8: Անորոշ | B8: 19.4 | C8: 33.6 | D8: 18.2 | E8: 16.3 | F8: 9 | G8: 5.5 | H8: 7.7 | I8: 3.6 | J8: 6.3 | K8: 2.6 | L8: 1.9 | M8: 2.4 | N8: 4.1 | O8: 2.9 | P8: 2.3 | Q8: 4.7 | R8: 8.4 | S8: 9.5 | T8: 9.3 | U8: 8.7 | V8: 7.6 | W8: 7.7 | X8: 3.9 | Y8: 4.7 | Z8: 2.6 | AA8: 0.5 | AB8: 2.1 | AC8: 2.7 | AD8: 3.3167496 | AE8: 9.5753539 | AF8: 12.083333 | AG8: 15.275459 | AH8: 17.7 | AI8: 17.1 | AJ8: 15.3 | AK8: 13.448607 | AL8: 17.514595 | AM8: 24.28088 | AN8: 25.53802 | AO8: 32.670455 | AP8: 35.048679 | AQ8: 39.399454 | AR8: 32.356389 | AS8: 40.608466 | AT8: 38.23 | AU8: 41.071429 | AV8: 40.38 | AW8: 24.9 | AX8: 31.5625 | AY8: 41.75 | AZ8: 41.791045 | BA8: 46.32107 | BB8: 37.028825 | BC8: 46.294754
A10: Գծապատկեր 3.Գ.7. Գնաճային սպասումների վերաբերյալ հարցման արդյունքները
A11: Հարցման մասնակիցների տեսակարար կշիռը, եռամսյակային

Sheet Գծապատկեր 3.Դ.1
A1: Գծապատկեր 3.Դ.1. Քաղաքականության տոկոսադրուքի ուղեգիծն ըստ ֆինանսական շուկայի մասնակիցների սպասումների (ըստ ԿԲ հարցումների (6 մարտի 2024 թ.))
A2: %
J4: Որոշման ամսաթիվ | K4: Միջին | L4: Նվազագույն | M4: Առավելագույն
J5: 45454 | K5: 8.25 | L5: 8 | M5: 0.5
J6: 45503 | K6: 8.25 | L6: 8 | M6: 0.25
J7: 45545 | K7: 8 | L7: 7.5 | M7: 0.75
J8: 45594 | K8: 8 | L8: 7 | M8: 1.25
J9: 45636 | K9: 7.75 | L9: 6.75 | M9: 1.75
J10: 45685 | K10: 7.75 | L10: 6.5 | M10: 2.25
J11: 45727 | K11: 7.5 | L11: 6.25 | M11: 2.75
J12: 45776 | K12: 7.5 | L12: 6 | M12: 2.75

Sheet Գծապատկեր 3.Դ.2
B1: 1 օր/day | C1: 1 ամիս/month | D1: 3 ամիս/month | E1: 6 ամիս/month | F1: 9 ամիս/month | G1: 1 տարի/year | H1: 2 տարի/year | I1: 3 տարի/year | J1: 4 տարի/year | K1: 5 տարի/year | L1: 7 տարի/year | M1: 10 տարի/year | N1: 15 տարի/year | O1: 20 տարի/year | P1: 30 տարի/year
B2: 0.002739726 | C2: 0.083333333 | D2: 0.25 | E2: 0.5 | F2: 0.75 | G2: 1 | H2: 2 | I2: 3 | J2: 4 | K2: 5 | L2: 7 | M2: 10 | N2: 15 | O2: 20 | P2: 30
A3: 45188 | B3: 9.5505 | C3: 9.7295 | D3: 10.099 | E3: 10.2374 | F3: 10.203 | G3: 10.1847 | H3: 10.1411 | I3: 10.1274 | J3: 10.1177 | K3: 10.1141 | L3: 10.1087 | M3: 10.1055 | N3: 10.1027 | O3: 10.1016 | P3: 10.0994
A4: 45320 | B4: 9.331 | C4: 9.4905 | D4: 9.82 | E4: 10.2363 | F4: 10.4466 | G4: 10.5277 | H4: 10.6403 | I4: 10.6624 | J4: 10.6726 | K4: 10.6768 | L4: 10.6813 | M4: 10.6876 | N4: 10.6902 | O4: 10.6916 | P4: 10.6943
A5: 45450 | B5: 8.3455 | C5: 8.4491 | D5: 8.6628 | E5: 8.9775 | F5: 9.1612 | G5: 9.3048 | H5: 9.5548 | I5: 9.6005 | J5: 9.6423 | K5: 9.6511 | L5: 9.6598 | M5: 9.6683 | N5: 9.6729 | O5: 9.6754 | P5: 9.6803
C7: Գծապատկեր 3.Դ.2. Եկամտաբերության կոր
C8: %, եկամտաբերություն

Sheet Գծապատկեր 3.Դ.3
B1: Քաղաքականության տոկոսադրույք | C1: Հիմնարար չեզոք տոկոսադրույք (R*) | D1: 1
A2: 2017/1 | B2: 5.87 | C2: 6.5546011 | D2: =C2-$D$1 -> 5.5546011 | E2: =$D$1*2 -> 2 | G2: Գծապատկեր 3.D.3: Իրական տոկոսադրույք և հիմնարար չեզոք տոկոսադրույք
A3: 2017/2 | B3: 5.46 | C3: 6.6594838 | D3: =C3-$D$1 -> 5.6594838 | E3: =$D$1*2 -> 2 | G3: Տոկոսադրույք, %
A4: 2017/3 | B4: 5.01 | C4: 6.7883418 | D4: =C4-$D$1 -> 5.7883418 | E4: =$D$1*2 -> 2
A5: 2017/4 | B5: 5.68 | C5: 6.3000942 | D5: =C5-$D$1 -> 5.3000942 | E5: =$D$1*2 -> 2
A6: 2018/1 | B6: 6 | C6: 7.0107608 | D6: =C6-$D$1 -> 6.0107608 | E6: =$D$1*2 -> 2
A7: 2018/2 | B7: 5.78 | C7: 7.051427 | D7: =C7-$D$1 -> 6.051427 | E7: =$D$1*2 -> 2
A8: 2018/3 | B8: 6.03 | C8: 5.7109074 | D8: =C8-$D$1 -> 4.7109074 | E8: =$D$1*2 -> 2
A9: 2018/4 | B9: 6.15 | C9: 5.4106193 | D9: =C9-$D$1 -> 4.4106193 | E9: =$D$1*2 -> 2
A10: 2019/1 | B10: 5.71 | C10: 4.8208497 | D10: =C10-$D$1 -> 3.8208497 | E10: =$D$1*2 -> 2
A11: 2019/2 | B11: 5.76 | C11: 6.0814099 | D11: =C11-$D$1 -> 5.0814099 | E11: =$D$1*2 -> 2
A12: 2019/3 | B12: 5.68 | C12: 7.0841298 | D12: =C12-$D$1 -> 6.0841298 | E12: =$D$1*2 -> 2
A13: 2019/4 | B13: 5.42 | C13: 6.9604629 | D13: =C13-$D$1 -> 5.9604629 | E13: =$D$1*2 -> 2
A14: 2020/1 | B14: 5.22 | C14: 6.1134746 | D14: =C14-$D$1 -> 5.1134746 | E14: =$D$1*2 -> 2
A15: 2020/2 | B15: 4.68 | C15: 5.7106831 | D15: =C15-$D$1 -> 4.7106831 | E15: =$D$1*2 -> 2
... A31: 2024/2 | B31: 8.35 | C31: 8.2951715 | D31: =C31-$D$1 -> 7.2951715 | E31: =$D$1*2 -> 2

Sheet Գծապատկեր 3.Դ.4
B1: 43861 | C1: 43890 | D1: 43921 | E1: 43951 | F1: 43982 | G1: 44012 | H1: 44043 | I1: 44074 | J1: 44104 | K1: 44135 | L1: 44165 | M1: 44196 | N1: 44227 | O1: 44255 | P1: 44286 | Q1: 44316 | R1: 44347 | S1: 44377 | T1: 44408 | U1: 44439 | V1: 44469 | W1: 44500 | X1: 44530 | Y1: 44561 | Z1: 44592 | AA1: 44620 | AB1: 44651 | AC1: 44681 | AD1: 44712 | AE1: 44742 | AF1: 44773 | AG1: 44804 | AH1: 44834 | AI1: 44865 | AJ1: 44895 | AK1: 44926 | AL1: 44957 | AM1: 44985 | AN1: 45016 | AO1: 45046 | AP1: 45077 | AQ1: 45107 | AR1: 45138 | AS1: 45169 | AT1: 45199 | AU1: 45230 | AV1: 45260 | AW1: 45291 | AX1: 45322 | AY1: 45351 | AZ1: 45382 | BA1: 45412
A2: Իրավաբանական անձանց վարկեր | B2: 5.331012 | C2: 5.2559137 | D2: 12.170652 | E2: 8.9713105 | F2: 11.060949 | G2: 13.01404 | H2: 17.616896 | I2: 17.354282 | J2: 17.415631 | K2: 20.255888 | L2: 21.440792 | M2: 21.851769 | N2: 21.355658 | O2: 19.063709 | P2: 15.536349 | Q2: 19.683229 | R2: 14.081381 | S2: 7.5175019 | T2: 2.2111902 | U2: 1.630658 | V2: -0.80397277 | W2: -3.9824274 | X2: -4.0597719 | Y2: -7.4016226 | Z2: -4.7012041 | AA2: -2.9490255 | AB2: -3.0364036 | AC2: -6.614113 | AD2: -3.6812816 | AE2: -5.0777753 | AF2: -3.9740245 | AG2: -5.5303616 | AH2: -4.5667164 | AI2: -4.7501333 | AJ2: -5.6327005 | AK2: -2.7589282 | AL2: -3.4557446 | AM2: -5.3541068 | AN2: -3.7190282 | AO2: -0.95761989 | AP2: -0.077689733 | AQ2: 7.9891034 | AR2: 10.932591 | AS2: 12.141215 | AT2: 14.934331 | AU2: 20.013457 | AV2: 21.590074 | AW2: 22.452023 | AX2: 20.782711 | AY2: 21.295945 | AZ2: 18.914057 | BA2: 19.84031
A3: Տնային տնտեսություններին վարկեր | B3: 31.52573 | C3: 30.796702 | D3: 31.186069 | E3: 26.033453 | F3: 24.271505 | G3: 23.283335 | H3: 22.096928 | I3: 20.547941 | J3: 19.535742 | K3: 15.742138 | L3: 13.57149 | M3: 10.461163 | N3: 9.2505574 | O3: 8.6307524 | P3: 6.2054186 | Q3: 6.5297248 | R3: 6.6384898 | S3: 4.3778324 | T3: 2.3986136 | U3: 1.9407014 | V3: 1.0506729 | W3: 1.6102813 | X3: 3.5096515 | Y3: 4.8020285 | Z3: 5.2728471 | AA3: 5.1083076 | AB3: 7.0746073 | AC3: 6.9556613 | AD3: 7.830879 | AE3: 8.5445307 | AF3: 10.62713 | AG3: 11.684559 | AH3: 12.680491 | AI3: 13.001594 | AJ3: 16.111541 | AK3: 15.92547 | AL3: 16.367137 | AM3: 16.451043 | AN3: 16.468265 | AO3: 18.136104 | AP3: 18.846457 | AQ3: 20.948483 | AR3: 21.076523 | AS3: 21.290799 | AT3: 21.714884 | AU3: 23.110159 | AV3: 19.861799 | AW3: 19.112742 | AX3: 19.753544 | AY3: 20.396052 | AZ3: 19.378614 | BA3: 19.699471
A4: Ընդամենը | B4: 15.774906 | C4: 15.385279 | D4: 20.403562 | E4: 17.081663 | F4: 17.064352 | G4: 17.02125 | H4: 18.472226 | I4: 17.772889 | J4: 17.639826 | K4: 17.127924 | L4: 16.003733 | M4: 14.350189 | N4: 12.159459 | O4: 10.669814 | P4: 6.8667649 | Q4: 8.9145718 | R4: 5.95003 | S4: 1.7790411 | T4: -1.6614195 | U4: -2.4622768 | V4: -3.7798919 | W4: -5.3748232 | X4: -3.9117881 | Y4: -5.1233396 | Z4: -2.1570208 | AA4: -1.2509037 | AB4: 0.13825937 | AC4: -2.1150776 | AD4: 1.2449863 | AE4: 1.7186133 | AF4: 3.0853157 | AG4: 3.1911387 | AH4: 4.141347 | AI4: 4.1514469 | AJ4: 4.8587551 | AK4: 6.096603 | AL4: 6.2183217 | AM4: 5.3940685 | AN4: 6.4321698 | AO4: 9.1875955 | AP4: 9.7746393 | AQ4: 14.638469 | AR4: 16.54472 | AS4: 17.694909 | AT4: 19.289216 | AU4: 21.904482 | AV4: 21.734033 | AW4: 22.358629 | AX4: 21.988389 | AY4: 21.926477 | AZ4: 17.907563 | BA4: 19.341767
A6: Գծապատկեր 3.Դ.4. Առևտրային բանկերի կողմից տնային տնտեսություններին և իրավաբանական անձանց տրամադրված վարկերի փոփոխությունը
A7: %, նախորդ տարվա նույն ամսվա նկատմամբ

Sheet Գծապատկեր 3.Դ.5
B1: USD | C1: EUR | D1: RUB | K1: Դոլար/դրամ (ձախ առանցք) | L1: Եվրո/դրամ (ձախ առանցք) | M1: Ռուբլի/դրամ (աջ առանցք)
A2: 03.01.2022 | B2: 481.59 | C2: 546.8 | D2: 6.48 | F2: 3 | G2: 1 | H2: 2022 | J2: 44564 | K2: 481.6 | L2: 546.8 | M2: 6.5
A3: 04.01.2022 | B3: 482.19 | C3: 544.92 | D3: 6.44 | F3: 4 | G3: 1 | H3: 2022 | J3: 44565 | K3: 482.2 | L3: 544.9 | M3: 6.4
A4: 05.01.2022 | B4: 482.55 | C4: 545.52 | D4: 6.37 | F4: 5 | G4: 1 | H4: 2022 | J4: 44566 | K4: 482.6 | L4: 545.5 | M4: 6.4 | P4: Գծապատկեր 3.Դ.5. Անվանական փոխարժեքը դոլարի, եվրոյի և ռուբլու նկատմամբ
A5: 07.01.2022 | B5: 482.79 | C5: 546.28 | D5: 6.38 | F5: 7 | G5: 1 | H5: 2022 | J5: 44568 | K5: 482.8 | L5: 546.3 | M5: 6.4 | P5: Ձախ առանցք՝ դոլար/ դրամ և եվրո/դրամ, աջ առանցք՝ ռուբլի/դրամ
A6: 10.01.2022 | B6: 482.96 | C6: 546.9 | D6: 6.44 | F6: 10 | G6: 1 | H6: 2022 | J6: 44571 | K6: 483 | L6: 546.9 | M6: 6.4
A7: 11.01.2022 | B7: 482.32 | C7: 546.61 | D7: 6.44 | F7: 11 | G7: 1 | H7: 2022 | J7: 44572 | K7: 482.3 | L7: 546.6 | M7: 6.4
A8: 12.01.2022 | B8: 481.49 | C8: 547.21 | D8: 6.47 | F8: 12 | G8: 1 | H8: 2022 | J8: 44573 | K8: 481.5 | L8: 547.2 | M8: 6.5
A9: 13.01.2022 | B9: 480.83 | C9: 551.46 | D9: 6.44 | F9: 13 | G9: 1 | H9: 2022 | J9: 44574 | K9: 480.8 | L9: 551.5 | M9: 6.4
A10: 14.01.2022 | B10: 480.88 | C10: 550.94 | D10: 6.32 | F10: 14 | G10: 1 | H10: 2022 | J10: 44575 | K10: 480.9 | L10: 550.9 | M10: 6.3
A11: 17.01.2022 | B11: 481.49 | C11: 550.01 | D11: 6.3 | F11: 17 | G11: 1 | H11: 2022 | J11: 44578 | K11: 481.5 | L11: 550 | M11: 6.3
A12: 18.01.2022 | B12: 481.52 | C12: 548.74 | D12: 6.28 | F12: 18 | G12: 1 | H12: 2022 | J12: 44579 | K12: 481.5 | L12: 548.7 | M12: 6.3
A13: 19.01.2022 | B13: 481.65 | C13: 546.14 | D13: 6.3 | F13: 19 | G13: 1 | H13: 2022 | J13: 44580 | K13: 481.7 | L13: 546.1 | M13: 6.3
A14: 20.01.2022 | B14: 481.66 | C14: 546.54 | D14: 6.29 | F14: 20 | G14: 1 | H14: 2022 | J14: 44581 | K14: 481.7 | L14: 546.5 | M14: 6.3
A15: 21.01.2022 | B15: 482.12 | C15: 546.68 | D15: 6.3 | F15: 21 | G15: 1 | H15: 2022 | J15: 44582 | K15: 482.1 | L15: 546.7 | M15: 6.3
A16: 24.01.2022 | B16: 481.63 | C16: 545.49 | D16: 6.17 | F16: 24 | G16: 1 | H16: 2022 | J16: 44585 | K16: 481.6 | L16: 545.5 | M16: 6.2
A17: 25.01.2022 | B17: 482.26 | C17: 544.28 | D17: 6.14 | F17: 25 | G17: 1 | H17: 2022 | J17: 44586 | K17: 482.3 | L17: 544.3 | M17: 6.1
... A413: 18.08.2023 | B413: 386.13 | C413: 419.49 | D413: 4.12 | F413: 18 | G413: 8 | H413: 2023 | J413: 45156 | K413: 386.13 | L413: 419.49 | M413: 4.12
A414: 21.08.2023 | B414: 385.88 | C414: 420.53 | D414: 4.1 | F414: 21 | G414: 08 | H414: 2023 | J414: 45159 | K414: 385.88 | L414: 420.53 | M414: 4.1
A415: 22.08.2023 | B415: 385.79 | C415: 420.01 | D415: 4.1 | F415: 22 | G415: 08 | H415: 2023 | J415: 45160 | K415: 385.79 | L415: 420.01 | M415: 4.1
A416: 23.08.2023 | B416: 386.8 | C416: 417.94 | D416: 4.1 | F416: 23 | G416: 08 | H416: 2023 | J416: 45161 | K416: 386.8 | L416: 417.94 | M416: 4.1
A417: 24.08.2023 | B417: 385.96 | C417: 418.92 | D417: 4.09 | F417: 24 | G417: 08 | H417: 2023 | J417: 45162 | K417: 385.96 | L417: 418.92 | M417: 4.09
A418: 25.08.2023 | B418: 385.98 | C418: 416.97 | D418: 4.08 | F418: 25 | G418: 08 | H418: 2023 | J418: 45163 | K418: 385.98 | L418: 416.97 | M418: 4.08
A419: 28.08.2023 | B419: 385.99 | C419: 417.26 | D419: 4.05 | F419: 28 | G419: 08 | H419: 2023 | J419: 45166 | K419: 385.99 | L419: 417.26 | M419: 4.05
A420: 29.08.2023 | B420: 386.15 | C420: 417.27 | D420: 4.02 | F420: 29 | G420: 08 | H420: 2023 | J420: 45167 | K420: 386.15 | L420: 417.27 | M420: 4.02
A421: 30.08.2023 | B421: 385.98 | C421: 420.37 | D421: 4.02 | F421: 30 | G421: 08 | H421: 2023 | J421: 45168 | K421: 385.98 | L421: 420.37 | M421: 4.02
A422: 31.08.2023 | B422: 385.78 | C422: 419.38 | D422: 4 | F422: 31 | G422: 08 | H422: 2023 | J422: 45169 | K422: 385.78 | L422: 419.38 | M422: 4
A423: 01.09.2023 | B423: 385.9 | C423: 418.43 | D423: 4 | F423: 01 | G423: 09 | H423: 2023 | J423: 45170 | K423: 385.9 | L423: 418.43 | M423: 4
A424: 04.09.2023 | B424: 385.79 | C424: 416.81 | D424: 3.99 | F424: 04 | G424: 09 | H424: 2023 | J424: 45173 | K424: 385.79 | L424: 416.81 | M424: 3.99
A425: 05.09.2023 | B425: 385.81 | C425: 414.32 | D425: 3.95 | F425: 05 | G425: 09 | H425: 2023 | J425: 45174 | K425: 385.81 | L425: 414.32 | M425: 3.95
... A563: 05.03.2024 | B563: 404.03 | C563: 438.37 | D563: 4.44 | F563: 05 | G563: 03 | H563: 2024 | J563: 45356 | K563: 404.03 | L563: 438.37 | M563: 4.44
A564: 06.03.2024 | B564: 403.94 | C564: 439.41 | D564: 4.47 | F564: 6 | G564: 3 | H564: 2024 | J564: 45357 | K564: 403.94 | L564: 439.41 | M564: 4.47
A565: 07.03.2024 | B565: 403.71 | C565: 439.88 | D565: 4.45 | F565: 7 | G565: 3 | H565: 2024 | J565: 45358 | K565: 403.71 | L565: 439.88 | M565: 4.45
A566: 11.03.2024 | B566: 403.58 | C566: 441.52 | D566: 4.45 | F566: 11 | G566: 3 | H566: 2024 | J566: 45362 | K566: 403.58 | L566: 441.52 | M566: 4.45
A567: 12.03.2024 | B567: 403.38 | C567: 441.06 | D567: 4.43 | F567: 12 | G567: 3 | H567: 2024 | J567: 45363 | K567: 403.38 | L567: 441.06 | M567: 4.43
A568: 13.03.2024 | B568: 402.9 | C568: 440.41 | D568: 4.4 | F568: 13 | G568: 3 | H568: 2024 | J568: 45364 | K568: 402.9 | L568: 440.41 | M568: 4.4
A569: 14.03.2024 | B569: 402.65 | C569: 440.42 | D569: 4.4 | F569: 14 | G569: 3 | H569: 2024 | J569: 45365 | K569: 402.65 | L569: 440.42 | M569: 4.4
A570: 15.03.2024 | B570: 402.63 | C570: 438.46 | D570: 4.38 | F570: 15 | G570: 3 | H570: 2024 | J570: 45366 | K570: 402.63 | L570: 438.46 | M570: 4.38
A571: 18.03.2024 | B571: 401.96 | C571: 438.1 | D571: 4.37 | F571: 18 | G571: 3 | H571: 2024 | J571: 45369 | K571: 401.96 | L571: 438.1 | M571: 4.37
A572: 19.03.2024 | B572: 401.27 | C572: 435.14 | D572: 4.34 | F572: 19 | G572: 3 | H572: 2024 | J572: 45370 | K572: 401.27 | L572: 435.14 | M572: 4.34
A573: 20.03.2024 | B573: 399.77 | C573: 433.35 | D573: 4.31 | F573: 20 | G573: 3 | H573: 2024 | J573: 45371 | K573: 399.77 | L573: 433.35 | M573: 4.31
A574: 21.03.2024 | B574: 398.48 | C574: 435.1 | D574: 4.35 | F574: 21 | G574: 3 | H574: 2024 | J574: 45372 | K574: 398.48 | L574: 435.1 | M574: 4.35
A575: 22.03.2024 | B575: 397.76 | C575: 430.26 | D575: 4.28 | F575: 22 | G575: 3 | H575: 2024 | J575: 45373 | K575: 397.76 | L575: 430.26 | M575: 4.28
... A608: 13.05.2024 | B608: 387.64 | C608: 417.91 | D608: 4.24 | F608: 13 | G608: 5 | H608: 2024 | J608: 45425 | K608: 387.64 | L608: 417.91 | M608: 4.24
A609: 14.05.2024 | B609: 387.69 | C609: 418.59 | D609: 4.24 | F609: 14 | G609: 05 | H609: 2024 | J609: 45426 | K609: 387.69 | L609: 418.59 | M609: 4.24
A610: 15.05.2024 | B610: 387.52 | C610: 419.49 | D610: 4.25 | F610: 15 | G610: 05 | H610: 2024 | J610: 45427 | K610: 387.52 | L610: 419.49 | M610: 4.25
A611: 16.05.2024 | B611: 388.09 | C611: 421.93 | D611: 4.27 | F611: 16 | G611: 05 | H611: 2024 | J611: 45428 | K611: 388.09 | L611: 421.93 | M611: 4.27
A612: 17.05.2024 | B612: 387.6 | C612: 420.12 | D612: 4.26 | F612: 17 | G612: 05 | H612: 2024 | J612: 45429 | K612: 387.6 | L612: 420.12 | M612: 4.26
A613: 20.05.2024 | B613: 387.97 | C613: 421.76 | D613: 4.29 | F613: 20 | G613: 05 | H613: 2024 | J613: 45432 | K613: 387.97 | L613: 421.76 | M613: 4.29
A614: 21.05.2024 | B614: 388.24 | C614: 421.9 | D614: 4.29 | F614: 21 | G614: 05 | H614: 2024 | J614: 45433 | K614: 388.24 | L614: 421.9 | M614: 4.29
A615: 22.05.2024 | B615: 388.37 | C615: 420.88 | D615: 4.31 | F615: 22 | G615: 05 | H615: 2024 | J615: 45434 | K615: 388.37 | L615: 420.88 | M615: 4.31
A616: 23.05.2024 | B616: 387.58 | C616: 420.29 | D616: 4.29 | F616: 23 | G616: 05 | H616: 2024 | J616: 45435 | K616: 387.58 | L616: 420.29 | M616: 4.29
A617: 24.05.2024 | B617: 387.77 | C617: 420.38 | D617: 4.33 | F617: 24 | G617: 05 | H617: 2024 | J617: 45436 | K617: 387.77 | L617: 420.38 | M617: 4.33
A618: 27.05.2024 | B618: 388.03 | C618: 421.56 | D618: 4.38 | F618: 27 | G618: 05 | H618: 2024 | J618: 45439 | K618: 388.03 | L618: 421.56 | M618: 4.38
A619: 29.05.2024 | B619: 387.5 | C619: 420.32 | D619: 4.32 | F619: 29 | G619: 05 | H619: 2024 | J619: 45441 | K619: 387.5 | L619: 420.32 | M619: 4.32
A620: 30.05.2024 | B620: 388.32 | C620: 420.01 | D620: 4.32 | F620: 30 | G620: 05 | H620: 2024 | J620: 45442 | K620: 388.32 | L620: 420.01 | M620: 4.32
... A624: 05.06.2024 | B624: 388.17 | C624: 421.86 | D624: 4.38 | F624: 05 | G624: 06 | H624: 2024 | J624: 45448 | K624: 388.17 | L624: 421.86 | M624: 4.38

Sheet Գծապատկեր 3.Դ.6
B1: Եվրոբոնդերի եկամտաբերություն | C1: Ռիսկ հավելավճար
A2: 44197 | B2: 3.809 | C2: 298.687
A3: 44200 | B3: 3.7605 | C3: 295.111 | G3: Գծապատկեր 3.Դ.6. 2029 թվականին մարվող հայկական եվրոբոնդերի եկամտաբերությունը և երկրի ռիսկ-հավելավճաի գնահատականը
A4: 44201 | B4: 3.78 | C4: 293.494 | G4: Ձախ առանցք՝ %, եկամտաբերություն, աջ առանցք՝ բազիսային կետ, երկրի ռիսկ-հավելավճար
A5: 44202 | B5: 3.762 | C5: 284.948
A6: 44203 | B6: 3.7875 | C6: 282.313
A7: 44204 | B7: 3.7465 | C7: 279.828
A8: 44207 | B8: 3.7255 | C8: 275.701
A9: 44208 | B9: 3.728 | C9: 268.481
A10: 44209 | B10: 3.691 | C10: 270.975
A11: 44210 | B11: 3.592 | C11: 269.842
A12: 44211 | B12: 3.5505 | C12: 256.709
A13: 44214 | B13: 3.5505 | C13: 256.709
A14: 44215 | B14: 3.5605 | C14: 258.547
A15: 44216 | B15: 3.583 | C15: 258.446
A16: 44217 | B16: 3.609 | C16: 261.274
... A895: 45448 | B895: 6.932 | C895: 283.076

Sheet Գծապատկեր 3.Զ.1
A1: date | B1: ԱՄՆ ԴՊՀ տոկոսադրույք | C1: EMBI (hակադարձաց) | D1: 10տ ԱՄՆ գանձ․ պարտատոմս, % | E1: EMBI ճեղք
A2: 39450 | B2: =INDEX('[3]Fed Funds rate'!B:B,MATCH('Գծապատկեր 3.Զ.1'!A2,'[3]Fed Funds rate'!A:A,0)) -> 4.25 | C2: -409.61 | D2: =INDEX([3]Treasury!B:B,MATCH('Գծապատկեր 3.Զ.1'!A2,[3]Treasury!A:A,0)) -> 3.91 | E2: -9.3260737
A3: 39451 | B3: =INDEX('[3]Fed Funds rate'!B:B,MATCH('Գծապատկեր 3.Զ.1'!A3,'[3]Fed Funds rate'!A:A,0)) -> 4.18 | C3: -409.86 | D3: =INDEX([3]Treasury!B:B,MATCH('Գծապատկեր 3.Զ.1'!A3,[3]Treasury!A:A,0)) -> 3.88 | E3: -9.2849451
A4: 39454 | B4: =INDEX('[3]Fed Funds rate'!B:B,MATCH('Գծապատկեր 3.Զ.1'!A4,'[3]Fed Funds rate'!A:A,0)) -> 4.27 | C4: -410.39 | D4: =INDEX([3]Treasury!B:B,MATCH('Գծապատկեր 3.Զ.1'!A4,[3]Treasury!A:A,0)) -> 3.86 | E4: -9.1756026
A5: 39455 | B5: =INDEX('[3]Fed Funds rate'!B:B,MATCH('Գծապատկեր 3.Զ.1'!A5,'[3]Fed Funds rate'!A:A,0)) -> 4.27 | C5: -411.23 | D5: =INDEX([3]Treasury!B:B,MATCH('Գծապատկեր 3.Զ.1'!A5,[3]Treasury!A:A,0)) -> 3.86 | E5: -8.9910149
A6: 39456 | B6: =INDEX('[3]Fed Funds rate'!B:B,MATCH('Գծապատկեր 3.Զ.1'!A6,'[3]Fed Funds rate'!A:A,0)) -> 4.26 | C6: -410.74 | D6: =INDEX([3]Treasury!B:B,MATCH('Գծապատկեր 3.Զ.1'!A6,[3]Treasury!A:A,0)) -> 3.82 | E6: -9.1301272
A7: 39457 | B7: =INDEX('[3]Fed Funds rate'!B:B,MATCH('Գծապատկեր 3.Զ.1'!A7,'[3]Fed Funds rate'!A:A,0)) -> 4.26 | C7: -410.65 | D7: =INDEX([3]Treasury!B:B,MATCH('Գծապատկեր 3.Զ.1'!A7,[3]Treasury!A:A,0)) -> 3.91 | E7: -9.1719277
A8: 39458 | B8: =INDEX('[3]Fed Funds rate'!B:B,MATCH('Գծապատկեր 3.Զ.1'!A8,'[3]Fed Funds rate'!A:A,0)) -> 4.23 | C8: -410.87 | D8: =INDEX([3]Treasury!B:B,MATCH('Գծապատկեր 3.Զ.1'!A8,[3]Treasury!A:A,0)) -> 3.82 | E8: -9.1382549
A9: 39461 | B9: =INDEX('[3]Fed Funds rate'!B:B,MATCH('Գծապատկեր 3.Զ.1'!A9,'[3]Fed Funds rate'!A:A,0)) -> 4.24 | C9: -411.2 | D9: =INDEX([3]Treasury!B:B,MATCH('Գծապատկեր 3.Զ.1'!A9,[3]Treasury!A:A,0)) -> 3.81 | E9: -9.0778562
A10: 39462 | B10: =INDEX('[3]Fed Funds rate'!B:B,MATCH('Գծապատկեր 3.Զ.1'!A10,'[3]Fed Funds rate'!A:A,0)) -> 4.24 | C10: -411.53 | D10: =INDEX([3]Treasury!B:B,MATCH('Գծապատկեր 3.Զ.1'!A10,[3]Treasury!A:A,0)) -> 3.72 | E10: -9.0175219
A11: 39463 | B11: =INDEX('[3]Fed Funds rate'!B:B,MATCH('Գծապատկեր 3.Զ.1'!A11,'[3]Fed Funds rate'!A:A,0)) -> 4.22 | C11: -412.15 | D11: =INDEX([3]Treasury!B:B,MATCH('Գծապատկեր 3.Զ.1'!A11,[3]Treasury!A:A,0)) -> 3.74 | E11: -8.8868645 | G11: =680/600*100-100 -> 13.333333
A12: 39464 | B12: =INDEX('[3]Fed Funds rate'!B:B,MATCH('Գծապատկեր 3.Զ.1'!A12,'[3]Fed Funds rate'!A:A,0)) -> 4.23 | C12: -411.59 | D12: =INDEX([3]Treasury!B:B,MATCH('Գծապատկեր 3.Զ.1'!A12,[3]Treasury!A:A,0)) -> 3.66 | E12: -9.0427162
A13: 39465 | B13: =INDEX('[3]Fed Funds rate'!B:B,MATCH('Գծապատկեր 3.Զ.1'!A13,'[3]Fed Funds rate'!A:A,0)) -> 4.17 | C13: -410.74 | D13: =INDEX([3]Treasury!B:B,MATCH('Գծապատկեր 3.Զ.1'!A13,[3]Treasury!A:A,0)) -> 3.66 | E13: -9.2693324
A14: 39469 | B14: =INDEX('[3]Fed Funds rate'!B:B,MATCH('Գծապատկեր 3.Զ.1'!A14,'[3]Fed Funds rate'!A:A,0)) -> 3.68 | C14: -409.96 | D14: =INDEX([3]Treasury!B:B,MATCH('Գծապատկեր 3.Զ.1'!A14,[3]Treasury!A:A,0)) -> 3.52 | E14: -9.4793005
A15: 39470 | B15: =INDEX('[3]Fed Funds rate'!B:B,MATCH('Գծապատկեր 3.Զ.1'!A15,'[3]Fed Funds rate'!A:A,0)) -> 3.43 | C15: -410.74 | D15: =INDEX([3]Treasury!B:B,MATCH('Գծապատկեր 3.Զ.1'!A15,[3]Treasury!A:A,0)) -> 3.51 | E15: -9.3091053
A16: 39471 | B16: =INDEX('[3]Fed Funds rate'!B:B,MATCH('Գծապատկեր 3.Զ.1'!A16,'[3]Fed Funds rate'!A:A,0)) -> 3.47 | C16: -411.26 | D16: =INDEX([3]Treasury!B:B,MATCH('Գծապատկեր 3.Զ.1'!A16,[3]Treasury!A:A,0)) -> 3.68 | E16: -9.2024711 | G16: =940/700*100-100 -> 34.285714
A17: 39472 | B17: =INDEX('[3]Fed Funds rate'!B:B,MATCH('Գծապատկեր 3.Զ.1'!A17,'[3]Fed Funds rate'!A:A,0)) -> 3.6 | C17: -411.15 | D17: =INDEX([3]Treasury!B:B,MATCH('Գծապատկեր 3.Զ.1'!A17,[3]Treasury!A:A,0)) -> 3.61 | E17: -9.2491082
A18: 39475 | B18: =INDEX('[3]Fed Funds rate'!B:B,MATCH('Գծապատկեր 3.Զ.1'!A18,'[3]Fed Funds rate'!A:A,0)) -> 3.5 | C18: -411.41 | D18: =INDEX([3]Treasury!B:B,MATCH('Գծապատկեր 3.Զ.1'!A18,[3]Treasury!A:A,0)) -> 3.61 | E18: -9.2057773
A19: 39476 | B19: =INDEX('[3]Fed Funds rate'!B:B,MATCH('Գծապատկեր 3.Զ.1'!A19,'[3]Fed Funds rate'!A:A,0)) -> 3.47 | C19: -411.42 | D19: =INDEX([3]Treasury!B:B,MATCH('Գծապատկեր 3.Զ.1'!A19,[3]Treasury!A:A,0)) -> 3.69 | E19: -9.2232332
A20: 39477 | B20: =INDEX('[3]Fed Funds rate'!B:B,MATCH('Գծապատկեր 3.Զ.1'!A20,'[3]Fed Funds rate'!A:A,0)) -> 3.26 | C20: -411.72 | D20: =INDEX([3]Treasury!B:B,MATCH('Գծապատկեր 3.Զ.1'!A20,[3]Treasury!A:A,0)) -> 3.78 | E20: -9.170228
A21: 39478 | B21: =INDEX('[3]Fed Funds rate'!B:B,MATCH('Գծապատկեր 3.Զ.1'!A21,'[3]Fed Funds rate'!A:A,0)) -> 3.22 | C21: -412.06 | D21: =INDEX([3]Treasury!B:B,MATCH('Գծապատկեր 3.Զ.1'!A21,[3]Treasury!A:A,0)) -> 3.67 | E21: -9.1075682
A22: 39479 | B22: =INDEX('[3]Fed Funds rate'!B:B,MATCH('Գծապատկեր 3.Զ.1'!A22,'[3]Fed Funds rate'!A:A,0)) -> 3.12 | C22: -412.48 | D22: =INDEX([3]Treasury!B:B,MATCH('Գծապատկեր 3.Զ.1'!A22,[3]Treasury!A:A,0)) -> 3.62 | E22: -9.0255796
A23: 39482 | B23: =INDEX('[3]Fed Funds rate'!B:B,MATCH('Գծապատկեր 3.Զ.1'!A23,'[3]Fed Funds rate'!A:A,0)) -> 2.82 | C23: -412.5 | D23: =INDEX([3]Treasury!B:B,MATCH('Գծապատկեր 3.Զ.1'!A23,[3]Treasury!A:A,0)) -> 3.68 | E23: -9.0406175
A24: 39483 | B24: =INDEX('[3]Fed Funds rate'!B:B,MATCH('Գծապատկեր 3.Զ.1'!A24,'[3]Fed Funds rate'!A:A,0)) -> 2.71 | C24: -411.91 | D24: =INDEX([3]Treasury!B:B,MATCH('Գծապատկեր 3.Զ.1'!A24,[3]Treasury!A:A,0)) -> 3.61 | E24: -9.2036366
A25: 39484 | B25: =INDEX('[3]Fed Funds rate'!B:B,MATCH('Գծապատկեր 3.Զ.1'!A25,'[3]Fed Funds rate'!A:A,0)) -> 2.94 | C25: -411.9 | D25: =INDEX([3]Treasury!B:B,MATCH('Գծապատկեր 3.Զ.1'!A25,[3]Treasury!A:A,0)) -> 3.61 | E25: -9.2259508
A26: 39485 | B26: =INDEX('[3]Fed Funds rate'!B:B,MATCH('Գծապատկեր 3.Զ.1'!A26,'[3]Fed Funds rate'!A:A,0)) -> 3.03 | C26: -410.4 | D26: =INDEX([3]Treasury!B:B,MATCH('Գծապատկեր 3.Զ.1'!A26,[3]Treasury!A:A,0)) -> 3.74 | E26: -9.610668
A27: 39486 | B27: =INDEX('[3]Fed Funds rate'!B:B,MATCH('Գծապատկեր 3.Զ.1'!A27,'[3]Fed Funds rate'!A:A,0)) -> 3.05 | C27: -407.8 | D27: =INDEX([3]Treasury!B:B,MATCH('Գծապատկեր 3.Զ.1'!A27,[3]Treasury!A:A,0)) -> 3.64 | E27: -10.266098
A28: 39489 | B28: =INDEX('[3]Fed Funds rate'!B:B,MATCH('Գծապատկեր 3.Զ.1'!A28,'[3]Fed Funds rate'!A:A,0)) -> 2.88 | C28: -408.12 | D28: =INDEX([3]Treasury!B:B,MATCH('Գծապատկեր 3.Զ.1'!A28,[3]Treasury!A:A,0)) -> 3.62 | E28: -10.207545
... A1247: 41274 | B1247: =INDEX('[3]Fed Funds rate'!B:B,MATCH('Գծապատկեր 3.Զ.1'!A1247,'[3]Fed Funds rate'!A:A,0)) -> 0.09 | C1247: -672.1 | D1247: =INDEX([3]Treasury!B:B,MATCH('Գծապատկեր 3.Զ.1'!A1247,[3]Treasury!A:A,0)) -> 1.78 | E1247: 15.538568
A1248: 41275 | B1248: 0.1 | C1248: -672.1 | D1248: 1.8 | E1248: 15.518983
A1249: 41276 | B1249: =INDEX('[3]Fed Funds rate'!B:B,MATCH('Գծապատկեր 3.Զ.1'!A1249,'[3]Fed Funds rate'!A:A,0)) -> 0.17 | C1249: -674.23 | D1249: =INDEX([3]Treasury!B:B,MATCH('Գծապատկեր 3.Զ.1'!A1249,[3]Treasury!A:A,0)) -> 1.86 | E1249: 15.815815
A1250: 41277 | B1250: =INDEX('[3]Fed Funds rate'!B:B,MATCH('Գծապատկեր 3.Զ.1'!A1250,'[3]Fed Funds rate'!A:A,0)) -> 0.17 | C1250: -675.82 | D1250: =INDEX([3]Treasury!B:B,MATCH('Գծապատկեր 3.Զ.1'!A1250,[3]Treasury!A:A,0)) -> 1.92 | E1250: 16.031778
A1251: 41278 | B1251: =INDEX('[3]Fed Funds rate'!B:B,MATCH('Գծապատկեր 3.Զ.1'!A1251,'[3]Fed Funds rate'!A:A,0)) -> 0.16 | C1251: -674.65 | D1251: =INDEX([3]Treasury!B:B,MATCH('Գծապատկեր 3.Զ.1'!A1251,[3]Treasury!A:A,0)) -> 1.93 | E1251: 15.838922
A1252: 41281 | B1252: =INDEX('[3]Fed Funds rate'!B:B,MATCH('Գծապատկեր 3.Զ.1'!A1252,'[3]Fed Funds rate'!A:A,0)) -> 0.16 | C1252: -673.03 | D1252: =INDEX([3]Treasury!B:B,MATCH('Գծապատկեր 3.Զ.1'!A1252,[3]Treasury!A:A,0)) -> 1.92 | E1252: 15.578927
A1253: 41282 | B1253: =INDEX('[3]Fed Funds rate'!B:B,MATCH('Գծապատկեր 3.Զ.1'!A1253,'[3]Fed Funds rate'!A:A,0)) -> 0.15 | C1253: -670.93 | D1253: =INDEX([3]Treasury!B:B,MATCH('Գծապատկեր 3.Զ.1'!A1253,[3]Treasury!A:A,0)) -> 1.89 | E1253: 15.246835
A1254: 41283 | B1254: =INDEX('[3]Fed Funds rate'!B:B,MATCH('Գծապատկեր 3.Զ.1'!A1254,'[3]Fed Funds rate'!A:A,0)) -> 0.14 | C1254: -670.36 | D1254: =INDEX([3]Treasury!B:B,MATCH('Գծապատկեր 3.Զ.1'!A1254,[3]Treasury!A:A,0)) -> 1.88 | E1254: 15.142261
A1255: 41284 | B1255: =INDEX('[3]Fed Funds rate'!B:B,MATCH('Գծապատկեր 3.Զ.1'!A1255,'[3]Fed Funds rate'!A:A,0)) -> 0.14 | C1255: -670.25 | D1255: =INDEX([3]Treasury!B:B,MATCH('Գծապատկեր 3.Զ.1'!A1255,[3]Treasury!A:A,0)) -> 1.91 | E1255: 15.10627
A1256: 41285 | B1256: =INDEX('[3]Fed Funds rate'!B:B,MATCH('Գծապատկեր 3.Զ.1'!A1256,'[3]Fed Funds rate'!A:A,0)) -> 0.14 | C1256: -668.84 | D1256: =INDEX([3]Treasury!B:B,MATCH('Գծապատկեր 3.Զ.1'!A1256,[3]Treasury!A:A,0)) -> 1.89 | E1256: 14.876099
A1257: 41288 | B1257: =INDEX('[3]Fed Funds rate'!B:B,MATCH('Գծապատկեր 3.Զ.1'!A1257,'[3]Fed Funds rate'!A:A,0)) -> 0.14 | C1257: -669.74 | D1257: =INDEX([3]Treasury!B:B,MATCH('Գծապատկեր 3.Զ.1'!A1257,[3]Treasury!A:A,0)) -> 1.89 | E1257: 14.990991
A1258: 41289 | B1258: =INDEX('[3]Fed Funds rate'!B:B,MATCH('Գծապատկեր 3.Զ.1'!A1258,'[3]Fed Funds rate'!A:A,0)) -> 0.15 | C1258: -670.56 | D1258: =INDEX([3]Treasury!B:B,MATCH('Գծապատկեր 3.Զ.1'!A1258,[3]Treasury!A:A,0)) -> 1.86 | E1258: 15.093773
A1259: 41290 | B1259: =INDEX('[3]Fed Funds rate'!B:B,MATCH('Գծապատկեր 3.Զ.1'!A1259,'[3]Fed Funds rate'!A:A,0)) -> 0.14 | C1259: -670.95 | D1259: =INDEX([3]Treasury!B:B,MATCH('Գծապատկեր 3.Զ.1'!A1259,[3]Treasury!A:A,0)) -> 1.84 | E1259: 15.132338
A1260: 41291 | B1260: =INDEX('[3]Fed Funds rate'!B:B,MATCH('Գծապատկեր 3.Զ.1'!A1260,'[3]Fed Funds rate'!A:A,0)) -> 0.14 | C1260: -670.94 | D1260: =INDEX([3]Treasury!B:B,MATCH('Գծապատկեր 3.Զ.1'!A1260,[3]Treasury!A:A,0)) -> 1.89 | E1260: 15.11127
... A4097: 45440 | B4097: =INDEX('[3]Fed Funds rate'!B:B,MATCH('Գծապատկեր 3.Զ.1'!A4097,'[3]Fed Funds rate'!A:A,0)) -> 5.33 | C4097: -858.11 | D4097: =INDEX([3]Treasury!B:B,MATCH('Գծապատկեր 3.Զ.1'!A4097,[3]Treasury!A:A,0)) -> 4.54 | E4097: -13.377744

Sheet Գծապատկեր 3.Զ.2
A1: Գծապատկեր 3.Զ.2
A3: Մաս Ա․ Տնտեսական աճին նպաստումներ, 2024թ.-ի առաջին եռամսյակ
A4: Տոկոսային կետ
B6: Առևտուր | C6: Մշակող արդյունաբերություն | D6: Այլ ճյուղեր | E6: ՀՆԱ
A7: 2024Q1 | B7: 3.5 | C7: 3.6 | D7: =E7-C7-B7 -> 2.1 | E7: 9.2
A25: Մաս Բ․ Տնտեսական աճը առանց ոսկերչական իրերի արտադրության և ոսկու մեծածախ առևտրի
A26: Իրական տ/տ աճ, %
B28: ՀՆԱ առանց ոսկու | C28: ՀՆԱ
A29: 2022Q1 | B29: 8.7133044 | C29: 9.0911843
A30: 2022Q2 | B30: 13.568229 | C30: 12.914282
A31: 2022Q3 | B31: 15.201185 | C31: 14.55806
A32: 2022Q4 | B32: 11.826783 | C32: 12.701908
A33: 2023Q1 | B33: 11.78699 | C33: 11.824889
A34: 2023Q2 | B34: 9.6487812 | C34: 9.3283579
A35: 2023Q3 | B35: 7.4890567 | C35: 7.4365652
A36: 2023Q4 | B36: 4.7547559 | C36: 7.6898705
A37: 2024Q1 | B37: 3.7529876 | C37: 9.1798913
A55: Մաս Գ․ ՀՆԱ և ծառայությունների ճյուղի ինդեքս
A56: Ինդեքս, 2019 4-րդ եռ. = 100
B58: ՀՆԱ | C58: Ծառայություններ (առանց առևտրի)
A59: 2019Q4 | B59: 100 | C59: 100
A60: 2020Q1 | B60: 97.417342 | C60: 96.438912
A61: 2020Q2 | B61: 87.135986 | C61: 83.288393
A62: 2020Q3 | B62: 93.253441 | C62: 86.113955
A63: 2020Q4 | B63: 90.816534 | C63: 87.343962
A64: 2021Q1 | B64: 94.879978 | C64: 93.132385
A65: 2021Q2 | B65: 95.171233 | C65: 94.152815
A66: 2021Q3 | B66: 96.373344 | C66: 96.593805
A67: 2021Q4 | B67: 100.85286 | C67: 98.636267
A68: 2022Q1 | B68: 103.13089 | C68: 105.05178
A69: 2022Q2 | B69: 107.42731 | C69: 113.51015
A70: 2022Q3 | B70: 110.95326 | C70: 114.82418
... A76: 2024Q1 | B76: 125.71302 | C76: 123.5152

Sheet Գծապատկեր 3.Զ.3
B2: Փաստացի տոկոսադրույք | C2: Տոկոսադրույք - սցենար Ա | D2: Տոկոսադրույք - սցենար Բ | E2: Շուկայի սպասումներ
A3: 2017/1 | B3: 5.87
A4: 2017/2 | B4: 5.46 | H4: Գծապատկեր 3.Զ.3. Ներծին քաղաքականության տոկոսադրույքի ուղեգիծ, %
A5: 2017/3 | B5: 5.01
A6: 2017/4 | B6: 5.68
A7: 2018/1 | B7: 6
A8: 2018/2 | B8: 5.78
A9: 2018/3 | B9: 6.03
A10: 2018/4 | B10: 6.15
A11: 2019/1 | B11: 5.71
A12: 2019/2 | B12: 5.76
A13: 2019/3 | B13: 5.68
A14: 2019/4 | B14: 5.42
A15: 2020/1 | B15: 5.22
A16: 2020/2 | B16: 4.68
... A31: 2024/1 | B31: 8.88
A32: 2024/2 | B32: 8.35 | C32: 8.35 | D32: 8.35 | E32: =D32 -> 8.35
A33: 2024/3 | C33: 8.5441541 | D33: 7.0911846 | E33: 8.125
A34: 2024/4 | C34: 8.8388572 | D34: 6.3056704 | E34: 8
A35: 2025/1 | C35: 8.766156 | D35: 5.6485947 | E35: 7.75
A36: 2025/2 | C36: 8.6795818 | D36: 5.3925411 | E36: 7.75
A37: 2025/3 | C37: 8.582138 | D37: 5.4594851 | E37: 7.5
A38: 2025/4 | C38: 8.5149606 | D38: 5.755269 | E38: 7.5
A39: 2026/1 | C39: 8.4956291 | D39: 6.0162531 | E39: 7.25
A40: 2026/2 | C40: 8.4907601 | D40: 6.3754472 | E40: 7.125
A41: 2026/3 | C41: 8.5073987 | D41: 6.7075359 | E41: 7.125
A42: 2026/4 | C42: 8.5351137 | D42: 7.0468868 | E42: 7
A43: 2027/1 | C43: 8.5289716 | D43: 7.3879303 | E43: 7.125

Sheet Գծապատկեր 3.Զ.4
B1: Իրական ՀՆԱ աճ | C1: Սցենար Բ | D1: Սցենար Ա
A2: 2017/1 | B2: 5.0294958
A3: 2017/2 | B3: 5.9940896 | G3: Գծապատկեր 3.Զ.4: Իրական ՀՆԱ աճ, տ/տ, %
A4: 2017/3 | B4: 6.3980163
A5: 2017/4 | B5: 10.811942
A6: 2018/1 | B6: 7.6639164
A7: 2018/2 | B7: 6.9802729
A8: 2018/3 | B8: 4.6743373
A9: 2018/4 | B9: 3.1560465
A10: 2019/1 | B10: 5.531642
A11: 2019/2 | B11: 7.0620394
A12: 2019/3 | B12: 9.4868481
A13: 2019/4 | B13: 6.8163117
A14: 2020/1 | B14: 2.7808577
A15: 2020/2 | B15: -14.537037
... A30: 2024/1 | B30: 8.738767
A31: 2024/2 | B31: 6.1893442 | C31: 6.1893442 | D31: 6.1893442
A32: 2024/3 | C32: 5.42748 | D32: 5.42748
A33: 2024/4 | C33: 4.6604811 | D33: 4.7046557
A34: 2025/1 | C34: -0.040142833 | D34: 3.4368964
A35: 2025/2 | C35: -0.20611747 | D35: 7.1626052
A36: 2025/3 | C36: -0.31646723 | D36: 6.9984978
A37: 2025/4 | C37: -1.2518185 | D37: 6.945141
A38: 2026/1 | C38: 0.56484597 | D38: 6.2545785
A39: 2026/2 | C39: 2.0747462 | D39: 3.6016322
A40: 2026/3 | C40: 2.2134228 | D40: 3.8282934
A41: 2026/4 | C41: 2.5331814 | D41: 3.4921309
A42: 2027/1 | C42: 3.3645774 | D42: 3.4804506
A43: 2027/2 | C43: 3.4961068 | D43: 3.9641475

Sheet Գծապատկեր 3.Զ.5
B1: Գնաճ | C1: Սցենար Բ | D1: Սցենար Ա | E1: Թիրախ
A2: 2017/1 | B2: -0.27460385 | E2: 4
A3: 2017/2 | B3: 1.1874137 | E3: 4
A4: 2017/3 | B4: 0.9465542 | E4: 4 | H4: Գծապատկեր 3.Զ.5. Գնաճ, տ/տ, %
A5: 2017/4 | B5: 2.0305402 | E5: 4
A6: 2018/1 | B6: 3.2749387 | E6: 4
A7: 2018/2 | B7: 1.5114551 | E7: 4
A8: 2018/3 | B8: 2.967084 | E8: 4
A9: 2018/4 | B9: 2.1990274 | E9: 4
A10: 2019/1 | B10: 1.6288189 | E10: 4
A11: 2019/2 | B11: 2.2889843 | E11: 4
A12: 2019/3 | B12: 0.83431459 | E12: 4
A13: 2019/4 | B13: 0.902799 | E13: 4
A14: 2020/1 | B14: 0.071371479 | E14: 4
A15: 2020/2 | B15: 1.1249143 | E15: 4
A16: 2020/3 | B16: 1.4096598 | E16: 4
... A30: 2024/1 | B30: -1.1589698 | E30: 4
A31: 2024/2 | B31: 0.32672539 | C31: 0.3648236 | D31: 0.32672539 | E31: 4
A32: 2024/3 | C32: 0.65408077 | D32: 0.61098728 | E32: 4
A33: 2024/4 | C33: 1.299105 | D33: 0.98586901 | E33: 4
A34: 2025/1 | C34: 2.5624853 | D34: 2.7860925 | E34: 4
A35: 2025/2 | C35: 3.1612526 | D35: 3.7943219 | E35: 4
A36: 2025/3 | C36: 3.2423887 | D36: 4.2084954 | E36: 4
A37: 2025/4 | C37: 3.1904688 | D37: 4.3425477 | E37: 4
A38: 2026/1 | C38: 3.3175122 | D38: 4.4139888 | E38: 4
A39: 2026/2 | C39: 3.5081514 | D39: 4.4214139 | E39: 4
A40: 2026/3 | C40: 3.7275827 | D40: 4.4055729 | E40: 4
A41: 2026/4 | C41: 3.8450782 | D41: 4.370555 | E41: 4
A42: 2027/1 | C42: 3.9283918 | D42: 4.3201424 | E42: 4
A43: 2027/2 | C43: 3.9760846 | D43: 4.2598785 | E43: 4

Sheet Գծապատկեր 3.Զ.6
B1: ՈԱԿԳԻ | C1: Սցենար Բ | D1: Սցենար Ա
A2: 2017/1 | B2: 1.2320414
A3: 2017/2 | B3: 1.0783481 | G3: Գծապատկեր 3.Զ.6. Ոչ արտահանելի կոշտ գների ինդեքս, տ/տ, %
A4: 2017/3 | B4: 0.96231215
A5: 2017/4 | B5: 0.85905236
A6: 2018/1 | B6: 1.7835785
A7: 2018/2 | B7: 2.1736332
A8: 2018/3 | B8: 2.1035322
A9: 2018/4 | B9: 2.0355107
A10: 2019/1 | B10: 1.2922022
A11: 2019/2 | B11: 1.0005942
A12: 2019/3 | B12: 1.4586979
A13: 2019/4 | B13: 1.9128252
A14: 2020/1 | B14: 1.9592577
A15: 2020/2 | B15: 1.5935824
... A30: 2024/1 | B30: 2.6485819
A31: 2024/2 | B31: 2.7509788 | C31: 2.6976827 | D31: 2.7509788
A32: 2024/3 | C32: 2.8480577 | D32: 3.0823472
A33: 2024/4 | C33: 2.6053296 | D33: 3.1376715
A34: 2025/1 | C34: 2.5787968 | D34: 3.5793794
A35: 2025/2 | C35: 2.6207546 | D35: 4.1599879
A36: 2025/3 | C36: 2.59448 | D36: 4.5124227
A37: 2025/4 | C37: 2.5813704 | D37: 4.6807188
A38: 2026/1 | C38: 2.7239272 | D38: 4.7529809
A39: 2026/2 | C39: 3.0268635 | D39: 4.7235356
A40: 2026/3 | C40: 3.3893207 | D40: 4.6594207
A41: 2026/4 | C41: 3.7293906 | D41: 4.5593733
A42: 2027/1 | C42: 4.0362702 | D42: 4.4329791
A43: 2027/2 | C43: 4.2479585 | D43: 4.3051158

Sheet DNU Գծապատկեր 3.Զ.7
B1: Ներուժային ՀՆԱ աճ | C1: Սցենար Բ | D1: Սցենար Ա
A2: 2017/1
A3: 2017/2 | G3: Գծապատկեր 3.Զ.7. Ներուժային ՀՆԱ աճ, տ/տ, %
A4: 2017/3
A5: 2017/4
A6: 2018/1
A7: 2018/2
A8: 2018/3
A9: 2018/4
A10: 2019/1
A11: 2019/2
A12: 2019/3
A13: 2019/4
A14: 2020/1
A15: 2020/2
... A43: 2027/2

Sheet Գծապատկեր 3.Զ.7
B1: ՀՆԱ ճեղք | C1: Սցենար Բ | D1: Սցենար Ա
A2: 2017/1 | B2: -3.8721968
A3: 2017/2 | B3: -2.0637451 | G3: Գծապատկեր 3.Զ.7. ՀՆԱ ճեղք, %
A4: 2017/3 | B4: 2.1456905
A5: 2017/4 | B5: 0.60476665
A6: 2018/1 | B6: -1.8582804
A7: 2018/2 | B7: -1.3709722
A8: 2018/3 | B8: -0.84247222
A9: 2018/4 | B9: -2.4216868
A10: 2019/1 | B10: -5.5841384
A11: 2019/2 | B11: -3.3889328
A12: 2019/3 | B12: -0.73562412
A13: 2019/4 | B13: -0.37787515
A14: 2020/1 | B14: -4.5102807
A15: 2020/2 | B15: -4.89572
... A28: 2023/3 | B28: 2.8174792
A29: 2023/4 | B29: 2.2612533 | C29: 2.2612533 | D29: 2.2612533
A30: 2024/1 | B30: 1 | C30: 0.2 | D30: 1
A31: 2024/2 | B31: 0.15 | C31: -0.5 | D31: 0.15
A32: 2024/3 | C32: -0.91654779 | D32: 0.22413212
A33: 2024/4 | C33: -0.83640611 | D33: 0.81459438
A34: 2025/1 | C34: -2.29174 | D34: 0.69212505
A35: 2025/2 | C35: -2.3538247 | D35: 0.84672384
A36: 2025/3 | C36: -1.1171544 | D36: 0.1796365
A37: 2025/4 | C37: -0.31322461 | D37: 0.25973534
A38: 2026/1 | C38: 0.22310594 | D38: 0.2467035
A39: 2026/2 | C39: 0.84592157 | D39: -0.051643963
A40: 2026/3 | C40: 1.0462684 | D40: -0.1320701
A41: 2026/4 | C41: 0.9699568 | D41: -0.16813374
A42: 2027/1 | C42: 0.98768336 | D42: -0.11284589
A43: 2027/2 | C43: 0.74202833 | D43: -0.077496467

Sheet Գծապատկեր 3.Զ.8
B1: Իրական տոկոսադրույք | C1: Սցենար Բ | D1: Սցենար Ա
A2: 2017/1 | B2: 4.2291378
A3: 2017/2 | B3: 3.4101399
A4: 2017/3 | B4: 2.5728546 | G4: Գծապատկեր 3.Զ.8. Իրական տոկոսադրույք, %
A5: 2017/4 | B5: 3.5085781
A6: 2018/1 | B6: 2.8774846
A7: 2018/2 | B7: 2.5496129
A8: 2018/3 | B8: 4.0213169
A9: 2018/4 | B9: 4.3806993
A10: 2019/1 | B10: 4.3663296
A11: 2019/2 | B11: 3.0239114
A12: 2019/3 | B12: 1.7492795
A13: 2019/4 | B13: 1.4411379
A14: 2020/1 | B14: 2.2383214
A15: 2020/2 | B15: 1.817151
A16: 2020/3 | B16: 0.84567984
... A28: 2023/3 | B28: 4.9518178
A29: 2023/4 | B29: 3.651099 | C29: 3.7550745 | D29: 3.6596503
A30: 2024/1 | C30: 3.8413785 | D30: 3.133635
A31: 2024/2 | C31: 3.8355393 | D31: 3.228586
A32: 2024/3 | C32: 2.8433028 | D32: 3.4579231
A33: 2024/4 | C33: 2.3743839 | D33: 3.8972664
A34: 2025/1 | C34: 2.2809139 | D34: 4.2279024
A35: 2025/2 | C35: 2.1574332 | D35: 4.2227927
A36: 2025/3 | C36: 2.3869191 | D36: 4.1141866
A37: 2025/4 | C37: 2.5139935 | D37: 4.0504734
A38: 2026/1 | C38: 2.8461072 | D38: 4.0856952
A39: 2026/2 | C39: 2.9492087 | D39: 4.1627137
A40: 2026/3 | C40: 3.0877666 | D40: 4.2497209
A41: 2026/4 | C41: 3.2867027 | D41: 4.3484022
... A43: 2027/2 | C43: 3.8381593 | D43: 4.6816913

Sheet Գծապատկեր 3.Զ.9
B1: Անվանական արդյունավետ փոխարժեք | C1: Սցենար Բ | D1: Սցենար Ա | E1: Stronger Fundamentals | F1: Weaker Fundamentals
A2: 2017/1 | B2: 94.34687
A3: 2017/2 | B3: 96.789425
A4: 2017/3 | B4: 98.475782 | I4: Գծապատկեր 3.Զ.9. Անվանական արդյունավետ փոխարժեք, ինդեքս
A5: 2017/4 | B5: 99.911676
A6: 2018/1 | B6: 103.04216
A7: 2018/2 | B7: 98.508848
A8: 2018/3 | B8: 94.806693
A9: 2018/4 | B9: 93.846212
A10: 2019/1 | B10: 94.170183
A11: 2019/2 | B11: 93.094423
A12: 2019/3 | B12: 91.4869
A13: 2019/4 | B13: 91.943187
A14: 2020/1 | B14: 91.102882
A15: 2020/2 | B15: 88.46862
A16: 2020/3 | B16: 91.65871
... A30: 2024/1 | B30: 61.417643
A31: 2024/2 | B31: 56.755663 | C31: 56.755663 | D31: 57.084948
A32: 2024/3 | C32: 65.630851 | D32: 64.503687
A33: 2024/4 | C33: 67.868581 | D33: 64.621986
A34: 2025/1 | C34: 69.553479 | D34: 65.195277
A35: 2025/2 | C35: 70.166041 | D35: 65.270729
A36: 2025/3 | C36: 69.021147 | D36: 64.472981
A37: 2025/4 | C37: 67.381265 | D37: 63.591422
A38: 2026/1 | C38: 65.63327 | D38: 62.776572
A39: 2026/2 | C39: 63.994237 | D39: 62.070797
A40: 2026/3 | C40: 62.549143 | D40: 61.458901
A41: 2026/4 | C41: 61.341445 | D41: 60.914017
A42: 2027/1 | C42: 60.368898 | D42: 60.513624
A43: 2027/2 | C43: 59.624463 | D43: 60.186144

Sheet Գծապատկեր 3.Զ.10
B1: Իրական արդյունավետ փոխարժեք | C1: Սցենար Բ | D1: Սցենար Ա
A2: 2017/1 | B2: 167.21454
A3: 2017/2 | B3: 168.71458
A4: 2017/3 | B4: 171.09945 | H4: Գծապատկեր 3.Զ.10. Իրական արդյունավետ փոխարժեք, ինդեքս
A5: 2017/4 | B5: 171.88595
A6: 2018/1 | B6: 174.32141
A7: 2018/2 | B7: 170.88861
A8: 2018/3 | B8: 166.83628
A9: 2018/4 | B9: 166.27104
A10: 2019/1 | B10: 166.46243
A11: 2019/2 | B11: 165.87054
A12: 2019/3 | B12: 164.96932
A13: 2019/4 | B13: 165.41395
A14: 2020/1 | B14: 164.90811
A15: 2020/2 | B15: 161.31215
A16: 2020/3 | B16: 165.03699
... A30: 2024/1 | B30: 139.97102
A31: 2024/2 | B31: 136.20622 | C31: 135.61804 | D31: 136.40516
A32: 2024/3 | C32: 144.61428 | D32: 143.84178
A33: 2024/4 | C33: 146.74735 | D33: 143.73092
A34: 2025/1 | C34: 148.48632 | D34: 144.04641
A35: 2025/2 | C35: 149.19774 | D35: 143.83941
A36: 2025/3 | C36: 148.16989 | D36: 142.77316
A37: 2025/4 | C37: 146.5443 | D37: 141.638
A38: 2026/1 | C38: 144.77935 | D38: 140.58735
A39: 2026/2 | C39: 143.09817 | D39: 139.66959
A40: 2026/3 | C40: 141.59413 | D40: 138.86978
A41: 2026/4 | C41: 140.32158 | D41: 138.16008
A42: 2027/1 | C42: 139.28296 | D42: 137.6195
A43: 2027/2 | C43: 138.47794 | D43: 137.17866

Sheet Գծապատկեր 3.Զ.11
B1: Գնաճային սպասումներ | C1: ='Գծապատկեր 3.Զ.5'!C1 -> Սցենար Բ | D1: ='Գծապատկեր 3.Զ.5'!D1 -> Սցենար Ա | E1: ='Գծապատկեր 3.Զ.5'!E1 -> Թիրախ | H1: Գծապատկեր 3.Զ.11: Մոդելի վրա հիմնված գնաճային սպասումների գնահատական (12 ամիս հետո), տ/տ, %
A2: 2017/1 | B2: 1.3023247 | E2: 4
A3: 2017/2 | B3: 1.7285679 | E3: 4
A4: 2017/3 | B4: 2.1093095 | E4: 4
A5: 2017/4 | B5: 1.8523912 | E5: 4
A6: 2018/1 | B6: 2.8129453 | E6: 4
A7: 2018/2 | B7: 2.9083061 | E7: 4
A8: 2018/3 | B8: 1.6790541 | E8: 4
A9: 2018/4 | B9: 1.432852 | E9: 4
A10: 2019/1 | B10: 1.007514 | E10: 4
A11: 2019/2 | B11: 2.4012066 | E11: 4
A12: 2019/3 | B12: 3.6124971 | E12: 4
A13: 2019/4 | B13: 3.679347 | E13: 4
... A28: 2023/3 | B28: 5.0679009 | E28: 4
A29: 2023/4 | B29: 5.5402557 | C29: 5.4341946 | D29: 5.5356473 | E29: 4
A30: 2024/1 | C30: 4.8809275 | D30: 5.5960384 | E30: 4
A31: 2024/2 | C31: 4.3715472 | D31: 4.9900166 | E31: 4
A32: 2024/3 | C32: 4.2207722 | D32: 5.0862309 | E32: 4
A33: 2024/4 | C33: 3.9245203 | D33: 4.9415907 | E33: 4
A34: 2025/1 | C34: 3.3674623 | D34: 4.5382537 | E34: 4
A35: 2025/2 | C35: 3.2139624 | D35: 4.4567891 | E35: 4
A36: 2025/3 | C36: 3.0289155 | D36: 4.4679515 | E36: 4
A37: 2025/4 | C37: 3.1751387 | D37: 4.4644872 | E37: 4
A38: 2026/1 | C38: 3.0845354 | D38: 4.4099339 | E38: 4
A39: 2026/2 | C39: 3.3258298 | D39: 4.3280465 | E39: 4
A40: 2026/3 | C40: 3.4978592 | D40: 4.2576778 | E40: 4
A41: 2026/4 | C41: 3.6195075 | D41: 4.1867116 | E41: 4
... A43: 2027/2 | C43: 3.69916 | D43: 3.8560346 | E43: 4

Sheet Գծապատկեր Ն.2.1
B1: ՏՏԿ | C1: Այլ | E1: Գծապատկեր Ն.2.1: Աշխատուժի և կապիտալի հոսքերը
A2: 44562 | B2: 0 | C2: 0 | E2: Նոր գրանցված ԱՁ-ներ
A3: 44593 | B3: 5 | C3: 20
A4: 44621 | B4: 1036 | C4: 198
A5: 44652 | B5: 284 | C5: 160
A6: 44682 | B6: 328 | C6: 142
A7: 44713 | B7: 201 | C7: 149
A8: 44743 | B8: 179 | C8: 121
A9: 44774 | B9: 205 | C9: 104
A10: 44805 | B10: 227 | C10: 127
A11: 44835 | B11: 574 | C11: 277
A12: 44866 | B12: 308 | C12: 208
A13: 44896 | B13: 221 | C13: 152
A14: 44927 | B14: 190 | C14: 172
... A30: 45413 | B30: 87 | C30: 171

Sheet Գծապատկեր Ն.2.2
B1: Իրական աճ, տ/տ | C1: Անվանական թողարկում | E1: Գծապատկեր Ն.2.2: ՏՏԿ ոլորտի թողարկումն ու իրական աճը
A2: 42736 | B2: 8.8 | C2: 17457.9 | E2: տ/տ իրական աճը, % (ձախ առանցք), համախառն թողարկումը, մլրդ դրամ (աջ առանցք)
A3: 42767 | B3: 5.3 | C3: 16334.2
A4: 42795 | B4: 3.1 | C4: 18871.6
A5: 42826 | B5: 5.8 | C5: 18684.8
A6: 42856 | B6: 4.1 | C6: 18124.5
A7: 42887 | B7: 2 | C7: 19353.5
A8: 42917 | B8: 0.1 | C8: 19390.7
A9: 42948 | B9: 0.1 | C9: 19603.7
A10: 42979 | B10: 6.4 | C10: 20384.1
A11: 43009 | B11: 14.6 | C11: 20699.7
A12: 43040 | B12: 8.4 | C12: 19636.1
A13: 43070 | B13: 6.7 | C13: 25183.5
A14: 43101 | B14: 7.3 | C14: 18797.3
... A89: 45383 | B89: -19.2 | C89: 46208.3

Sheet Գծապատկեր Ն.2.3
A1: Ծառայություն | B1: Տեսակարար կշիռ | D1: Գծապատկեր Ն.2.3: ՏՏ ոլորտի կազմակերպությունների բաշխումն ըստ մասնագիտացման
A2: Ծրագրավորում | B2: 17 | D2: Կշիռը ՏՏ ոլորտի կազմակերպություններում, %
A3: Վեբ դիզայն | B3: 15
A4: Հավելվածի մշակում | B4: 11
A5: ՏՏ ծառայություններ | B5: 11
A6: Համակարգի դիզայն | B6: 10
A7: Ինտերնետ և առևտուր | B7: 7
A8: Տվյալների բազաներ և MIS | B8: 7
A9: Ցանցային համակարգ | B9: 4
A10: Մուլտիմեդիա, գրաֆիկներ և խաղեր | B10: 3
A11: Հաշվապահություն և ֆինանսական | B11: 3
A12: Չիպի դիզայն և փորձարկում | B12: 2
A13: Այլ | B13: 10

Sheet Գծապատկեր Ն.2.4
B1: Մասնավոր աշախատավարձի աճ | C1: ՏՏԿ ոլորտ | E1: Գծապատկեր Ն.2.4: Մասնավոր հատվածի և ՏՏ ոլորտի միջին անվանական աշխատավարձի աճը
A2: 43466 | B2: 4.3597616 | C2: 8.9216991 | E2: տ/տ, %
A3: 43497 | B3: 0.22653792 | C3: 8.9395677
A4: 43525 | B4: 4.4064251 | C4: 7.2454772
A5: 43556 | B5: 3.1381951 | C5: -0.54259878
A6: 43586 | B6: 3.4580264 | C6: 17.020632
A7: 43617 | B7: 4.3463202 | C7: 14.576863
A8: 43647 | B8: 5.5004574 | C8: 8.4462431
A9: 43678 | B9: 2.5807074 | C9: 10.844161
A10: 43709 | B10: 5.1267326 | C10: 10.910401
A11: 43739 | B11: 3.576829 | C11: 13.147431
A12: 43770 | B12: 3.0162362 | C12: 6.961383
A13: 43800 | B13: 2.3819386 | C13: 6.5761996
A14: 43831 | B14: 8.8142702 | C14: 17.840965
... A65: 45383 | B65: 4.5 | C65: -3.2

Sheet Գծապատկեր Ն.4.1
B1: Փաստացի տոկոսադրույք | C1: Տոկոսադրույք - սցենար Ա | D1: Տոկոսադրույք - սցենար Բ | E1: Շուկայի սպասումներ (հարցում) | F1: 1 տարանոց պարտատոմսի եկամտաբերություն - փաստացի | G1: 1 տարանոց պարտատոմսի եկամտաբերություն - Սցենար Ա | H1: 1 տարանոց պարտատոմսի եկամտաբերություն - Սցենար Բ
A2: 1 | B2: 7
A3: =A2+1 -> 2 | B3: 7.5
A4: =A3+1 -> 3 | B4: 8 | K4: Գծապատկեր Ն.4.1: ԿՔՎՀ-2-ի շրջանակներում տիպային սցենարների և շուկայի ուղղորդիչ սցենարի պայմանական օրինակ, %
A5: =A4+1 -> 4 | B5: 8.25
A6: =A5+1 -> 5 | B6: 8.5
A7: =A6+1 -> 6 | B7: 8.5
A8: =A7+1 -> 7 | B8: 8.5
A9: =A8+1 -> 8 | B9: 8.25
A10: =A9+1 -> 9 | B10: 7.75
A11: =A10+1 -> 10 | B11: 7.5
A12: =A11+1 -> 11 | B12: 7.25
A13: =A12+1 -> 12 | B13: 7 | C13: 7 | D13: 7 | E13: 7 | F13: 7.6875 | G13: 8.5625 | H13: 6.8125
A14: =A13+1 -> 13 | C14: 7.25 | D14: 6.5 | E14: 6.875
A15: =A14+1 -> 14 | C15: 7.5 | D15: 6 | E15: 6.75
A16: =A15+1 -> 15 | C16: 7.75 | D16: 5.5 | E16: 6.625
A17: =A16+1 -> 16 | C17: 7.75 | D17: 5.25 | E17: 6.5

Sheet Գծապատկեր Ն.5.1
B1: Գնաճ | C1: ԿԲ մակրո հարցում * | E1: Հարցման արդյունքների միջակայք | F1: ԱՄՀ | G1: Կոնսենսուս
A2: 2017/1 | B2: -0.25117371
A3: 2017/2 | B3: 1.1426535
A4: 2017/3 | B4: 0.96681465
A5: 2017/4 | B5: 2.0323023
A6: 2018/1 | B6: 3.2830041
A7: 2018/2 | B7: 1.4954136
A8: 2018/3 | B8: 2.9752766
A9: 2018/4 | B9: 2.2038703
A10: 2019/1 | B10: 1.607652
A11: 2019/2 | B11: 2.3162027
A12: 2019/3 | B12: 0.82386138
A13: 2019/4 | B13: 0.90339559
... A29: 2023/4 | B29: -0.4266408
A30: 2024/1 | B30: -0.80146929 | C30: =B30 -> -0.80146929 | D30: =C30 -> -0.80146929
A31: 2024/2 | C31: 1.1775015 | D31: -1 | E31: 5.9
A32: 2024/3 | C32: 1.65 | D32: 0.5 | E32: 4.4
A33: 2024/4 | C33: 2.25 | D33: 0.5 | E33: 4.3 | F33: 3.1 | G33: 2.6
A34: 2025/1 | C34: 3 | D34: 0.75 | E34: 4.05
A35: 2025/2 | C35: 3.125 | D35: 0.75 | E35: 3.95
A36: 2025/3 | C36: 3.5 | D36: 1 | E36: 3.6
A37: 2025/4 | C37: 3.9 | D37: 1.25 | E37: 3.35 | F37: 3.7 | G37: 4.1
A38: 2026/1 | C38: 4 | D38: 1.5 | E38: 3.237289
A39: 2026/2 | C39: 4 | D39: 1.75 | E39: 3.038456
A40: 2026/3 | C40: 4 | D40: 1.75 | E40: 2.9968285
A41: 2026/4 | C41: 4 | D41: 2 | E41: 2.7 | F41: 4
A42: 2027/1 | C42: 4 | D42: 2.5 | E42: 2.5

Sheet Գծապատկեր Ն.5.2
B1: Վերաֆինանսավորման տոկոսադրույք | C1: ԿԲ մակրո հարցում *
A2: 2017/1 | B2: 5.87
A3: 2017/2 | B3: 5.46
A4: 2017/3 | B4: 5.01
A5: 2017/4 | B5: 5.68
A6: 2018/1 | B6: 6
A7: 2018/2 | B7: 5.78
A8: 2018/3 | B8: 6.03
A9: 2018/4 | B9: 6.15
A10: 2019/1 | B10: 5.71
A11: 2019/2 | B11: 5.76
A12: 2019/3 | B12: 5.68
A13: 2019/4 | B13: 5.42
... A29: 2023/4 | B29: 9.44
A30: 2024/1 | B30: 8.75 | C30: =B30 -> 8.75 | D30: =C30 -> 8.75
A31: 2024/2 | C31: 8.375 | D31: 7.75 | E31: 1.5
A32: 2024/3 | C32: 8.125 | D32: 7.5 | E32: 1.75
A33: 2024/4 | C33: 8 | D33: 7.25 | E33: 1.25
A34: 2025/1 | C34: 7.75 | D34: 7 | E34: 1.5
A35: 2025/2 | C35: 7.75 | D35: 6.75 | E35: 1.75
A36: 2025/3 | C36: 7.5 | D36: 6.5 | E36: 1.75
A37: 2025/4 | C37: 7.5 | D37: 6.25 | E37: 2
A38: 2026/1 | C38: 7.25 | D38: 6.25 | E38: 1.75
A39: 2026/2 | C39: 7.125 | D39: 6 | E39: 2
A40: 2026/3 | C40: 7.125 | D40: 6 | E40: 2
A41: 2026/4 | C41: 7 | D41: 6 | E41: 2.5
A42: 2027/1 | C42: 7.125 | D42: 5.75 | E42: 2.75

Sheet Գծապատկեր Ն.5.3
B1: Real GDP Growth | C1: ԿԲ մակրո հարցում * | E1: Հարցման արդյունքների միջակայք | F1: ԱՄՀ | G1: Կոնսենսուս
A2: 2017/1 | B2: 5.0222598
A3: 2017/2 | B3: 6.0058556
A4: 2017/3 | B4: 6.4189754
A5: 2017/4 | B5: 10.795839
A6: 2018/1 | B6: 7.592235
A7: 2018/2 | B7: 7.0843707
A8: 2018/3 | B8: 4.6639778
A9: 2018/4 | B9: 3.1699566
A10: 2019/1 | B10: 5.314171
A11: 2019/2 | B11: 7.330872
A12: 2019/3 | B12: 9.4546945
A13: 2019/4 | B13: 6.8031517
... A29: 2023/4 | B29: 7.4529421
A30: 2024/1 | B30: 7.5326126 | C30: =B30 -> 7.5326126 | D30: =C30 -> 7.5326126
A31: 2024/2 | C31: 6.65 | D31: 3.1 | E31: 7.9
A32: 2024/3 | C32: 6.5 | D32: 2.9162032 | E32: 7.0837968
A33: 2024/4 | C33: 6 | D33: 1.5316761 | E33: 7.4683239 | F33: 6 | G33: 5.9
A34: 2025/1 | C34: 5.75 | D34: 0.31375419 | E34: 7.6862458
A35: 2025/2 | C35: 5.6 | D35: 1.5 | E35: 6.5
A36: 2025/3 | C36: 5.6764721 | D36: 2 | E36: 6
A37: 2025/4 | C37: 5.6509376 | D37: 2.5 | E37: 5.5 | F37: 5.2 | G37: 4.5
A38: 2026/1 | C38: 5.5509376 | D38: 3 | E38: 5
A39: 2026/2 | C39: 5.5 | D39: 2.7315857 | E39: 5.2684143
A40: 2026/3 | C40: 5.5 | D40: 2.6450505 | E40: 5.3549495
A41: 2026/4 | C41: 5.5 | D41: 3.0397462 | E41: 4.9602538 | F41: 4.5
A42: 2027/1 | C42: 5.45 | D42: 3.4456238 | E42: 4.5543762

Sheet Գծապատկեր Ն.5.4
B1: Անվանական փոխարժեք (դրամ/դոլար) | C1: ԿԲ մակրո հարցում *
A2: 2017/1 | B2: 485.78333
A3: 2017/2 | B3: 483.36
A4: 2017/3 | B4: 478.63
A5: 2017/4 | B5: 483.09333
A6: 2018/1 | B6: 481.39333
A7: 2018/2 | B7: 482.68667
A8: 2018/3 | B8: 482.56
A9: 2018/4 | B9: 485.31
A10: 2019/1 | B10: 487.22667
A11: 2019/2 | B11: 481.10333
A12: 2019/3 | B12: 476.24333
A13: 2019/4 | B13: 477.20667
... A29: 2023/4 | B29: 403.77333
A30: 2024/1 | B30: 403.21667 | C30: =B30 -> 403.21667 | D30: =C30 -> 403.21667
A31: 2024/2 | C31: 395 | D31: 388 | E31: 27 | F31: 410
A32: 2024/3 | C32: 400 | D32: 390 | E32: 34 | F32: 410.25
A33: 2024/4 | C33: 404 | D33: 392 | E33: 34 | F33: 415
A34: 2025/1 | C34: 403.75 | D34: 390 | E34: 40 | F34: 420
A35: 2025/2 | C35: 408.5 | D35: 390 | E35: 50 | F35: 420
A36: 2025/3 | C36: 410 | D36: 385 | E36: 65 | F36: 422.5
A37: 2025/4 | C37: 410 | D37: 380 | E37: 90 | F37: 420
A38: 2026/1 | C38: 411 | D38: 385 | E38: 95 | F38: 422.5
A39: 2026/2 | C39: 412 | D39: 390 | E39: 90 | F39: 425
A40: 2026/3 | C40: 415 | D40: 390 | E40: 90 | F40: 425
A41: 2026/4 | C41: 416 | D41: 395 | E41: 85 | F41: 427.5
A42: 2027/1 | C42: 415 | D42: 399.5 | E42: 80.5
