Workbook
Name Company: Sheet1!$F$10
Name Date: Sheet1!$F$12
Name IF03_Sheet4_1: Sheet4!#REF!
Name IF03_Sheet5_1: Sheet18!$C$11
Name IF03_Sheet5_2: Sheet18!$G$11
Name Name: Sheet1!$B$6
Name x05IF3_N2: Sheet1!$C$31
Name x10IF3_N3: Sheet1!$D$31
Name x10IF3_N5: Sheet1!$E$31
Name x10IF3_SinglBor_RiskAmount: Sheet1!$K$15
Name x10IF3_SinglContr_Liab: Sheet1!$J$15
Name xh53IF3_Cur_10Day_Dif: Sheet24!$C$33
Name xh53IF3_Cur_10Day_Dif_NoDev: Sheet24!$C$131
Name xh53IF3_Cur_10Day_Dif_SpecDev: Sheet24!$C$231
Name xh53IF3_Cur_10Day_Lim: Sheet24!$C$32
Name xh53IF3_Cur_10Day_Lim_NoDev: Sheet24!$C$130
Name xh53IF3_Cur_10Day_Lim_SpecDev: Sheet24!$C$230
Name xh53IF3_Cur_10EndDay: Sheet24!$C$31
Name xh53IF3_Cur_10EndDay_NoDev: Sheet24!$C$129
Name xh53IF3_Cur_10EndDay_SpecDev: Sheet24!$C$229
Name xh53IF3_Cur_11Day_Dif: Sheet24!$C$36
Name xh53IF3_Cur_11Day_Dif_NoDev: Sheet24!$C$134
Name xh53IF3_Cur_11Day_Dif_SpecDev: Sheet24!$C$234
Name xh53IF3_Cur_11Day_Lim: Sheet24!$C$35
Name xh53IF3_Cur_11Day_Lim_NoDev: Sheet24!$C$133
Name xh53IF3_Cur_11Day_Lim_SpecDev: Sheet24!$C$233
Name xh53IF3_Cur_11EndDay: Sheet24!$C$34
Name xh53IF3_Cur_11EndDay_NoDev: Sheet24!$C$132
Name xh53IF3_Cur_11EndDay_SpecDev: Sheet24!$C$232
Name xh53IF3_Cur_12Day_Dif: Sheet24!$C$39
Name xh53IF3_Cur_12Day_Dif_NoDev: Sheet24!$C$137
Name xh53IF3_Cur_12Day_Dif_SpecDev: Sheet24!$C$237
Name xh53IF3_Cur_12Day_Lim: Sheet24!$C$38
Name xh53IF3_Cur_12Day_Lim_NoDev: Sheet24!$C$136
Name xh53IF3_Cur_12Day_Lim_SpecDev: Sheet24!$C$236
Name xh53IF3_Cur_12EndDay: Sheet24!$C$37
Name xh53IF3_Cur_12EndDay_NoDev: Sheet24!$C$135
Name xh53IF3_Cur_12EndDay_SpecDev: Sheet24!$C$235
Name xh53IF3_Cur_13Day_Dif: Sheet24!$C$42
Name xh53IF3_Cur_13Day_Dif_NoDev: Sheet24!$C$140
Name xh53IF3_Cur_13Day_Dif_SpecDev: Sheet24!$C$240
Name xh53IF3_Cur_13Day_Lim: Sheet24!$C$41
Name xh53IF3_Cur_13Day_Lim_NoDev: Sheet24!$C$139
Name xh53IF3_Cur_13Day_Lim_SpecDev: Sheet24!$C$239
Name xh53IF3_Cur_13EndDay: Sheet24!$C$40
Name xh53IF3_Cur_13EndDay_NoDev: Sheet24!$C$138
Name xh53IF3_Cur_13EndDay_SpecDev: Sheet24!$C$238
Name xh53IF3_Cur_14Day_Dif: Sheet24!$C$45
Name xh53IF3_Cur_14Day_Dif_NoDev: Sheet24!$C$143
Name xh53IF3_Cur_14Day_Dif_SpecDev: Sheet24!$C$243
Name xh53IF3_Cur_14Day_Lim: Sheet24!$C$44
Name xh53IF3_Cur_14Day_Lim_NoDev: Sheet24!$C$142
Name xh53IF3_Cur_14Day_Lim_SpecDev: Sheet24!$C$242
Name xh53IF3_Cur_14EndDay: Sheet24!$C$43
Name xh53IF3_Cur_14EndDay_NoDev: Sheet24!$C$141
Name xh53IF3_Cur_14EndDay_SpecDev: Sheet24!$C$241
Name xh53IF3_Cur_15Day_Dif: Sheet24!$C$48
Name xh53IF3_Cur_15Day_Dif_NoDev: Sheet24!$C$146
Name xh53IF3_Cur_15Day_Dif_SpecDev: Sheet24!$C$246
Name xh53IF3_Cur_15Day_Lim: Sheet24!$C$47

Sheet Sheet1
A1: 2021_January | B1: Ð²ìºÈì²Ì Ð³ëï³ïí³Í ¿ Ð³Û³ëï³ÝÇ Ð³Ýñ³å»ïáõÃÛ³Ý Ï»ÝïñáÝ³Ï³Ý µ³ÝÏÇ 2020 Ãí³Ï³ÝÇ դեկտեմբերի 29-Ç ÃÇí 228-Ü áñáßÙ³Ùµ §Ð²ìºÈì²Ì 3 §²å³Ñáí³·ñ³Ï³Ý ÁÝÏ»ñáõÃÛáõÝÝ»ñÇ Ñ³ßí»ïíáõÃÛáõÝÝ»ñÇ Ó¨»ñÁ, ¹ñ³ÝóáõÙ Ý»ñ³éíáÕ ï»Õ»Ï³ïíáõÃÛáõÝÁ, Ý»ñÏ³Û³óÝ»Éáõ Ï³ñ·Á ¨ Å³ÙÏ»ïÝ»ñÁ¦ Ï³ÝáÝ³Ï³ñ· 3/04 Ñ³í»Éí³ÍÇ
B5: Ð²ÞìºîìàôÂÚàôÜ ÂÆì 3
B6: Ü1.1, Ü1.2, Ü2, Ü3, Ü4, Ü5, Ü6.1, Ü6.2 ÑÇÙÝ³Ï³Ý ïÝï»ë³Ï³Ý ÝáñÙ³ïÇíÝ»ñÇ í»ñ³µ»ñÛ³É
B7: (³Ùë³Ï³Ý)
E10: ²å³Ñáí³·ñ³Ï³Ý ÁÝÏ»ñáõÃÛ³Ý ³Ýí³ÝáõÙª
E12: ²Ùë³ÃÇíª
B14: ÀÝ¹Ñ³Ýáõñ Ï³åÇï³É (Ü1.1 ÝáñÙ³ïÇíÇ Ù»ÍáõÃÛáõÝÁ Ñ³ßí³ñÏ»ÉÇë) | C14: ÀÝ¹Ñ³Ýáõñ Ï³åÇï³É (ÝáñÙ³ïÇíÝ»ñÇ` µ³ó³éáõÃÛ³Ùµ Ü1.1 ÝáñÙ³ïÇíÇ, Ù»ÍáõÃÛáõÝÝ»ñÁ Ñ³ßí³ñÏ»ÉÇë) | D14: Üí³½³·áõÛÝ Ï³åÇï³É | E14: ä³Ñ³ÝçíáÕ Ï³åÇï³ÉÇ Ù»ÍáõÃÛáõÝ | F14: ¶áñÍ³éÝ³Ï³Ý éÇëÏÇ Ñ³Ù³ñ å³Ñ³ÝçíáÕ Ï³åÇï³ÉÇ Ù»ÍáõÃÛáõÝ | G14: ²ñï³ñÅáõÃ³ÛÇÝ éÇëÏÇ Ñ³Ù³ñ å³Ñ³ÝçáÕ Ï³åÇï³ÉÇ Ù»ÍáõÃÛáõÝ | H14: ì³ñÏ³ÛÇÝ éÇëÏÇ Ñ³Ù³ñ å³Ñ³ÝçíáÕ Ï³åÇï³ÉÇ Ù»ÍáõÃÛáõÝ | I14: àã ÏÛ³ÝùÇ ³Ý¹»ñé³ÛÃÇÝ·Ç éÇëÏÇ Ñ³Ù³ñ å³Ñ³ÝçíáÕ Ï³åÇï³ÉÇ Ù»ÍáõÃÛáõÝ | J14: ²éáÕçáõÃÛ³Ý ³Ý¹»ñé³ÛÃÇÝ·Ç éÇëÏÇ Ñ³Ù³ñ å³Ñ³ÝçíáÕ Ï³åÇï³ÉÇ Ù»ÍáõÃÛáõÝ | K14: ÎÛ³ÝùÇ ³Ý¹»ñé³ÛÃÇÝ·Ç éÇëÏÇ Ñ³Ù³ñ å³Ñ³ÝçíáÕ Ï³åÇï³ÉÇ Ù»ÍáõÃÛáõÝ | L14: ´³ñÓñ Çñ³óí»ÉÇ ³ÏïÇíÝ»ñ | M14: ì×³ñÙ³Ý »ÝÃ³Ï³ å³ñï³íáñáõÃÛáõÝÝ»ñ | N14: ²å³Ñáí³·ñáõÃÛ³Ý Ù»Ï éÇëÏÇ ·Íáí ëï³ÝÓÝ³Í å³ñï³íáñáõÃÛ³Ý ½áõï Ù»ÍáõÃÛáõÝ | O14: Ø»Ï ÷áË³éáõÇ ·Íáí éÇëÏÇ ³é³í»É³·áõÛÝ ã³÷
B15: 1 | C15: 2 | D15: 3 | E15: 4 | F15: 5 | G15: 6 | H15: 7 | I15: 8 | J15: 9 | K15: 10 | L15: 11 | M15: 12 | N15: 13 | O15: 14
B16: =IFERROR(Sheet2!M43,0) -> 0 | C16: =IFERROR(Sheet2!L43,0) -> 0 | D16: =Sheet3!G12 -> 0 | E16: =IFERROR(F16+SQRT(SUM(Sheet26!C10:G14)),0) -> 0 | F16: =IFERROR(Sheet4!H11+Sheet4!L16,0) -> 0 | G16: =IFERROR(Sheet10!F38,0) -> 0 | H16: =IFERROR(0.12*(Sheet5!AC38+Sheet6!T39+Sheet7!AB39+Sheet8!AD38)+Sheet9!C9,0) -> 0 | I16: =IFERROR(SQRT(Sheet12!B11^2+(SQRT(Sheet13!B10^2+Sheet14!B10^2))^2+0.5*Sheet12!B11*(SQRT(Sheet13!B10^2+Sheet14!B10^2))),0) -> 0 | J16: =IFERROR(SQRT(Sheet15!B11^2+Sheet16!B10^2+0.5*Sheet15!B11*Sheet16!B10),0) -> 0 | K16: =IFERROR(Sheet17!B10,0) -> 0 | L16: =Sheet18!D19 -> 0 | M16: =Sheet18!K19 -> 0
L17: =Sheet18!D27 -> 0 | M17: =Sheet18!K27 -> 0
L18: =Sheet18!D35 -> 0 | M18: =Sheet18!K35 -> 0
L19: =Sheet18!D43 -> 0 | M19: =Sheet18!K43 -> 0
L20: =Sheet18!D51 -> 0 | M20: =Sheet18!K51 -> 0
E25: `
H28: Աղյուսակ 2.
H29: (հազար դրամ)
B30: Ü1.1 ÝáñÙ³ïÇíÇ Ù»ÍáõÃÛáõÝ | C30: Ü1.2 ÝáñÙ³ïÇíÇ Ù»ÍáõÃÛáõÝ | D30: Ü2 ÝáñÙ³ïÇíÇ Ù»ÍáõÃÛáõÝ | E30: Ü3 ÝáñÙ³ïÇíÇ Ù»ÍáõÃÛáõÝ | F30: Ü3 ÝáñÙ³ïÇíÇ Ù»ÍáõÃÛáõÝ »ñÏñ³ß³ñÅÇ éÇëÏÇó ³å³Ñáí³·ñí³Í å³ÛÙ³Ý³·ñ»ñÇ ·Íáí | H30: Ü5 ÝáñÙ³ïÇíÇ Ù»ÍáõÃÛáõÝ
B31: 1 | C31: 2 | D31: 3 | E31: 4 | F31: 5 | G31: 6 | H31: 7
B32: =IFERROR(B16/D16,"") | C32: =IFERROR(C16/E16,"") | D32: =IFERROR(L16/M16,"") | E32: =IFERROR(N16/$C$16,"") | F32: ÊáõÙµ 1 | G32: =IFERROR(((Sheet19.1!C12-Sheet19.1!D12)/$C$16),"") | H32: =IFERROR(O16/$C$16,"")
D33: =IFERROR(L17/M17,"") | E33: =IFERROR(N17/$C$16,"") | F33: ÊáõÙµ 2 | G33: =IFERROR(((Sheet19.1!C13-Sheet19.1!D13)/$C$16),"") | H33: =IFERROR(O17/$C$16,"")
D34: =IFERROR(L18/M18,"") | E34: =IFERROR(N18/$C$16,"") | F34: ÊáõÙµ 3 | G34: =IFERROR(((Sheet19.1!C14-Sheet19.1!D14)/$C$16),"") | H34: =IFERROR(O18/$C$16,"")
D35: =IFERROR(L19/M19,"") | E35: =IFERROR(N19/$C$16,"") | F35: ÊáõÙµ 4 | G35: =IFERROR(((Sheet19.1!C15-Sheet19.1!D15)/$C$16),"") | H35: =IFERROR(O19/$C$16,"")
D36: =IFERROR(L20/M20,"") | E36: =IFERROR(N20/$C$16,"") | F36: ÊáõÙµ 5 | G36: =IFERROR(((Sheet19.1!C16-Sheet19.1!D16)/$C$16),"") | H36: =IFERROR(O20/$C$16,"")
E37: =IFERROR(N21/$C$16,"") | F37: ÊáõÙµ 6 | G37: =IFERROR(((Sheet19.1!C17-Sheet19.1!D17)/$C$16),"") | H37: =IFERROR(O21/$C$16,"")
E38: =IFERROR(N22/$C$16,"") | F38: ÊáõÙµ 7 | G38: =IFERROR(((Sheet19.1!C18-Sheet19.1!D18)/$C$16),"") | H38: =IFERROR(O22/$C$16,"")
E39: =IFERROR(N23/$C$16,"") | H39: =IFERROR(O23/$C$16,"")
E40: =IFERROR(N24/$C$16,"") | H40: =IFERROR(O24/$C$16,"")
E41: =IFERROR(N25/$C$16,"") | H41: =IFERROR(O25/$C$16,"")
E44: ²å³Ñáí³·ñ³Ï³Ý ÁÝÏ»ñáõÃÛ³Ý í³ñãáõÃÛ³Ý Ý³Ë³·³Ñª
E45: (¶áñÍ³¹Çñ ïÝûñ»Ý)
E47: ¶ÉË³íáñ Ñ³ßí³å³Ñª
E49: ä³ï³ëË³Ý³ïáõ ³Ïïáõ³ñª

Sheet Sheet2
B2: ²ÔÚàôê²Î 3. ÀÜ¸Ð²Üàôð Î²äÆî²ÈÆ ºì ¸ð² î²ððºðÆ Ð²Þì²ðÎÜ Àêî úðºðÆ
F4: ²å³Ñáí³·ñ³Ï³Ý ÁÝÏ»ñáõÃÛ³Ý ³Ýí³ÝáõÙª | G4: =Company -> 0
F6: ²Ùë³ÃÇíª | G6: =Date -> 0
M8: (Ñ³½³ñ ¹ñ³Ù)
B9: ²Ùëí³ ûñ»ñ | C9: Ð³ßí»Ïßé³ÛÇÝ Ù»ÍáõÃÛáõÝÝ»ñ | F9: ÜáñÙ³ïÇí³ÛÇÝ Ï³åÇï³ÉÇ Ñ³ßí³ñÏÇ Ñ³Ù³ñ ÑÇÙÝ³Ï³Ý Ï³åÇï³ÉÇ Ñ³ßí»Ïßé³ÛÇÝ Ù»ÍáõÃÛáõÝÇó Ýí³½»óíáÕ ·áõÙ³ñÝ»ñ | G9: ÜáñÙ³ïÇí³ÛÇÝ Éñ³óáõóÇã Ï³åÇï³ÉÇ Ñ³ßí³ñÏÇÝ ãÙ³ëÝ³ÏóáÕ ·áõÙ³ñÝ»ñ | H9: ÜáñÙ³ïÇíÝ»ñÇ Ñ³ßí³ñÏÇÝ Ù³ëÝ³ÏóáÕ
C10: ÐÇÙÝ³Ï³Ý Ï³åÇï³É | D10: Èñ³óáõóÇã Ï³åÇï³É | E10: ÀÝ¹Ñ³Ýáõñ Ï³åÇï³É | H10: ÐÇÙÝ³Ï³Ý Ï³åÇï³É | I10: Èñ³óáõóÇã Ï³åÇï³É | J10: Èñ³óáõóÇã Ï³åÇï³É (áã ³í»ÉÇ, ù³Ý ÑÇÙÝ³Ï³Ý Ï³åÇï³ÉÇ 50%-Á) | K10: Èñ³óáõóÇã Ï³åÇï³É (áã ³í»ÉÇ, ù³Ý ÑÇÙÝ³Ï³Ý Ï³åÇï³ÉÇ 25%-Á) | L10: ÀÝ¹Ñ³Ýáõñ Ï³åÇï³É (ÝáñÙ³ïÇíÝ»ñÇ` µ³ó³éáõÃÛ³Ùµ Ü1.1 ÝáñÙ³ïÇíÇ, Ù»ÍáõÃÛáõÝÝ»ñÁ Ñ³ßí³ñÏ»ÉÇë) | M10: ÀÝ¹Ñ³Ýáõñ Ï³åÇï³É (Ü1.1 ÝáñÙ³ïÇíÇ Ù»ÍáõÃÛáõÝÁ Ñ³ßí³ñÏ»ÉÇë)
C11: 1 | D11: 2 | E11: 3 | F11: 4 | G11: 5 | H11: 6 | I11: 7 | J11: 8 | K11: 9 | L11: 10 | M11: 11
B12: 1 | E12: =C12+D12 -> 0 | H12: =C12-F12 -> 0 | I12: =D12-G12 -> 0 | J12: =MIN(I12,H12*0.5) -> 0 | K12: =MIN(H12*0.25,I12) -> 0 | L12: =SUM(H12,J12) -> 0 | M12: =SUM(H12,K12) -> 0
B13: 2 | E13: =C13+D13 -> 0 | H13: =C13-F13 -> 0 | I13: =D13-G13 -> 0 | J13: =MIN(I13,H13*0.5) -> 0 | K13: =MIN(H13*0.25,I13) -> 0 | L13: =SUM(H13,J13) -> 0 | M13: =SUM(H13,K13) -> 0
B14: 3 | E14: =C14+D14 -> 0 | H14: =C14-F14 -> 0 | I14: =D14-G14 -> 0 | J14: =MIN(I14,H14*0.5) -> 0 | K14: =MIN(H14*0.25,I14) -> 0 | L14: =SUM(H14,J14) -> 0 | M14: =SUM(H14,K14) -> 0
B15: 4 | E15: =C15+D15 -> 0 | H15: =C15-F15 -> 0 | I15: =D15-G15 -> 0 | J15: =MIN(I15,H15*0.5) -> 0 | K15: =MIN(H15*0.25,I15) -> 0 | L15: =SUM(H15,J15) -> 0 | M15: =SUM(H15,K15) -> 0
B16: 5 | E16: =C16+D16 -> 0 | H16: =C16-F16 -> 0 | I16: =D16-G16 -> 0 | J16: =MIN(I16,H16*0.5) -> 0 | K16: =MIN(H16*0.25,I16) -> 0 | L16: =SUM(H16,J16) -> 0 | M16: =SUM(H16,K16) -> 0
B17: 6 | E17: =C17+D17 -> 0 | H17: =C17-F17 -> 0 | I17: =D17-G17 -> 0 | J17: =MIN(I17,H17*0.5) -> 0 | K17: =MIN(H17*0.25,I17) -> 0 | L17: =SUM(H17,J17) -> 0 | M17: =SUM(H17,K17) -> 0
B18: 7 | E18: =C18+D18 -> 0 | H18: =C18-F18 -> 0 | I18: =D18-G18 -> 0 | J18: =MIN(I18,H18*0.5) -> 0 | K18: =MIN(H18*0.25,I18) -> 0 | L18: =SUM(H18,J18) -> 0 | M18: =SUM(H18,K18) -> 0
B19: 8 | E19: =C19+D19 -> 0 | H19: =C19-F19 -> 0 | I19: =D19-G19 -> 0 | J19: =MIN(I19,H19*0.5) -> 0 | K19: =MIN(H19*0.25,I19) -> 0 | L19: =SUM(H19,J19) -> 0 | M19: =SUM(H19,K19) -> 0
B20: 9 | E20: =C20+D20 -> 0 | H20: =C20-F20 -> 0 | I20: =D20-G20 -> 0 | J20: =MIN(I20,H20*0.5) -> 0 | K20: =MIN(H20*0.25,I20) -> 0 | L20: =SUM(H20,J20) -> 0 | M20: =SUM(H20,K20) -> 0
B21: 10 | E21: =C21+D21 -> 0 | H21: =C21-F21 -> 0 | I21: =D21-G21 -> 0 | J21: =MIN(I21,H21*0.5) -> 0 | K21: =MIN(H21*0.25,I21) -> 0 | L21: =SUM(H21,J21) -> 0 | M21: =SUM(H21,K21) -> 0
B22: 11 | E22: =C22+D22 -> 0 | H22: =C22-F22 -> 0 | I22: =D22-G22 -> 0 | J22: =MIN(I22,H22*0.5) -> 0 | K22: =MIN(H22*0.25,I22) -> 0 | L22: =SUM(H22,J22) -> 0 | M22: =SUM(H22,K22) -> 0
B23: 12 | E23: =C23+D23 -> 0 | H23: =C23-F23 -> 0 | I23: =D23-G23 -> 0 | J23: =MIN(I23,H23*0.5) -> 0 | K23: =MIN(H23*0.25,I23) -> 0 | L23: =SUM(H23,J23) -> 0 | M23: =SUM(H23,K23) -> 0
... B42: 31 | E42: =C42+D42 -> 0 | H42: =C42-F42 -> 0 | I42: =D42-G42 -> 0 | J42: =MIN(I42,H42*0.5) -> 0 | K42: =MIN(H42*0.25,I42) -> 0 | L42: =SUM(H42,J42) -> 0 | M42: =SUM(H42,K42) -> 0
B43: ØÇçÇÝ | C43: =SUM(C12:C42)/LEFT(TEXT(Date,"dd/mm/yy"),2) -> #DIV/0! | D43: =SUM(D12:D42)/LEFT(TEXT(Date,"dd/mm/yy"),2) -> #DIV/0! | E43: =SUM(E12:E42)/LEFT(TEXT(Date,"dd/mm/yy"),2) -> #DIV/0! | F43: =SUM(F12:F42)/LEFT(TEXT(Date,"dd/mm/yy"),2) -> #DIV/0! | G43: =SUM(G12:G42)/LEFT(TEXT(Date,"dd/mm/yy"),2) -> #DIV/0! | H43: =SUM(H12:H42)/LEFT(TEXT(Date,"dd/mm/yy"),2) -> #DIV/0! | I43: =SUM(I12:I42)/LEFT(TEXT(Date,"dd/mm/yy"),2) -> #DIV/0! | J43: =SUM(J12:J42)/LEFT(TEXT(Date,"dd/mm/yy"),2) -> #DIV/0! | ... M43: =SUM(M12:M42)/LEFT(TEXT(Date,"dd/mm/yy"),2) -> #DIV/0!
E46: ²å³Ñáí³·ñ³Ï³Ý ÁÝÏ»ñáõÃÛ³Ý í³ñãáõÃÛ³Ý Ý³Ë³·³Ñª | F46: =Sheet1!F44 -> 0
E47: (¶áñÍ³¹Çñ ïÝûñ»Ý)
E49: ¶ÉË³íáñ Ñ³ßí³å³Ñª | F49: =Sheet1!F47 -> 0
E51: ä³ï³ëË³Ý³ïáõ ³Ïïáõ³ñª | F51: =Sheet1!F49 -> 0

Sheet Sheet3
B2: ՆՎԱԶԱԳՈՒՅՆ ԿԱՊԻՏԱԼԻ ՀԱՇՎԱՐԿ
C4: ²å³Ñáí³·ñ³Ï³Ý ÁÝÏ»ñáõÃÛ³Ý ³Ýí³ÝáõÙª | D4: =Company -> 0
C6: ²Ùë³ÃÇíª | D6: =Date -> 0
G8: ²ÕÛáõë³Ï 4
G9: (Ñ³½³ñ ¹ñ³Ù)
B10: ¶Í³ÛÇÝ Ù»Ãá¹áí Ñ³ßí³ñÏíáÕ Ï³åÇï³ÉÇ Ýí³½³·áõÛÝ Ù»ÍáõÃÛáõÝ áã ÏÛ³ÝùÇ ³å³Ñáí³·ñáõÃÛáõÝ Çñ³Ï³Ý³óÝáÕ ÁÝÏ»ñáõÃÛáõÝÝ»ñÇ Ñ³Ù³ñ | C10: ¶Í³ÛÇÝ Ù»Ãá¹áí Ñ³ßí³ñÏíáÕ Ï³åÇï³ÉÇ Ýí³½³·áõÛÝ Ù»ÍáõÃÛáõÝ ÏÛ³ÝùÇ ³å³Ñáí³·ñáõÃÛáõÝ Çñ³Ï³Ý³óÝáÕ ÁÝÏ»ñáõÃÛáõÝÝ»ñÇ Ñ³Ù³ñ | D10: ¶Í³ÛÇÝ Ù»Ãá¹áí Ñ³ßí³ñÏíáÕ Ï³åÇï³ÉÇ Ýí³½³·áõÛÝ Ù»ÍáõÃÛáõÝ | E10: Üí³½³·áõÛÝ Ï³åÇï³ÉÇ Ñ³ßí³ñÏ³ÛÇÝ Ù»ÍáõÃÛáõÝ | F10: Üí³½³·áõÛÝ Ï³åÇï³ÉÇ µ³ó³ñÓ³Ï Ù»ÍáõÃÛáõÝ | G10: Üí³½³·áõÛÝ Ï³åÇï³ÉÇ Ù»ÍáõÃÛáõÝ
B11: 1 | C11: 2 | D11: 3 | E11: 4 | F11: 5 | G11: 6
B12: =SUMPRODUCT(C18:C36,D18:D36)+SUMPRODUCT(E18:E36,F18:F36) -> 0 | C12: =C41*0.037+D41*0.0007 -> 0 | D12: =+B12+C12 -> 0 | E12: =IFERROR(MIN(MAX(D12,0.25*Sheet1!E16),0.45*Sheet1!E16),0) -> 0 | G12: =MAX(E12,F12) -> 0
F13: ²ÕÛáõë³Ï 5
F14: (Ñ³½³ñ ¹ñ³Ù)
A15: ²å³Ñáí³·ñáõÃÛ³Ý ¹³ë | C15: îåi | D15: ¶ïåi | E15: ²i | F15: ¶³i
A16: 1 | C16: 2 | D16: 3 | E16: 4 | F16: 5
A17: 1 | B17: àã ÏÛ³ÝùÇ ³å³Ñáí³·ñáõÃÛáõÝ, ³Û¹ ÃíáõÙª | C17: =SUM(C18:C36) -> 0 | E17: =SUM(E18:E36) -> 0
A18: 1.1 | B18: ¸Åµ³Ëï å³ï³Ñ³ñÝ»ñÇó ³å³Ñáí³·ñáõÃÛáõÝ | D18: 0.119 | F18: 0.08
A19: 1.2 | B19: ²éáÕçáõÃÛ³Ý ³å³Ñáí³·ñáõÃÛáõÝ | D19: 0.089 | F19: 0.066
A20: 1.3 | B20: ò³Ù³ù³ÛÇÝ ïñ³ÝëåáñïÇ ³å³Ñáí³·ñáõÃÛáõÝ | D20: 0.075 | F20: 0.075
A21: 1.4 | B21: ºñÏ³ÃáõÕ³ÛÇÝ ïñ³ÝëåáñïÇ ³å³Ñáí³·ñáõÃÛáõÝ | D21: 0.075 | F21: 0.075
A22: 1.5 | B22: ú¹³Ý³í»ñÇ ³å³Ñáí³·ñáõÃÛáõÝ | D22: 0.103 | F22: 0.14
A23: 1.6 | B23: æñ³ÛÇÝ ÷áË³¹ñ³ÙÇçáóÝ»ñÇ ³å³Ñáí³·ñáõÃÛáõÝ | D23: 0.103 | F23: 0.14
A24: 1.7 | B24: öáË³¹ñíáÕ ·áõÛùÇ (µ»éÝ»ñÇ) ³å³Ñáí³·ñáõÃÛáõÝ | D24: 0.103 | F24: 0.14
A25: 1.8 | B25: Ðñ¹»ÑÇó ¨ µÝ³Ï³Ý ³Õ»ïÝ»ñÇó ³å³Ñáí³·ñáõÃÛáõÝ | D25: 0.094 | F25: 0.075
A26: 1.9 | B26: ¶áõÛùÇÝ Ñ³ëóí³Í ³ÛÉ íÝ³ëÝ»ñÇó ³å³Ñáí³·ñáõÃÛáõÝ | D26: 0.094 | F26: 0.075
A27: 1.10 | B27: ò³Ù³ù³ÛÇÝ ³íïáïñ³Ýëåáñï³ÛÇÝ ÙÇçáóÝ»ñÇ û·ï³·áñÍáõÙÇó µËáÕ å³ï³ëË³Ý³ïíáõÃÛ³Ý Ï³Ù³íáñ ³å³Ñáí³·ñáõÃÛáõÝ | D27: 0.085 | F27: 0.094
A28: 1.11 | B28: ú¹³Ý³í»ñÇ (Ý³¨ª µ»éÝ³÷áË³¹ñáÕ) û·ï³·áñÍáõÙÇó µËáÕ å³ï³ëË³Ý³ïíáõÃÛ³Ý ³å³Ñáí³·ñáõÃÛáõÝ | D28: 0.103 | F28: 0.14
A29: 1.12 | B29: æñ³ÛÇÝ ÷áË³¹ñ³ÙÇçáóÝ»ñÇ û·ï³·áñÍáõÙÇó µËáÕ å³ï³ëË³Ý³ïíáõÃÛ³Ý ³å³Ñáí³·ñáõÃÛáõÝ | D29: 0.103 | F29: 0.14
A30: 1.13 | B30: ÀÝ¹Ñ³Ýáõñ å³ï³ëË³Ý³ïíáõÃÛ³Ý ³å³Ñáí³·ñáõÃÛáõÝ | D30: 0.103 | F30: 0.131
A31: 1.14 | B31: ì³ñÏÇ ³å³Ñáí³·ñáõÃÛáõÝ | D31: 0.177 | F31: 0.113
A32: 1.15 | B32: ºñ³ßËÇùÇ ïñ³Ù³¹ñáõÙ | D32: 0.177 | F32: 0.113
A33: 1.16 | B33: üÇÝ³Ýë³Ï³Ý íÝ³ëÝ»ñÇ ³å³Ñáí³·ñáõÃÛáõÝ | D33: 0.186 | F33: 0.122
A34: 1.17 | B34: ¸³ï³Ï³Ý ¨ ³ñï³¹³ï³Ï³Ý Í³Ëë»ñÇ ³å³Ñáí³·ñáõÃÛáõÝ | D34: 0.113 | F34: 0.066
A35: 1.18 | B35: ²ç³ÏóáõÃÛ³Ý ³å³Ñáí³·ñáõÃÛáõÝ | D35: 0.186 | F35: 0.085
A36: 1.19 | B36: ò³Ù³ù³ÛÇÝ ³íïáïñ³Ýëåáñï³ÛÇÝ ÙÇçáóÝ»ñÇ û·ï³·áñÍáõÙÇó µËáÕ å³ï³ëË³Ý³ïíáõÃÛ³Ý å³ñï³¹Çñ ³å³Ñáí³·ñáõÃÛáõÝ | D36: 0.085 | F36: 0.094
D37: ²ÕÛáõë³Ï 6
D38: (Ñ³½³ñ ¹ñ³Ù)
A39: ²å³Ñáí³·ñáõÃÛ³Ý ¹³ë | C39: ՏՊկյանք | D39: ՌԿ
A40: 1 | C40: 2 | D40: 3
A41: 2 | B41: ÎÛ³ÝùÇ ³å³Ñáí³·ñáõÃÛáõÝ, ³Û¹ ÃíáõÙª | C41: =SUM(C42:C47) -> 0 | D41: =SUM(D42:D47) -> 0
A42: 2.1 | B42: ÎÛ³ÝùÇ ³å³Ñáí³·ñáõÃÛáõÝ
A43: 2.2 | B43: ²ÙáõëÝáõÃÛ³Ý, ÍÝáõÝ¹Ç ³å³Ñáí³·ñáõÃÛáõÝ
A44: 2.3 | B44: Ü»ñ¹ñáõÙ³ÛÇÝ ³ÏïÇíÝ»ñÇÝ Ï³åíáÕ ³å³Ñáí³·ñáõÃÛáõÝ
...

Sheet Sheet4
B2: ¶àðÌ²èÜ²Î²Ü èÆêÎÆ Ð²Ø²ð ä²Ð²ÜæìàÔ Î²äÆî²ÈÆ ØºÌàôÂÚ²Ü Ð²Þì²ðÎ
E4: ²å³Ñáí³·ñ³Ï³Ý ÁÝÏ»ñáõÃÛ³Ý ³Ýí³ÝáõÙª | F4: =Company -> 0
E6: ²Ùë³ÃÇíª | F6: =Date -> 0
B8: ²ÕÛáõë³Ï 7.àã ÏÛ³ÝùÇ ³å³Ñáí³·ñáõÃÛáõÝ Çñ³Ï³Ý³óÝáÕ ³å³Ñáí³·ñ³Ï³Ý ÁÝÏ»ñáõÃÛáõÝÝ»ñÇ Ñ³Ù³ñ | H8: (Ñ³½³ñ ¹ñ³Ù)
B9: Ð³ßí»ïáõ ³Ùëí³ í»ñçÇÝ ûñí³ ¹ñáõÃÛ³Ùµ ï»ËÝÇÏ³Ï³Ý å³ÑáõëïÝ»ñÇ Ù»ÍáõÃÛáõÝ ³é³Ýó Ýí³½»óÝ»Éáõ í»ñ³³å³Ñáí³·ñáÕÇ Ù³ëÝ³µ³ÅÇÝÁ (îä) | C9: èïå | D9: Ð³ßí»ïáõ ³Ùëí³ ¨ ¹ñ³Ý Ý³Ëáñ¹áÕ 11 ³ÙÇëÝ»ñÇ ÁÝÃ³óùáõÙ í³ëï³Ï³Í Ñ³Ù³Ë³éÝ ³å³Ñáí³·ñ³í×³ñÝ»ñÇ Ù»ÍáõÃÛáõÝ, (ì²) | E9: Ð³ßí»ïáõ ³Ùëí³Ý ¨ ¹ñ³Ý Ý³Ëáñ¹áÕ 11 ³ÙÇëÝ»ñÇÝ Ý³Ëáñ¹áÕ 12 ³ÙÇëÝ»ñÇ ÁÝÃ³óùáõÙ í³ëï³Ï³Í Ñ³Ù³Ë³éÝ ³å³Ñáí³·ñ³í×³ñÝ»ñÇ Ù»ÍáõÃÛáõÝ, (ì²0) | F9: è³åí×³ñ | G9: è·áñÍ | H9: ¶áñÍ³éÝ³Ï³Ý éÇëÏÇ Ñ³Ù³ñ å³Ñ³ÝçíáÕ Ï³åÇï³ÉÇ Ù»ÍáõÃÛáõÝ (äÎ·áñÍ)
B10: 1 | C10: 2 | D10: 3 | E10: 4 | F10: 5 | G10: 6 | H10: 7
C11: =+B11*0.03 -> 0 | F11: =0.03*D11+MAX(0,0.03*(D11-1.2*E11)) -> 0 | G11: =MAX(F11,C11) -> 0 | H11: =IFERROR(MIN(0.3*Sheet26!B17,G11),0) -> 0
B13: ²ÕÛáõë³Ï 8.ÎÛ³ÝùÇ ³å³Ñáí³·ñáõÃÛáõÝ Çñ³Ï³Ý³óÝáÕ ³å³Ñáí³·ñ³Ï³Ý ÁÝÏ»ñáõÃÛáõÝÝ»ñÇ Ñ³Ù³ñ | L13: (Ñ³½³ñ ¹ñ³Ù)
B14: îä | C14: îäÝé | D14: èïå | E14: ì² | F14: ì²0 | G14: ì²Ýé | H14: ì²Ýé0 | I14: è³åí×³ñ | J14: è·áñÍ | K14: ÌÝé | L14: ¶áñÍ³éÝ³Ï³Ý éÇëÏÇ Ñ³Ù³ñ å³Ñ³ÝçíáÕ Ï³åÇï³ÉÇ Ù»ÍáõÃÛáõÝ (äÎ·áñÍ)
B15: 1 | C15: 2 | D15: 3 | E15: 4 | F15: 5 | G15: 6 | H15: 7 | I15: 8 | J15: 9 | K15: 10 | L15: 11
D16: =0.0045*MAX(0,B16-C16) -> 0 | I16: =0.04*(E16-G16)+MAX(0,0.04*(E16-1.2*F16-(G16-1.2*H16))) -> 0 | J16: =MAX(I16,D16) -> 0 | L16: =IFERROR(MIN(0.3*Sheet26!B17,J16)+0.25*K16,0) -> 0
E19: ²å³Ñáí³·ñ³Ï³Ý ÁÝÏ»ñáõÃÛ³Ý í³ñãáõÃÛ³Ý Ý³Ë³·³Ñª | F19: =Sheet1!F44 -> 0
E20: (¶áñÍ³¹Çñ ïÝûñ»Ý)
E22: ¶ÉË³íáñ Ñ³ßí³å³Ñª | F22: =Sheet1!F47 -> 0
E24: ä³ï³ëË³Ý³ïáõ ³Ïïáõ³ñª | F24: =Sheet1!F49 -> 0

Sheet Sheet5
AC1: ²ÕÛáõë³Ï 9
AC2: (Ñ³½³ñ ¹ñ³Ù)
B3: Վարկային ռիսկի համար պահանջվող կապիտալի մեծության հաշվակն ըստ օրերի
B4: ²ÏïÇíÝ»ñ (áñáÝó íñ³ ã»Ý ï³ñ³ÍíáõÙ ìè¼Ø-Ý»ñÁ) Áëï éÇëÏ»ñÇ ÏßÇéÝ»ñÇ
B5: ²Ùëí³ ûñ»ñÁ | C5: èÇëÏÇ 0 % ÏßÇé áõÝ»óáÕ ³ÏïÇíÝ»ñ | D5: ²ÏïÇíÝ»ñÇ ÑÝ³ñ³íáñ ÏáñáõëïÝ»ñÇ å³Ñáõëï | E5: èÇëÏÇ 10 % ÏßÇé áõÝ»óáÕ ³ÏïÇíÝ»ñ | F5: ²ÏïÇíÝ»ñÇ ÑÝ³ñ³íáñ ÏáñáõëïÝ»ñÇ å³Ñáõëï | G5: èÇëÏÇ 20 % ÏßÇé áõÝ»óáÕ ³ÏïÇíÝ»ñ | H5: ²ÏïÇíÝ»ñÇ ÑÝ³ñ³íáñ ÏáñáõëïÝ»ñÇ å³Ñáõëï | I5: èÇëÏÇ 30 % ÏßÇé áõÝ»óáÕ ³ÏïÇíÝ»ñ | J5: ²ÏïÇíÝ»ñÇ ÑÝ³ñ³íáñ ÏáñáõëïÝ»ñÇ å³Ñáõëï | K5: èÇëÏÇ 50 % ÏßÇé áõÝ»óáÕ ³ÏïÇíÝ»ñ | L5: ²ÏïÇíÝ»ñÇ ÑÝ³ñ³íáñ ÏáñáõëïÝ»ñÇ å³Ñáõëï | M5: èÇëÏÇ 75 % ÏßÇé áõÝ»óáÕ ³ÏïÇíÝ»ñ | N5: ²ÏïÇíÝ»ñÇ ÑÝ³ñ³íáñ ÏáñáõëïÝ»ñÇ å³Ñáõëï | O5: èÇëÏÇ 100 % ÏßÇé áõÝ»óáÕ ³ÏïÇíÝ»ñ | P5: ²ÏïÇíÝ»ñÇ ÑÝ³ñ³íáñ ÏáñáõëïÝ»ñÇ å³Ñáõëï | Q5: èÇëÏÇ 110 % ÏßÇé áõÝ»óáÕ ³ÏïÇíÝ»ñ | R5: ²ÏïÇíÝ»ñÇ ÑÝ³ñ³íáñ ÏáñáõëïÝ»ñÇ å³Ñáõëï | S5: èÇëÏÇ 150 % ÏßÇé áõÝ»óáÕ ³ÏïÇíÝ»ñ | T5: ²ÏïÇíÝ»ñÇ ÑÝ³ñ³íáñ ÏáñáõëïÝ»ñÇ å³Ñáõëï | U5: èÇëÏÇ 225 % ÏßÇé áõÝ»óáÕ ³ÏïÇíÝ»ñ | V5: ²ÏïÇíÝ»ñÇ ÑÝ³ñ³íáñ ÏáñáõëïÝ»ñÇ å³Ñáõëï | W5: èÇëÏÇ 400 % ÏßÇé áõÝ»óáÕ ³ÏïÇíÝ»ñ | X5: ²ÏïÇíÝ»ñÇ ÑÝ³ñ³íáñ ÏáñáõëïÝ»ñÇ å³Ñáõëï | Y5: èÇëÏÇ 800 % ÏßÇé áõÝ»óáÕ ³ÏïÇíÝ»ñ | Z5: ²ÏïÇíÝ»ñÇ ÑÝ³ñ³íáñ ÏáñáõëïÝ»ñÇ å³Ñáõëï | AA5: èÇëÏÇ 830 % ÏßÇé áõÝ»óáÕ ³ÏïÇíÝ»ñ | AB5: ²ÏïÇíÝ»ñÇ ÑÝ³ñ³íáñ ÏáñáõëïÝ»ñÇ å³Ñáõëï | AC5: ì³ñÏ³ÛÇÝ éÇëÏÇ Ñ³Ù³ñ å³Ñ³ÝçíáÕ Ï³åÇï³ÉÇ Ù»ÍáõÃÛáõÝ ((1-2)*0%+(3-4)*10%+(5-6)*20%+(7-8)*30%+(9-10)*50%+(11-12)*75%+(13-14)*100%+(15-16)*110%+(17-18)*150%+(19-20)*225%+(21-22)*400%+(23-24)*800%+(25-26)*830%)
C6: 1 | D6: 2 | E6: 3 | F6: 4 | G6: 5 | H6: 6 | I6: 7 | J6: 8 | K6: 9 | L6: 10 | M6: 11 | N6: 12 | O6: 13 | P6: 14 | Q6: 15 | R6: 16 | S6: 17 | T6: 18 | U6: 19 | V6: 20 | W6: 21 | X6: 22 | Y6: 23 | Z6: 24 | AA6: 25 | AB6: 26 | AC6: 27
B7: 1 | AC7: =(C7-D7)*0%+(E7-F7)*10%+(G7-H7)*20%+(I7-J7)*30%+(K7-L7)*50%+(M7-N7)*75%+(O7-P7)*100%+(Q7-R7)*110%+(S7-T7)*150%+(U7-V7)*225%+(W7-X7)*400%+(Y7-Z7)*800%+(AA7-AB7)*830%+SUMIFS(Sheet8.1!$H$8:$H$193,Sheet8.1!$B$8:$B$193,Sheet5!$B7) -> 0
B8: 2 | AC8: =(C8-D8)*0%+(E8-F8)*10%+(G8-H8)*20%+(I8-J8)*30%+(K8-L8)*50%+(M8-N8)*75%+(O8-P8)*100%+(Q8-R8)*110%+(S8-T8)*150%+(U8-V8)*225%+(W8-X8)*400%+(Y8-Z8)*800%+(AA8-AB8)*830%+SUMIFS(Sheet8.1!$H$8:$H$193,Sheet8.1!$B$8:$B$193,Sheet5!$B8) -> 0
B9: 3 | AC9: =(C9-D9)*0%+(E9-F9)*10%+(G9-H9)*20%+(I9-J9)*30%+(K9-L9)*50%+(M9-N9)*75%+(O9-P9)*100%+(Q9-R9)*110%+(S9-T9)*150%+(U9-V9)*225%+(W9-X9)*400%+(Y9-Z9)*800%+(AA9-AB9)*830%+SUMIFS(Sheet8.1!$H$8:$H$193,Sheet8.1!$B$8:$B$193,Sheet5!$B9) -> 0
B10: 4 | AC10: =(C10-D10)*0%+(E10-F10)*10%+(G10-H10)*20%+(I10-J10)*30%+(K10-L10)*50%+(M10-N10)*75%+(O10-P10)*100%+(Q10-R10)*110%+(S10-T10)*150%+(U10-V10)*225%+(W10-X10)*400%+(Y10-Z10)*800%+(AA10-AB10)*830%+SUMIFS(Sheet8.1!$H$8:$H$193,Sheet8.1!$B$8:$B$193,Sheet5!$B10) -> 0
B11: 5 | AC11: =(C11-D11)*0%+(E11-F11)*10%+(G11-H11)*20%+(I11-J11)*30%+(K11-L11)*50%+(M11-N11)*75%+(O11-P11)*100%+(Q11-R11)*110%+(S11-T11)*150%+(U11-V11)*225%+(W11-X11)*400%+(Y11-Z11)*800%+(AA11-AB11)*830%+SUMIFS(Sheet8.1!$H$8:$H$193,Sheet8.1!$B$8:$B$193,Sheet5!$B11) -> 0
B12: 6 | AC12: =(C12-D12)*0%+(E12-F12)*10%+(G12-H12)*20%+(I12-J12)*30%+(K12-L12)*50%+(M12-N12)*75%+(O12-P12)*100%+(Q12-R12)*110%+(S12-T12)*150%+(U12-V12)*225%+(W12-X12)*400%+(Y12-Z12)*800%+(AA12-AB12)*830%+SUMIFS(Sheet8.1!$H$8:$H$193,Sheet8.1!$B$8:$B$193,Sheet5!$B12) -> 0
B13: 7 | AC13: =(C13-D13)*0%+(E13-F13)*10%+(G13-H13)*20%+(I13-J13)*30%+(K13-L13)*50%+(M13-N13)*75%+(O13-P13)*100%+(Q13-R13)*110%+(S13-T13)*150%+(U13-V13)*225%+(W13-X13)*400%+(Y13-Z13)*800%+(AA13-AB13)*830%+SUMIFS(Sheet8.1!$H$8:$H$193,Sheet8.1!$B$8:$B$193,Sheet5!$B13) -> 0
B14: 8 | AC14: =(C14-D14)*0%+(E14-F14)*10%+(G14-H14)*20%+(I14-J14)*30%+(K14-L14)*50%+(M14-N14)*75%+(O14-P14)*100%+(Q14-R14)*110%+(S14-T14)*150%+(U14-V14)*225%+(W14-X14)*400%+(Y14-Z14)*800%+(AA14-AB14)*830%+SUMIFS(Sheet8.1!$H$8:$H$193,Sheet8.1!$B$8:$B$193,Sheet5!$B14) -> 0
B15: 9 | AC15: =(C15-D15)*0%+(E15-F15)*10%+(G15-H15)*20%+(I15-J15)*30%+(K15-L15)*50%+(M15-N15)*75%+(O15-P15)*100%+(Q15-R15)*110%+(S15-T15)*150%+(U15-V15)*225%+(W15-X15)*400%+(Y15-Z15)*800%+(AA15-AB15)*830%+SUMIFS(Sheet8.1!$H$8:$H$193,Sheet8.1!$B$8:$B$193,Sheet5!$B15) -> 0
B16: 10 | AC16: =(C16-D16)*0%+(E16-F16)*10%+(G16-H16)*20%+(I16-J16)*30%+(K16-L16)*50%+(M16-N16)*75%+(O16-P16)*100%+(Q16-R16)*110%+(S16-T16)*150%+(U16-V16)*225%+(W16-X16)*400%+(Y16-Z16)*800%+(AA16-AB16)*830%+SUMIFS(Sheet8.1!$H$8:$H$193,Sheet8.1!$B$8:$B$193,Sheet5!$B16) -> 0
B17: 11 | AC17: =(C17-D17)*0%+(E17-F17)*10%+(G17-H17)*20%+(I17-J17)*30%+(K17-L17)*50%+(M17-N17)*75%+(O17-P17)*100%+(Q17-R17)*110%+(S17-T17)*150%+(U17-V17)*225%+(W17-X17)*400%+(Y17-Z17)*800%+(AA17-AB17)*830%+SUMIFS(Sheet8.1!$H$8:$H$193,Sheet8.1!$B$8:$B$193,Sheet5!$B17) -> 0
B18: 12 | AC18: =(C18-D18)*0%+(E18-F18)*10%+(G18-H18)*20%+(I18-J18)*30%+(K18-L18)*50%+(M18-N18)*75%+(O18-P18)*100%+(Q18-R18)*110%+(S18-T18)*150%+(U18-V18)*225%+(W18-X18)*400%+(Y18-Z18)*800%+(AA18-AB18)*830%+SUMIFS(Sheet8.1!$H$8:$H$193,Sheet8.1!$B$8:$B$193,Sheet5!$B18) -> 0
... B37: 31 | AC37: =(C37-D37)*0%+(E37-F37)*10%+(G37-H37)*20%+(I37-J37)*30%+(K37-L37)*50%+(M37-N37)*75%+(O37-P37)*100%+(Q37-R37)*110%+(S37-T37)*150%+(U37-V37)*225%+(W37-X37)*400%+(Y37-Z37)*800%+(AA37-AB37)*830%+SUMIFS(Sheet8.1!$H$8:$H$193,Sheet8.1!$B$8:$B$193,Sheet5!$B37) -> 0
B38: ØÇçÇÝ | C38: =SUM(C7:C37)/DAY(Date) -> #DIV/0! | D38: =SUM(D7:D37)/DAY(Date) -> #DIV/0! | E38: =SUM(E7:E37)/DAY(Date) -> #DIV/0! | F38: =SUM(F7:F37)/DAY(Date) -> #DIV/0! | G38: =SUM(G7:G37)/DAY(Date) -> #DIV/0! | H38: =SUM(H7:H37)/DAY(Date) -> #DIV/0! | I38: =SUM(I7:I37)/DAY(Date) -> #DIV/0! | J38: =SUM(J7:J37)/DAY(Date) -> #DIV/0! | ... AC38: =SUM(AC7:AC37)/DAY(Date) -> #DIV/0!
O41: ²å³Ñáí³·ñ³Ï³Ý ÁÝÏ»ñáõÃÛ³Ý í³ñãáõÃÛ³Ý Ý³Ë³·³Ñª | P41: =Sheet1!F44 -> 0
O42: (¶áñÍ³¹Çñ ïÝûñ»Ý)
O44: ¶ÉË³íáñ Ñ³ßí³å³Ñª | P44: =Sheet1!F47 -> 0
O46: ä³ï³ëË³Ý³ïáõ ³Ïïáõ³ñª | P46: =Sheet1!F49 -> 0

Sheet Sheet6
T2: ²ÔÚàôê²Î 10.
T3: (Ñ³½³ñ ¹ñ³Ù)
B4: Վարկային ռիսկի համար պահանջվող կապիտալի մեծության հաշվակն ըստ օրերի
B5: ²ÏïÇíÝ»ñ (áñáÝó íñ³ ï³ñ³ÍíáõÙ »Ý ìè¼Ø-Ý»ñÁ) Áëï éÇëÏ»ñÇ ÏßÇéÝ»ñÇ
B6: ²Ùëí³ ûñ»ñÁ | C6: ìè¼Ø »ÝÃ³Ï³ ³ÏïÇíÝ»ñÇ ÁÝ¹Ñ³Ýáõñ ·áõÙ³ñÁ | D6: ²ÏïÇíÝ»ñÇ ÑÝ³ñ³íáñ ÏáñáõëïÝ»ñÇ å³Ñáõëï | E6: ²ÏïÇíÝ»ñÇ Ù»ÍáõÃÛáõÝÁ, áñáÝó éÇëÏÇ ÏßÇéÁ ìè¼Ø ÏÇñ³éÙ³Ý ³ñ¹ÛáõÝùáõÙ ÷áËí»É ¿ | F6: ìè¼Ø ÏÇñ³éÙ³Ý ³ñ¹ÛáõÝùáõÙ í³ñÏ³ÛÇÝ éÇëÏÇ ÷á÷áËáõÃÛáõÝÁ | G6: èÇëÏÇ 0 % ÏßÇé áõÝ»óáÕ ³ÏïÇíÝ»ñ ÑÝ³ñ³íáñ ÏáñáõëïÝ»ñÇ å³ÑáõëïÁ Ýí³½»óÝ»Éáõó Ñ»ïá | H6: èÇëÏÇ 10 % ÏßÇé áõÝ»óáÕ ³ÏïÇíÝ»ñ ÑÝ³ñ³íáñ ÏáñáõëïÝ»ñÇ å³ÑáõëïÁ Ýí³½»óÝ»Éáõó Ñ»ïá | I6: èÇëÏÇ 20 % ÏßÇé áõÝ»óáÕ ³ÏïÇíÝ»ñ ÑÝ³ñ³íáñ ÏáñáõëïÝ»ñÇ å³ÑáõëïÁ Ýí³½»óÝ»Éáõó Ñ»ïá | J6: èÇëÏÇ 30 % ÏßÇé áõÝ»óáÕ ³ÏïÇíÝ»ñ ÑÝ³ñ³íáñ ÏáñáõëïÝ»ñÇ å³ÑáõëïÁ Ýí³½»óÝ»Éáõó Ñ»ïá | K6: èÇëÏÇ 50 % ÏßÇé áõÝ»óáÕ ³ÏïÇíÝ»ñ ÑÝ³ñ³íáñ ÏáñáõëïÝ»ñÇ å³ÑáõëïÁ Ýí³½»óÝ»Éáõó Ñ»ïá | L6: èÇëÏÇ 75 % ÏßÇé áõÝ»óáÕ ³ÏïÇíÝ»ñ ÑÝ³ñ³íáñ ÏáñáõëïÝ»ñÇ å³ÑáõëïÁ Ýí³½»óÝ»Éáõó Ñ»ïá | M6: èÇëÏÇ 100 % ÏßÇé áõÝ»óáÕ ³ÏïÇíÝ»ñ ÑÝ³ñ³íáñ ÏáñáõëïÝ»ñÇ å³ÑáõëïÁ Ýí³½»óÝ»Éáõó Ñ»ïá | N6: èÇëÏÇ 110 % ÏßÇé áõÝ»óáÕ ³ÏïÇíÝ»ñ ÑÝ³ñ³íáñ ÏáñáõëïÝ»ñÇ å³ÑáõëïÁ Ýí³½»óÝ»Éáõó Ñ»ïá | O6: èÇëÏÇ 150 % ÏßÇé áõÝ»óáÕ ³ÏïÇíÝ»ñ ÑÝ³ñ³íáñ ÏáñáõëïÝ»ñÇ å³ÑáõëïÁ Ýí³½»óÝ»Éáõó Ñ»ïá | P6: èÇëÏÇ 225 % ÏßÇé áõÝ»óáÕ ³ÏïÇíÝ»ñ ÑÝ³ñ³íáñ ÏáñáõëïÝ»ñÇ å³ÑáõëïÁ Ýí³½»óÝ»Éáõó Ñ»ïá | Q6: èÇëÏÇ 400 % ÏßÇé áõÝ»óáÕ ³ÏïÇíÝ»ñ ÑÝ³ñ³íáñ ÏáñáõëïÝ»ñÇ å³ÑáõëïÁ Ýí³½»óÝ»Éáõó Ñ»ïá | R6: èÇëÏÇ 800 % ÏßÇé áõÝ»óáÕ ³ÏïÇíÝ»ñ ÑÝ³ñ³íáñ ÏáñáõëïÝ»ñÇ å³ÑáõëïÁ Ýí³½»óÝ»Éáõó Ñ»ïá | S6: èÇëÏÇ 830 % ÏßÇé áõÝ»óáÕ ³ÏïÇíÝ»ñ ÑÝ³ñ³íáñ ÏáñáõëïÝ»ñÇ å³ÑáõëïÁ Ýí³½»óÝ»Éáõó Ñ»ïá | T6: ì³ñÏ³ÛÇÝ éÇëÏÇ Ñ³Ù³ñ å³Ñ³ÝçíáÕ Ï³åÇï³ÉÇ Ù»ÍáõÃÛáõÝ ((5)*0%+(6)*10%+(7)*20%+(8)*30%+(9)*50%+(10)*75%+(11)*100%+(12)*110%+(13)*150%+(14)*225%+(15)*400%+(16)*800%+(17)*830%)
C7: 1 | D7: 2 | E7: 3 | F7: 4 | G7: 5 | H7: 6 | I7: 7 | J7: 8 | K7: 9 | L7: 10 | M7: 11 | N7: 12 | O7: 13 | P7: 14 | Q7: 15 | R7: 16 | S7: 17 | T7: 18
B8: 1 | T8: =G8*0%+H8*10%+I8*20%+J8*30%+K8*50%+L8*75%+M8*100%+N8*110%+O8*150%+P8*225%+Q8*400%+R8*800%+S8*830%+SUMIFS(Sheet8.1!$I$8:$I$193,Sheet8.1!$B$8:$B$193,Sheet6!$B8) -> 0
B9: 2 | T9: =G9*0%+H9*10%+I9*20%+J9*30%+K9*50%+L9*75%+M9*100%+N9*110%+O9*150%+P9*225%+Q9*400%+R9*800%+S9*830%+SUMIFS(Sheet8.1!$I$8:$I$193,Sheet8.1!$B$8:$B$193,Sheet6!$B9) -> 0
B10: 3 | T10: =G10*0%+H10*10%+I10*20%+J10*30%+K10*50%+L10*75%+M10*100%+N10*110%+O10*150%+P10*225%+Q10*400%+R10*800%+S10*830%+SUMIFS(Sheet8.1!$I$8:$I$193,Sheet8.1!$B$8:$B$193,Sheet6!$B10) -> 0
B11: 4 | T11: =G11*0%+H11*10%+I11*20%+J11*30%+K11*50%+L11*75%+M11*100%+N11*110%+O11*150%+P11*225%+Q11*400%+R11*800%+S11*830%+SUMIFS(Sheet8.1!$I$8:$I$193,Sheet8.1!$B$8:$B$193,Sheet6!$B11) -> 0
B12: 5 | T12: =G12*0%+H12*10%+I12*20%+J12*30%+K12*50%+L12*75%+M12*100%+N12*110%+O12*150%+P12*225%+Q12*400%+R12*800%+S12*830%+SUMIFS(Sheet8.1!$I$8:$I$193,Sheet8.1!$B$8:$B$193,Sheet6!$B12) -> 0
B13: 6 | T13: =G13*0%+H13*10%+I13*20%+J13*30%+K13*50%+L13*75%+M13*100%+N13*110%+O13*150%+P13*225%+Q13*400%+R13*800%+S13*830%+SUMIFS(Sheet8.1!$I$8:$I$193,Sheet8.1!$B$8:$B$193,Sheet6!$B13) -> 0
B14: 7 | T14: =G14*0%+H14*10%+I14*20%+J14*30%+K14*50%+L14*75%+M14*100%+N14*110%+O14*150%+P14*225%+Q14*400%+R14*800%+S14*830%+SUMIFS(Sheet8.1!$I$8:$I$193,Sheet8.1!$B$8:$B$193,Sheet6!$B14) -> 0
B15: 8 | T15: =G15*0%+H15*10%+I15*20%+J15*30%+K15*50%+L15*75%+M15*100%+N15*110%+O15*150%+P15*225%+Q15*400%+R15*800%+S15*830%+SUMIFS(Sheet8.1!$I$8:$I$193,Sheet8.1!$B$8:$B$193,Sheet6!$B15) -> 0
B16: 9 | T16: =G16*0%+H16*10%+I16*20%+J16*30%+K16*50%+L16*75%+M16*100%+N16*110%+O16*150%+P16*225%+Q16*400%+R16*800%+S16*830%+SUMIFS(Sheet8.1!$I$8:$I$193,Sheet8.1!$B$8:$B$193,Sheet6!$B16) -> 0
B17: 10 | T17: =G17*0%+H17*10%+I17*20%+J17*30%+K17*50%+L17*75%+M17*100%+N17*110%+O17*150%+P17*225%+Q17*400%+R17*800%+S17*830%+SUMIFS(Sheet8.1!$I$8:$I$193,Sheet8.1!$B$8:$B$193,Sheet6!$B17) -> 0
B18: 11 | T18: =G18*0%+H18*10%+I18*20%+J18*30%+K18*50%+L18*75%+M18*100%+N18*110%+O18*150%+P18*225%+Q18*400%+R18*800%+S18*830%+SUMIFS(Sheet8.1!$I$8:$I$193,Sheet8.1!$B$8:$B$193,Sheet6!$B18) -> 0
B19: 12 | T19: =G19*0%+H19*10%+I19*20%+J19*30%+K19*50%+L19*75%+M19*100%+N19*110%+O19*150%+P19*225%+Q19*400%+R19*800%+S19*830%+SUMIFS(Sheet8.1!$I$8:$I$193,Sheet8.1!$B$8:$B$193,Sheet6!$B19) -> 0
... B38: 31 | T38: =G38*0%+H38*10%+I38*20%+J38*30%+K38*50%+L38*75%+M38*100%+N38*110%+O38*150%+P38*225%+Q38*400%+R38*800%+S38*830%+SUMIFS(Sheet8.1!$I$8:$I$193,Sheet8.1!$B$8:$B$193,Sheet6!$B38) -> 0
B39: ØÇçÇÝ | C39: =SUM(C8:C38)/DAY(Date) -> #DIV/0! | D39: =SUM(D8:D38)/DAY(Date) -> #DIV/0! | E39: =SUM(E8:E38)/DAY(Date) -> #DIV/0! | F39: =SUM(F8:F38)/DAY(Date) -> #DIV/0! | G39: =SUM(G8:G38)/DAY(Date) -> #DIV/0! | H39: =SUM(H8:H38)/DAY(Date) -> #DIV/0! | I39: =SUM(I8:I38)/DAY(Date) -> #DIV/0! | J39: =SUM(J8:J38)/DAY(Date) -> #DIV/0! | ... T39: =SUM(T8:T38)/DAY(Date) -> #DIV/0!
J42: ²å³Ñáí³·ñ³Ï³Ý ÁÝÏ»ñáõÃÛ³Ý í³ñãáõÃÛ³Ý Ý³Ë³·³Ñª | K42: =Sheet1!F44 -> 0
J43: (¶áñÍ³¹Çñ ïÝûñ»Ý)
J45: ¶ÉË³íáñ Ñ³ßí³å³Ñª | K45: =Sheet1!F47 -> 0
J47: ä³ï³ëË³Ý³ïáõ ³Ïïáõ³ñª | K47: =Sheet1!F49 -> 0

Sheet Sheet7
AB2: ²ÔÚàôê²Î 11.
AB3: (Ñ³½³ñ ¹ñ³Ù)
B4: Վարկային ռիսկի համար պահանջվող կապիտալի մեծության հաշվակն ըստ օրերի
B5: Ð»ïÑ³ßí»Ïßé³ÛÇÝ å³ÛÙ³Ý³Ï³Ý å³ñï³íáñáõÃÛáõÝÝ»ñÇ ¨ Ñ»ïÑ³ßí»Ïßé³ÛÇÝ ³Ý³í³ñï Å³ÙÏ»ï³ÛÇÝ ·áñÍ³éÝáõÃÛáõÝÝ»ñÇ (áñáÝó íñ³ ã»Ý ï³ñ³ÍíáõÙ ìè¼Ø-Ý»ñÁ) í³ñÏ³ÛÇÝ éÇëÏÇ ÷áË³ñÏÙ³Ý ·áñÍáÝÝ»ñÇ í»ñ³ÍÙ³Ý ¨ í³ñÏ³ÛÇÝ éÇëÏÇ Ñ³ßí³ñÏÝ»ñÁ Áëï ûñ»ñÇ
B6: ²Ùëí³ ûñ»ñÁ | C6: ²ñï³Ñ³ßí»Ïßé³ÛÇÝ ³Í³ÝóÛ³É ·áñÍÇùÝ»ñ /µ³ó³éáõÃÛ³Ùµ` ³ñÅáõÃ³ÛÇÝ ëíá÷Ç / (¹ñ³Ù³ÛÇÝ Ñá¹í³ÍÝ»ñ) | D6: ä³Ñáõëï | E6: ì³ñÏ³ÛÇÝ éÇëÏÇ Ù»ÍáõÃÛáõÝÁ ìèö¶ ÏÇñ³éáõÙÇó Ñ»ïá (1-2) * 1 % | F6: ²ñï³Ñ³ßí»Ïßé³ÛÇÝ ³Í³ÝóÛ³É ·áñÍÇùÝ»ñ /µ³ó³éáõÃÛ³Ùµ` ³ñÅáõÃ³ÛÇÝ ëíá÷Ç/ (³ñï³ñÅáõÃ³ÛÇÝ Ñá¹í³ÍÝ»ñ) | G6: ä³Ñáõëï | H6: ì³ñÏ³ÛÇÝ éÇëÏÇ Ù»ÍáõÃÛáõÝÁ ìèö¶ ÏÇñ³éáõÙÇó Ñ»ïá (4-5) * 1.5 % | I6: ²ñï³Ñ³ßí»Ïßé³ÛÇÝ å³ÛÙ³Ý³Ï³Ý å³ñï³íáñáõÃÛáõÝÝ»ñ (¹ñ³Ù³ÛÇÝ Ñá¹í³ÍÝ»ñ) | J6: ä³Ñáõëï | K6: ì³ñÏ³ÛÇÝ éÇëÏÇ Ù»ÍáõÃÛáõÝÁ ìèö¶ ÏÇñ³éáõÙÇó Ñ»ïá (7-8) * 100 % | L6: ²ñï³Ñ³ßí»Ïßé³ÛÇÝ å³ÛÙ³Ý³Ï³Ý å³ñï³íáñáõÃÛáõÝÝ»ñ (³ñï³ñÅáõÃ³ÛÇÝ Ñá¹í³ÍÝ»ñ) | M6: ä³Ñáõëï | N6: ì³ñÏ³ÛÇÝ éÇëÏÇ Ù»ÍáõÃÛáõÝÁ ìèö¶ ÏÇñ³éáõÙÇó Ñ»ïá (10-11) * 100 % | O6: èÇëÏÇ 0% ÏßÇé (3+6+ 9+12)-Çó | P6: èÇëÏÇ 10% ÏßÇé (3+6+ 9+12) -Çó | Q6: èÇëÏÇ 20% ÏßÇé (3+6+ 9+12)-Çó | R6: èÇëÏÇ 30% ÏßÇé (3+6+ 9+12) -Çó | S6: èÇëÏÇ 50% ÏßÇé (3+6+ 9+12) -Çó | T6: èÇëÏÇ 75% ÏßÇé (3+6+ 9+12) -Çó | U6: èÇëÏÇ 100% ÏßÇé (3+6+ 9+12)-Çó | V6: èÇëÏÇ 110% ÏßÇé (3+6+ 9+12) -Çó | W6: èÇëÏÇ 150% ÏßÇé (3+6+ 9+12) -Çó | X6: èÇëÏÇ 225% ÏßÇé (3+6+ 9+12) -Çó | Y6: èÇëÏÇ 400% ÏßÇé (3+6+ 9+12)-Çó | Z6: èÇëÏÇ 800% ÏßÇé (3+6+ 9+12) -Çó | AA6: èÇëÏÇ 830% ÏßÇé (3+6+ 9+12) -Çó | AB6: ì³ñÏ³ÛÇÝ éÇëÏÇ Ñ³Ù³ñ å³Ñ³ÝçíáÕ Ï³åÇï³ÉÇ Ù»ÍáõÃÛáõÝ ((13)*0%+(14)*10%+(15)*20%+(16)*30%+(17)*50%+(18)*75%+(19)*100%+(20)*110%+(21)*150%+(22)*225%+(23)*400%+(24)*800%+(25)*830%)
C7: 1 | D7: 2 | E7: 3 | F7: 4 | G7: 5 | H7: 6 | I7: 7 | J7: 8 | K7: 9 | L7: 10 | M7: 11 | N7: 12 | O7: 13 | P7: 14 | Q7: 15 | R7: 16 | S7: 17 | T7: 18 | U7: 19 | V7: 20 | W7: 21 | X7: 22 | Y7: 23 | Z7: 24 | AA7: 25 | AB7: 26
B8: 1 | E8: =(C8-D8)*1% -> 0 | H8: =(F8-G8)*1.5% -> 0 | K8: =(I8-J8)*100% -> 0 | N8: =(L8-M8)*100% -> 0 | AB8: =IF(ABS(SUM(O8:AA8)-(E8+H8+N8+K8))<2,O8*0%+P8*10%+Q8*20%+R8*30%+S8*50%+T8*75%+U8*100%+V8*110%+W8*150%+X8*225%+Y8*400%+Z8*800%+AA8*830%,"Error")+SUMIFS(Sheet8.1!$J$8:$J$193,Sheet8.1!$B$8:$B$193,Sheet7!$B8) -> 0
B9: 2 | E9: =(C9-D9)*1% -> 0 | H9: =(F9-G9)*1.5% -> 0 | K9: =(I9-J9)*100% -> 0 | N9: =(L9-M9)*100% -> 0 | AB9: =IF(ABS(SUM(O9:AA9)-(E9+H9+N9+K9))<2,O9*0%+P9*10%+Q9*20%+R9*30%+S9*50%+T9*75%+U9*100%+V9*110%+W9*150%+X9*225%+Y9*400%+Z9*800%+AA9*830%,"Error")+SUMIFS(Sheet8.1!$J$8:$J$193,Sheet8.1!$B$8:$B$193,Sheet7!$B9) -> 0
B10: 3 | E10: =(C10-D10)*1% -> 0 | H10: =(F10-G10)*1.5% -> 0 | K10: =(I10-J10)*100% -> 0 | N10: =(L10-M10)*100% -> 0 | AB10: =IF(ABS(SUM(O10:AA10)-(E10+H10+N10+K10))<2,O10*0%+P10*10%+Q10*20%+R10*30%+S10*50%+T10*75%+U10*100%+V10*110%+W10*150%+X10*225%+Y10*400%+Z10*800%+AA10*830%,"Error")+SUMIFS(Sheet8.1!$J$8:$J$193,Sheet8.1!$B$8:$B$193,Sheet7!$B10) -> 0
B11: 4 | E11: =(C11-D11)*1% -> 0 | H11: =(F11-G11)*1.5% -> 0 | K11: =(I11-J11)*100% -> 0 | N11: =(L11-M11)*100% -> 0 | AB11: =IF(ABS(SUM(O11:AA11)-(E11+H11+N11+K11))<2,O11*0%+P11*10%+Q11*20%+R11*30%+S11*50%+T11*75%+U11*100%+V11*110%+W11*150%+X11*225%+Y11*400%+Z11*800%+AA11*830%,"Error")+SUMIFS(Sheet8.1!$J$8:$J$193,Sheet8.1!$B$8:$B$193,Sheet7!$B11) -> 0
B12: 5 | E12: =(C12-D12)*1% -> 0 | H12: =(F12-G12)*1.5% -> 0 | K12: =(I12-J12)*100% -> 0 | N12: =(L12-M12)*100% -> 0 | AB12: =IF(ABS(SUM(O12:AA12)-(E12+H12+N12+K12))<2,O12*0%+P12*10%+Q12*20%+R12*30%+S12*50%+T12*75%+U12*100%+V12*110%+W12*150%+X12*225%+Y12*400%+Z12*800%+AA12*830%,"Error")+SUMIFS(Sheet8.1!$J$8:$J$193,Sheet8.1!$B$8:$B$193,Sheet7!$B12) -> 0
B13: 6 | E13: =(C13-D13)*1% -> 0 | H13: =(F13-G13)*1.5% -> 0 | K13: =(I13-J13)*100% -> 0 | N13: =(L13-M13)*100% -> 0 | AB13: =IF(ABS(SUM(O13:AA13)-(E13+H13+N13+K13))<2,O13*0%+P13*10%+Q13*20%+R13*30%+S13*50%+T13*75%+U13*100%+V13*110%+W13*150%+X13*225%+Y13*400%+Z13*800%+AA13*830%,"Error")+SUMIFS(Sheet8.1!$J$8:$J$193,Sheet8.1!$B$8:$B$193,Sheet7!$B13) -> 0
B14: 7 | E14: =(C14-D14)*1% -> 0 | H14: =(F14-G14)*1.5% -> 0 | K14: =(I14-J14)*100% -> 0 | N14: =(L14-M14)*100% -> 0 | AB14: =IF(ABS(SUM(O14:AA14)-(E14+H14+N14+K14))<2,O14*0%+P14*10%+Q14*20%+R14*30%+S14*50%+T14*75%+U14*100%+V14*110%+W14*150%+X14*225%+Y14*400%+Z14*800%+AA14*830%,"Error")+SUMIFS(Sheet8.1!$J$8:$J$193,Sheet8.1!$B$8:$B$193,Sheet7!$B14) -> 0
B15: 8 | E15: =(C15-D15)*1% -> 0 | H15: =(F15-G15)*1.5% -> 0 | K15: =(I15-J15)*100% -> 0 | N15: =(L15-M15)*100% -> 0 | AB15: =IF(ABS(SUM(O15:AA15)-(E15+H15+N15+K15))<2,O15*0%+P15*10%+Q15*20%+R15*30%+S15*50%+T15*75%+U15*100%+V15*110%+W15*150%+X15*225%+Y15*400%+Z15*800%+AA15*830%,"Error")+SUMIFS(Sheet8.1!$J$8:$J$193,Sheet8.1!$B$8:$B$193,Sheet7!$B15) -> 0
B16: 9 | E16: =(C16-D16)*1% -> 0 | H16: =(F16-G16)*1.5% -> 0 | K16: =(I16-J16)*100% -> 0 | N16: =(L16-M16)*100% -> 0 | AB16: =IF(ABS(SUM(O16:AA16)-(E16+H16+N16+K16))<2,O16*0%+P16*10%+Q16*20%+R16*30%+S16*50%+T16*75%+U16*100%+V16*110%+W16*150%+X16*225%+Y16*400%+Z16*800%+AA16*830%,"Error")+SUMIFS(Sheet8.1!$J$8:$J$193,Sheet8.1!$B$8:$B$193,Sheet7!$B16) -> 0
B17: 10 | E17: =(C17-D17)*1% -> 0 | H17: =(F17-G17)*1.5% -> 0 | K17: =(I17-J17)*100% -> 0 | N17: =(L17-M17)*100% -> 0 | AB17: =IF(ABS(SUM(O17:AA17)-(E17+H17+N17+K17))<2,O17*0%+P17*10%+Q17*20%+R17*30%+S17*50%+T17*75%+U17*100%+V17*110%+W17*150%+X17*225%+Y17*400%+Z17*800%+AA17*830%,"Error")+SUMIFS(Sheet8.1!$J$8:$J$193,Sheet8.1!$B$8:$B$193,Sheet7!$B17) -> 0
B18: 11 | E18: =(C18-D18)*1% -> 0 | H18: =(F18-G18)*1.5% -> 0 | K18: =(I18-J18)*100% -> 0 | N18: =(L18-M18)*100% -> 0 | AB18: =IF(ABS(SUM(O18:AA18)-(E18+H18+N18+K18))<2,O18*0%+P18*10%+Q18*20%+R18*30%+S18*50%+T18*75%+U18*100%+V18*110%+W18*150%+X18*225%+Y18*400%+Z18*800%+AA18*830%,"Error")+SUMIFS(Sheet8.1!$J$8:$J$193,Sheet8.1!$B$8:$B$193,Sheet7!$B18) -> 0
B19: 12 | E19: =(C19-D19)*1% -> 0 | H19: =(F19-G19)*1.5% -> 0 | K19: =(I19-J19)*100% -> 0 | N19: =(L19-M19)*100% -> 0 | AB19: =IF(ABS(SUM(O19:AA19)-(E19+H19+N19+K19))<2,O19*0%+P19*10%+Q19*20%+R19*30%+S19*50%+T19*75%+U19*100%+V19*110%+W19*150%+X19*225%+Y19*400%+Z19*800%+AA19*830%,"Error")+SUMIFS(Sheet8.1!$J$8:$J$193,Sheet8.1!$B$8:$B$193,Sheet7!$B19) -> 0
... B38: 31 | E38: =(C38-D38)*1% -> 0 | H38: =(F38-G38)*1.5% -> 0 | K38: =(I38-J38)*100% -> 0 | N38: =(L38-M38)*100% -> 0 | AB38: =IF(ABS(SUM(O38:AA38)-(E38+H38+N38+K38))<2,O38*0%+P38*10%+Q38*20%+R38*30%+S38*50%+T38*75%+U38*100%+V38*110%+W38*150%+X38*225%+Y38*400%+Z38*800%+AA38*830%,"Error")+SUMIFS(Sheet8.1!$J$8:$J$193,Sheet8.1!$B$8:$B$193,Sheet7!$B38) -> 0
B39: ØÇçÇÝ | C39: =SUM(C8:C38)/DAY(Date) -> #DIV/0! | D39: =SUM(D8:D38)/DAY(Date) -> #DIV/0! | E39: =SUM(E8:E38)/DAY(Date) -> #DIV/0! | F39: =SUM(F8:F38)/DAY(Date) -> #DIV/0! | G39: =SUM(G8:G38)/DAY(Date) -> #DIV/0! | H39: =SUM(H8:H38)/DAY(Date) -> #DIV/0! | I39: =SUM(I8:I38)/DAY(Date) -> #DIV/0! | J39: =SUM(J8:J38)/DAY(Date) -> #DIV/0! | ... AB39: =SUM(AB8:AB38)/DAY(Date) -> #DIV/0!
N42: ²å³Ñáí³·ñ³Ï³Ý ÁÝÏ»ñáõÃÛ³Ý í³ñãáõÃÛ³Ý Ý³Ë³·³Ñª | O42: =Sheet1!F44 -> 0
N43: (¶áñÍ³¹Çñ ïÝûñ»Ý)
N45: ¶ÉË³íáñ Ñ³ßí³å³Ñª | O45: =Sheet1!F47 -> 0
N47: ä³ï³ëË³Ý³ïáõ ³Ïïáõ³ñª | O47: =Sheet1!F49 -> 0

Sheet Sheet8
AD1: ²ÔÚàôê²Î 12.
AD2: (Ñ³½³ñ ¹ñ³Ù)
B3: Վարկային ռիսկի համար պահանջվող կապիտալի մեծության հաշվակն ըստ օրերի
B4: Ð»ïÑ³ßí»Ïßé³ÛÇÝ å³ÛÙ³Ý³Ï³Ý å³ñï³íáñáõÃÛáõÝÝ»ñÇ ¨ Ñ»ïÑ³ßí»Ïßé³ÛÇÝ ³Ý³í³ñï Å³ÙÏ»ï³ÛÇÝ ·áñÍ³éÝáõÃÛáõÝÝ»ñÇ (áñáÝó íñ³ ï³ñ³ÍíáõÙ »Ý ìè¼Ø-Ý»ñÁ) í³ñÏ³ÛÇÝ éÇëÏÇ ÷áË³ñÏÙ³Ý ·áñÍáÝÝ»ñÇ í»ñ³ÍÙ³Ý ¨ í³ñÏ³ÛÇÝ éÇëÏÇ Ñ³ßí³ñÏÝ»ñÁ Áëï ûñ»ñÇ
B5: ²Ùëí³ ûñ»ñÁ | C5: ²ñï³Ñ³ßí»Ïßé³ÛÇÝ ³Í³ÝóÛ³É ·áñÍÇùÝ»ñ/ µ³ó³éáõÃÛ³Ùµ` ³ñÅáõÃ³ÛÇÝ ëíá÷Ç/ (¹ñ³Ù³ÛÇÝ Ñá¹í³ÍÝ»ñ) | D5: ä³Ñáõëï | E5: ì³ñÏ³ÛÇÝ éÇëÏÇ Ù»ÍáõÃÛáõÝÁ ìèö¶ ÏÇñ³éáõÙÇó Ñ»ïá (1-2) * 1 % | F5: ²ñï³Ñ³ßí»Ïßé³ÛÇÝ ³Í³ÝóÛ³É ·áñÍÇùÝ»ñ /µ³ó³éáõÃÛ³Ùµ` ³ñÅáõÃ³ÛÇÝ ëíá÷Ç/ (³ñï³ñÅáõÃ³ÛÇÝ Ñá¹í³ÍÝ»ñ) | G5: ä³Ñáõëï | H5: ì³ñÏ³ÛÇÝ éÇëÏÇ Ù»ÍáõÃÛáõÝÁ ìèö¶ ÏÇñ³éáõÙÇó Ñ»ïá (4-5) * 1.5 % | I5: ²ñï³Ñ³ßí»Ïßé³ÛÇÝ å³ÛÙ³Ý³Ï³Ý å³ñï³íáñáõÃÛáõÝÝ»ñ (¹ñ³Ù³ÛÇÝ Ñá¹í³ÍÝ»ñ) | J5: ä³Ñáõëï | K5: ì³ñÏ³ÛÇÝ éÇëÏÇ Ù»ÍáõÃÛáõÝÁ ìèö¶ ÏÇñ³éáõÙÇó Ñ»ïá (7-8) * 100 % | L5: ²ñï³Ñ³ßí»Ïßé³ÛÇÝ å³ÛÙ³Ý³Ï³Ý å³ñï³íáñáõÃÛáõÝÝ»ñ (³ñï³ñÅáõÃ³ÛÇÝ Ñá¹í³ÍÝ»ñ) | M5: ä³Ñáõëï | N5: ì³ñÏ³ÛÇÝ éÇëÏÇ Ù»ÍáõÃÛáõÝÁ ìèö¶ ÏÇñ³éáõÙÇó Ñ»ïá (10-11) * 100 % | O5: Ð³ßí»Ïßé³ÛÇÝ í³ñÏ³ÛÇÝ éÇëÏÇ Ù»ÍáõÃÛáõÝÁ, áñÇ éÇëÏÇ ÏßÇéÁ ìè¼Ø ÏÇñ³éÙ³Ý ³ñ¹ÛáõÝùáõÙ ÷áËí»É ¿ | P5: ìè¼Ø ÏÇñ³éÙ³Ý ³ñ¹ÛáõÝùáõÙ í³ñÏ³ÛÇÝ éÇëÏÇ ÷á÷áËáõÃÛáõÝÁ | Q5: èÇëÏÇ 0% ÏßÇé (3+6+ 9+12)-Çó | R5: èÇëÏÇ 10% ÏßÇé (3+6+ 9+12) -Çó | S5: èÇëÏÇ 20% ÏßÇé (3+6+ 9+12)-Çó | T5: èÇëÏÇ 30% ÏßÇé (3+6+ 9+12) -Çó | U5: èÇëÏÇ 50% ÏßÇé (3+6+ 9+12) -Çó | V5: èÇëÏÇ 75% ÏßÇé (3+6+ 9+12) -Çó | W5: èÇëÏÇ 100% ÏßÇé (3+6+ 9+12)-Çó | X5: èÇëÏÇ 110% ÏßÇé (3+6+ 9+12) -Çó | Y5: èÇëÏÇ 150% ÏßÇé (3+6+ 9+12) -Çó | Z5: èÇëÏÇ 225% ÏßÇé (3+6+ 9+12) -Çó | AA5: èÇëÏÇ 400% ÏßÇé (3+6+ 9+12)-Çó | AB5: èÇëÏÇ 800% ÏßÇé (3+6+ 9+12) -Çó | AC5: èÇëÏÇ 830% ÏßÇé (3+6+ 9+12) -Çó | AD5: ì³ñÏ³ÛÇÝ éÇëÏÇ Ñ³Ù³ñ å³Ñ³ÝçíáÕ Ï³åÇï³ÉÇ Ù»ÍáõÃÛáõÝ ((15)*0%+(16)*10%+(17)*20%+(18)*30%+(19)*50%+(20)*75%+(21)*100%+(22)*110%+(23)*150%+(24)*225%+(25)*400%+(26)*800%+(27)*830%)
C6: 1 | D6: 2 | E6: 3 | F6: 4 | G6: 5 | H6: 6 | I6: 7 | J6: 8 | K6: 9 | L6: 10 | M6: 11 | N6: 12 | O6: 13 | P6: 14 | Q6: 15 | R6: 16 | S6: 17 | T6: 18 | U6: 19 | V6: 20 | W6: 21 | X6: 22 | Y6: 23 | Z6: 24 | AA6: 25 | AB6: 26 | AC6: 27 | AD6: 28
B7: 1 | E7: =(C7-D7)*1% -> 0 | H7: =(F7-G7)*1.5% -> 0 | K7: =(I7-J7)*100% -> 0 | N7: =(L7-M7)*100% -> 0 | AD7: =IF(ABS(SUM(Q7:AC7)-(E7+H7+K7+N7))<2,Q7*0%+R7*10%+S7*20%+T7*30%+U7*50%+V7*75%+W7*100%+X7*110%+Y7*150%+Z7*225%+AA7*400%+AB7*800%+AC7*830%,"Error")+SUMIFS(Sheet8.1!$K$8:$K$193,Sheet8.1!$B$8:$B$193,Sheet8!$B7) -> 0
B8: 2 | E8: =(C8-D8)*1% -> 0 | H8: =(F8-G8)*1.5% -> 0 | K8: =(I8-J8)*100% -> 0 | N8: =(L8-M8)*100% -> 0 | AD8: =IF(ABS(SUM(Q8:AC8)-(E8+H8+K8+N8))<2,Q8*0%+R8*10%+S8*20%+T8*30%+U8*50%+V8*75%+W8*100%+X8*110%+Y8*150%+Z8*225%+AA8*400%+AB8*800%+AC8*830%,"Error")+SUMIFS(Sheet8.1!$K$8:$K$193,Sheet8.1!$B$8:$B$193,Sheet8!$B8) -> 0
B9: 3 | E9: =(C9-D9)*1% -> 0 | H9: =(F9-G9)*1.5% -> 0 | K9: =(I9-J9)*100% -> 0 | N9: =(L9-M9)*100% -> 0 | AD9: =IF(ABS(SUM(Q9:AC9)-(E9+H9+K9+N9))<2,Q9*0%+R9*10%+S9*20%+T9*30%+U9*50%+V9*75%+W9*100%+X9*110%+Y9*150%+Z9*225%+AA9*400%+AB9*800%+AC9*830%,"Error")+SUMIFS(Sheet8.1!$K$8:$K$193,Sheet8.1!$B$8:$B$193,Sheet8!$B9) -> 0
B10: 4 | E10: =(C10-D10)*1% -> 0 | H10: =(F10-G10)*1.5% -> 0 | K10: =(I10-J10)*100% -> 0 | N10: =(L10-M10)*100% -> 0 | AD10: =IF(ABS(SUM(Q10:AC10)-(E10+H10+K10+N10))<2,Q10*0%+R10*10%+S10*20%+T10*30%+U10*50%+V10*75%+W10*100%+X10*110%+Y10*150%+Z10*225%+AA10*400%+AB10*800%+AC10*830%,"Error")+SUMIFS(Sheet8.1!$K$8:$K$193,Sheet8.1!$B$8:$B$193,Sheet8!$B10) -> 0
B11: 5 | E11: =(C11-D11)*1% -> 0 | H11: =(F11-G11)*1.5% -> 0 | K11: =(I11-J11)*100% -> 0 | N11: =(L11-M11)*100% -> 0 | AD11: =IF(ABS(SUM(Q11:AC11)-(E11+H11+K11+N11))<2,Q11*0%+R11*10%+S11*20%+T11*30%+U11*50%+V11*75%+W11*100%+X11*110%+Y11*150%+Z11*225%+AA11*400%+AB11*800%+AC11*830%,"Error")+SUMIFS(Sheet8.1!$K$8:$K$193,Sheet8.1!$B$8:$B$193,Sheet8!$B11) -> 0
B12: 6 | E12: =(C12-D12)*1% -> 0 | H12: =(F12-G12)*1.5% -> 0 | K12: =(I12-J12)*100% -> 0 | N12: =(L12-M12)*100% -> 0 | AD12: =IF(ABS(SUM(Q12:AC12)-(E12+H12+K12+N12))<2,Q12*0%+R12*10%+S12*20%+T12*30%+U12*50%+V12*75%+W12*100%+X12*110%+Y12*150%+Z12*225%+AA12*400%+AB12*800%+AC12*830%,"Error")+SUMIFS(Sheet8.1!$K$8:$K$193,Sheet8.1!$B$8:$B$193,Sheet8!$B12) -> 0
B13: 7 | E13: =(C13-D13)*1% -> 0 | H13: =(F13-G13)*1.5% -> 0 | K13: =(I13-J13)*100% -> 0 | N13: =(L13-M13)*100% -> 0 | AD13: =IF(ABS(SUM(Q13:AC13)-(E13+H13+K13+N13))<2,Q13*0%+R13*10%+S13*20%+T13*30%+U13*50%+V13*75%+W13*100%+X13*110%+Y13*150%+Z13*225%+AA13*400%+AB13*800%+AC13*830%,"Error")+SUMIFS(Sheet8.1!$K$8:$K$193,Sheet8.1!$B$8:$B$193,Sheet8!$B13) -> 0
B14: 8 | E14: =(C14-D14)*1% -> 0 | H14: =(F14-G14)*1.5% -> 0 | K14: =(I14-J14)*100% -> 0 | N14: =(L14-M14)*100% -> 0 | AD14: =IF(ABS(SUM(Q14:AC14)-(E14+H14+K14+N14))<2,Q14*0%+R14*10%+S14*20%+T14*30%+U14*50%+V14*75%+W14*100%+X14*110%+Y14*150%+Z14*225%+AA14*400%+AB14*800%+AC14*830%,"Error")+SUMIFS(Sheet8.1!$K$8:$K$193,Sheet8.1!$B$8:$B$193,Sheet8!$B14) -> 0
B15: 9 | E15: =(C15-D15)*1% -> 0 | H15: =(F15-G15)*1.5% -> 0 | K15: =(I15-J15)*100% -> 0 | N15: =(L15-M15)*100% -> 0 | AD15: =IF(ABS(SUM(Q15:AC15)-(E15+H15+K15+N15))<2,Q15*0%+R15*10%+S15*20%+T15*30%+U15*50%+V15*75%+W15*100%+X15*110%+Y15*150%+Z15*225%+AA15*400%+AB15*800%+AC15*830%,"Error")+SUMIFS(Sheet8.1!$K$8:$K$193,Sheet8.1!$B$8:$B$193,Sheet8!$B15) -> 0
B16: 10 | E16: =(C16-D16)*1% -> 0 | H16: =(F16-G16)*1.5% -> 0 | K16: =(I16-J16)*100% -> 0 | N16: =(L16-M16)*100% -> 0 | AD16: =IF(ABS(SUM(Q16:AC16)-(E16+H16+K16+N16))<2,Q16*0%+R16*10%+S16*20%+T16*30%+U16*50%+V16*75%+W16*100%+X16*110%+Y16*150%+Z16*225%+AA16*400%+AB16*800%+AC16*830%,"Error")+SUMIFS(Sheet8.1!$K$8:$K$193,Sheet8.1!$B$8:$B$193,Sheet8!$B16) -> 0
B17: 11 | E17: =(C17-D17)*1% -> 0 | H17: =(F17-G17)*1.5% -> 0 | K17: =(I17-J17)*100% -> 0 | N17: =(L17-M17)*100% -> 0 | AD17: =IF(ABS(SUM(Q17:AC17)-(E17+H17+K17+N17))<2,Q17*0%+R17*10%+S17*20%+T17*30%+U17*50%+V17*75%+W17*100%+X17*110%+Y17*150%+Z17*225%+AA17*400%+AB17*800%+AC17*830%,"Error")+SUMIFS(Sheet8.1!$K$8:$K$193,Sheet8.1!$B$8:$B$193,Sheet8!$B17) -> 0
B18: 12 | E18: =(C18-D18)*1% -> 0 | H18: =(F18-G18)*1.5% -> 0 | K18: =(I18-J18)*100% -> 0 | N18: =(L18-M18)*100% -> 0 | AD18: =IF(ABS(SUM(Q18:AC18)-(E18+H18+K18+N18))<2,Q18*0%+R18*10%+S18*20%+T18*30%+U18*50%+V18*75%+W18*100%+X18*110%+Y18*150%+Z18*225%+AA18*400%+AB18*800%+AC18*830%,"Error")+SUMIFS(Sheet8.1!$K$8:$K$193,Sheet8.1!$B$8:$B$193,Sheet8!$B18) -> 0
... B37: 31 | E37: =(C37-D37)*1% -> 0 | H37: =(F37-G37)*1.5% -> 0 | K37: =(I37-J37)*100% -> 0 | N37: =(L37-M37)*100% -> 0 | AD37: =IF(ABS(SUM(Q37:AC37)-(E37+H37+K37+N37))<2,Q37*0%+R37*10%+S37*20%+T37*30%+U37*50%+V37*75%+W37*100%+X37*110%+Y37*150%+Z37*225%+AA37*400%+AB37*800%+AC37*830%,"Error")+SUMIFS(Sheet8.1!$K$8:$K$193,Sheet8.1!$B$8:$B$193,Sheet8!$B37) -> 0
B38: ØÇçÇÝ | C38: =SUM(C7:C37)/DAY(Date) -> #DIV/0! | D38: =SUM(D7:D37)/DAY(Date) -> #DIV/0! | E38: =SUM(E7:E37)/DAY(Date) -> #DIV/0! | F38: =SUM(F7:F37)/DAY(Date) -> #DIV/0! | G38: =SUM(G7:G37)/DAY(Date) -> #DIV/0! | H38: =SUM(H7:H37)/DAY(Date) -> #DIV/0! | I38: =SUM(I7:I37)/DAY(Date) -> #DIV/0! | J38: =SUM(J7:J37)/DAY(Date) -> #DIV/0! | ... AD38: =SUM(AD7:AD37)/DAY(Date) -> #DIV/0!
O41: ²å³Ñáí³·ñ³Ï³Ý ÁÝÏ»ñáõÃÛ³Ý í³ñãáõÃÛ³Ý Ý³Ë³·³Ñª | P41: =Sheet1!F44 -> 0
O42: (¶áñÍ³¹Çñ ïÝûñ»Ý)
O44: ¶ÉË³íáñ Ñ³ßí³å³Ñª | P44: =Sheet1!F47 -> 0
O46: ä³ï³ëË³Ý³ïáõ ³Ïïáõ³ñª | P46: =Sheet1!F49 -> 0

Sheet Sheet8.1
B2: Ü»ñ¹ñáõÙ³ÛÇÝ ýáÝ¹»ñÇ ÝÏ³ïÙ³Ùµ å³Ñ³ÝçÝ»ñÇ í³ñÏ³ÛÇÝ éÇëÏÇ Ñ³ßí³ñÏÁ (9-12-ñ¹ ³ÕÛáõë³ÏÝ»ñáõÙ Ý»ñ³é»Éáõ Ñ³Ù³ñ)
G4: ²ÔÚàôê²Î 12.1
G5: (Ñ³½. ¹ñ³Ù)
B6: ²Ùëí³ ûñ»ñ | C6: èÇëÏÇ ÏßÇé | D6: Ü»ñ¹ñáõÙ³ÛÇÝ ýáÝ¹»ñÇ ÝÏ³ïÙ³Ùµ å³Ñ³ÝçÇ Ù»ÍáõÃÛáõÝÁ ÑÝ³ñ³íáñ ÏáñáõëïÝ»ñÇ å³ÑáõëïÁ Ýí³½»óÝ»Éáõó Ñ»ïá (³ÏïÇíÝ»ñ, áñáÝó íñ³ ã»Ý ï³ñ³ÍíáõÙ ìè¼Ø-Ý»ñÁ) | E6: Ü»ñ¹ñáõÙ³ÛÇÝ ýáÝ¹»ñÇ ÝÏ³ïÙ³Ùµ å³Ñ³ÝçÇ Ù»ÍáõÃÛáõÝÁ ÑÝ³ñ³íáñ ÏáñáõëïÝ»ñÇ å³ÑáõëïÁ Ýí³½»óÝ»Éáõó Ñ»ïá (ìè¼Ø-Ç »ÝÃ³Ï³ ³ÏïÇíÝ»ñ) | F6: Ü»ñ¹ñáõÙ³ÛÇÝ ýáÝ¹»ñÇ ÝÏ³ïÙ³Ùµ å³Ñ³ÝçÇ Ù»ÍáõÃÛáõÝÁ ÑÝ³ñ³íáñ ÏáñáõëïÝ»ñÇ å³ÑáõëïÁ Ýí³½»óÝ»Éáõó Ñ»ïá (³ñï³Ñ³ßí»Ïßé³ÛÇÝ ³Í³ÝóÛ³É ·áñÍÇùÝ»ñ ¨ ³ñï³Ñ³ßí»Ïßé³ÛÇÝ å³ÛÙ³Ý³Ï³Ý å³ñï³íáñáõÃÛáõÝÝ»ñ, áñáÝó íñ³ ã»Ý ï³ñ³ÍíáõÙ ìè¼Ø-Ý»ñÁ) | G6: Ü»ñ¹ñáõÙ³ÛÇÝ ýáÝ¹»ñÇ ÝÏ³ïÙ³Ùµ å³Ñ³ÝçÇ Ù»ÍáõÃÛáõÝÁ ÑÝ³ñ³íáñ ÏáñáõëïÝ»ñÇ å³ÑáõëïÁ Ýí³½»óÝ»Éáõó Ñ»ïá (³ñï³Ñ³ßí»Ïßé³ÛÇÝ ³Í³ÝóÛ³É ·áñÍÇùÝ»ñ ¨ ³ñï³Ñ³ßí»Ïßé³ÛÇÝ å³ÛÙ³Ý³Ï³Ý å³ñï³íáñáõÃÛáõÝÝ»ñ, áñáÝó íñ³ ï³ñ³ÍíáõÙ »Ý ìè¼Ø-Ý»ñÁ)
B7: 1 | C7: =B7+1 -> 2 | D7: =C7+1 -> 3 | E7: =D7+1 -> 4 | F7: =E7+1 -> 5 | G7: =F7+1 -> 6
H8: =C8*D8 -> 0 | I8: =E8*C8 -> 0 | J8: =F8*C8 -> 0 | K8: =G8*C8 -> 0
H9: =C9*D9 -> 0 | I9: =E9*C9 -> 0 | J9: =F9*C9 -> 0 | K9: =G9*C9 -> 0
H10: =C10*D10 -> 0 | I10: =E10*C10 -> 0 | J10: =F10*C10 -> 0 | K10: =G10*C10 -> 0
H11: =C11*D11 -> 0 | I11: =E11*C11 -> 0 | J11: =F11*C11 -> 0 | K11: =G11*C11 -> 0
H12: =C12*D12 -> 0 | I12: =E12*C12 -> 0 | J12: =F12*C12 -> 0 | K12: =G12*C12 -> 0
H13: =C13*D13 -> 0 | I13: =E13*C13 -> 0 | J13: =F13*C13 -> 0 | K13: =G13*C13 -> 0
H14: =C14*D14 -> 0 | I14: =E14*C14 -> 0 | J14: =F14*C14 -> 0 | K14: =G14*C14 -> 0
H15: =C15*D15 -> 0 | I15: =E15*C15 -> 0 | J15: =F15*C15 -> 0 | K15: =G15*C15 -> 0
H16: =C16*D16 -> 0 | I16: =E16*C16 -> 0 | J16: =F16*C16 -> 0 | K16: =G16*C16 -> 0
H17: =C17*D17 -> 0 | I17: =E17*C17 -> 0 | J17: =F17*C17 -> 0 | K17: =G17*C17 -> 0
H18: =C18*D18 -> 0 | I18: =E18*C18 -> 0 | J18: =F18*C18 -> 0 | K18: =G18*C18 -> 0
H19: =C19*D19 -> 0 | I19: =E19*C19 -> 0 | J19: =F19*C19 -> 0 | K19: =G19*C19 -> 0
... H193: =C193*D193 -> 0 | I193: =E193*C193 -> 0 | J193: =F193*C193 -> 0 | K193: =G193*C193 -> 0
F198: ²å³Ñáí³·ñ³Ï³Ý ÁÝÏ»ñáõÃÛ³Ý í³ñãáõÃÛ³Ý Ý³Ë³·³Ñª | G198: =Sheet8!P41 -> 0
F199: (¶áñÍ³¹Çñ ïÝûñ»Ý)
F201: ¶ÉË³íáñ Ñ³ßí³å³Ñª | G201: =Sheet8!P44 -> 0
F203: ä³ï³ëË³Ý³ïáõ ³Ïïáõ³ñª | G203: =Sheet8!P46 -> 0

Sheet Sheet9
B2: ²ÕÛáõë³Ï 13․ì»ñ³³å³Ñáí³·ñáõÃÛ³Ý ³ñ¹ÛáõÝùáõÙ ³Ý¹»ñé³ÛÃÇÝ·Ç éÇëÏÇ Ýí³½»óÙ³Ý ¿ý»ÏïÇ Ñ³ßí³ñÏ | H2: 2e-05
H3: 0.0001
B4: ²å³Ñáí³·ñ³Ï³Ý ÁÝÏ»ñáõÃÛ³Ý ³Ýí³ÝáõÙª | C4: =Company -> 0 | H4: 0.0005
H5: 0.0024
B6: ²Ùë³ÃÇíª | C6: =Date -> 0 | H6: 0.005
H7: 0.012
B8: Ð³ßí³ñÏíáÕ ³Ý¹»ñé³ÛÃÇÝ·Ç éÇëÏÇ Ñ³Ù³ñ å³Ñ³ÝçíáÕ Ï³åÇï³ÉÇ Ù»ÍáõÃÛáõÝ | C8: ì»ñ³³å³Ñáí³·ñáõÃÛ³Ý ³ñ¹ÛáõÝùáõÙ ³Ý¹»ñé³ÛÃÇÝ·Ç éÇëÏÇ Ýí³½»óÙ³Ý ¿ý»Ïï | H8: 0.042
B9: =IFERROR(SQRT(SUM(Sheet26!C10:E12)),"") -> 0 | C9: =IFERROR(0.25*SUMPRODUCT(C13:C37,E13:E37),0) -> 0
E10: (Ñ³½³ñ ¹ñ³Ù)
B11: ì»ñ³³å³Ñáí³·ñáÕÇ ³Ýí³ÝáõÙ | C11: ì»ñ³³å³Ñáí³·ñáÕÇ éÇëÏÇ ·áñÍ³ÏÇó | D11: Ð³ßí³ñÏíáÕ ³Ý¹»ñé³ÛÃÇÝ·Ç éÇëÏÇ Ñ³Ù³ñ å³Ñ³ÝçíáÕ Ï³åÇï³ÉÇ Ù»ÍáõÃÛáõÝ ³é³Ýó Ñ³ßíÇ ³éÝ»Éáõ í»ñ³³å³Ñáí³·ñáÕÇ Ñ»ï ÏÝùí³Í í»ñ³³å³Ñáí³·ñáõÃÛ³Ý å³ÛÙ³Ý³·ÇñÁ/ å³ÛÙ³Ý³·ñ»ñÁ (äÎk ÑÇå) | E11: ì»ñ³³å³Ñáí³·ñáÕÇ Ñ»ï ÏÝùí³Í å³ÛÙ³Ý³·ñÇ/ å³ÛÙ³Ý³·ñ»ñÇ ³ñ¹ÛáõÝùáõÙ ³Ý¹»ñé³ÛÃÇÝ·Ç éÇëÏÇ Ýí³½»óÙ³Ý ¿ý»Ïï
B12: 1 | C12: 2 | D12: 3 | E12: 4
A13: 1 | E13: =IFERROR(D13-$B$9,"") -> 0
A14: 2 | E14: =IFERROR(D14-$B$9,"") -> 0
A15: 3 | E15: =IFERROR(D15-$B$9,"") -> 0
A16: 4 | E16: =IFERROR(D16-$B$9,"") -> 0
A17: 5 | E17: =IFERROR(D17-$B$9,"") -> 0
A18: 6 | E18: =IFERROR(D18-$B$9,"") -> 0
A19: 7 | E19: =IFERROR(D19-$B$9,"") -> 0
A20: 8 | E20: =IFERROR(D20-$B$9,"") -> 0
A21: 9 | E21: =IFERROR(D21-$B$9,"") -> 0
A22: 10 | E22: =IFERROR(D22-$B$9,"") -> 0
A23: 11 | E23: =IFERROR(D23-$B$9,"") -> 0
A24: 12 | E24: =IFERROR(D24-$B$9,"") -> 0
... A37: 25 | E37: =IFERROR(D37-$B$9,"") -> 0
C40: ²å³Ñáí³·ñ³Ï³Ý ÁÝÏ»ñáõÃÛ³Ý í³ñãáõÃÛ³Ý Ý³Ë³·³Ñª | D40: =Sheet1!F44 -> 0
C41: (¶áñÍ³¹Çñ ïÝûñ»Ý)
C43: ¶ÉË³íáñ Ñ³ßí³å³Ñª | D43: =Sheet1!F47 -> 0
C45: ä³ï³ëË³Ý³ïáõ ³Ïïáõ³ñª | D45: =Sheet1!F49 -> 0

Sheet Sheet10
F2: ²ÕÛáõë³Ï 14
F3: (Ñ³½³ñ ¹ñ³Ù)
B4: ²ðî²ðÄàôÂ²ÚÆÜ èÆêÎÆ Ð²Ø²ð ä²Ð²ÜæìàÔ Î²äÆî²ÈÆ ØºÌàôÂÚ²Ü Ð²Þì²ðÎ
C5: ²ñï³ñÅáõÃ³ÛÇÝ »ñÏ³ñ ¹Çñù»ñÇ Ñ³Ýñ³·áõÙ³ñ | D5: ²ñï³ñÅáõÃ³ÛÇÝ Ï³ñ× ¹Çñù»ñÇ Ñ³Ýñ³·áõÙ³ñ (µ³ó³ñÓ³Ï Ù»ÍáõÃÛ³Ùµ) | E5: ´³ÝÏ³ÛÇÝ áëÏáõ, Ã³ÝÏ³ñÅ»ù Ù»ï³ÕÝ»ñÇ ëï³Ý¹³ñï³óí³Í ÓáõÉ³ÏïáñÝ»ñÇ ¨ Ù»ï³Õ³Ï³Ý Ñ³ßÇíÝ»ñÇ µ³ó ¹Çñù»ñÇ Ñ³Ýñ³·áõÙ³ñ (µ³ó³ñÓ³Ï Ù»ÍáõÃÛ³Ùµ) | F5: ²ñï³ñÅáõÃ³ÛÇÝ Ñ³Ù³Ë³éÝ ¹Çñù
B6: ²Ùëí³ ûñ»ñÁ | C6: 1 | D6: 2 | E6: 3 | F6: 4
B7: 1 | F7: =SUM(C7:E7) -> 0
B8: 2 | F8: =SUM(C8:E8) -> 0
B9: 3 | F9: =SUM(C9:E9) -> 0
B10: 4 | F10: =SUM(C10:E10) -> 0
B11: 5 | F11: =SUM(C11:E11) -> 0
B12: 6 | F12: =SUM(C12:E12) -> 0
B13: 7 | F13: =SUM(C13:E13) -> 0
B14: 8 | F14: =SUM(C14:E14) -> 0
B15: 9 | F15: =SUM(C15:E15) -> 0
B16: 10 | F16: =SUM(C16:E16) -> 0
B17: 11 | F17: =SUM(C17:E17) -> 0
B18: 12 | F18: =SUM(C18:E18) -> 0
... B37: 31 | F37: =SUM(C37:E37) -> 0
B38: ²ñï³ñÅáõÃ³ÛÇÝ éÇëÏÇ Ñ³Ù³ñ ³Ñ³ÝçíáÕ Ï³åÇï³ÉÇ Ù»ÍáõÃÛáõÝ | C38: x | D38: x | E38: x | F38: =0.25*MAX(F7:F37) -> 0
D41: ²å³Ñáí³·ñ³Ï³Ý ÁÝÏ»ñáõÃÛ³Ý í³ñãáõÃÛ³Ý Ý³Ë³·³Ñª
D42: (¶áñÍ³¹Çñ ïÝûñ»Ý) | E42: =Sheet1!F44 -> 0
D44: ¶ÉË³íáñ Ñ³ßí³å³Ñª | E44: =Sheet1!F47 -> 0
D46: ä³ï³ëË³Ý³ïáõ ³Ïïáõ³ñª | E46: =Sheet1!F49 -> 0

Sheet Sheet11
C2: ²ÔÚàôê²Î 15. ÀÜÎºðàôÂÚ²Ü ²ÎîÆìÜºðÆ, ä²ðî²ìàðàôÂÚàôÜÜºðÆ ºì ²ðî²Ð²ÞìºÎÞè²ÚÆÜ Ð²ÞÆìÜºðÆ Î²¼ØÀ Àêî ²è²ÜÒÆÜ ²ðî²ðÄàôÚÂÜºðÆ
E4: ²å³Ñáí³·ñ³Ï³Ý ÁÝÏ»ñáõÃÛ³Ý ³Ýí³ÝáõÙª | F4: =Company -> 0
E6: ²Ùë³ÃÇíª | F6: =Date -> 0
BE8: (Ñ³½³ñ ¹ñ³Ù)
C9: ²ñï³ñÅáõÛÃÇ ISO Ïá¹Á | D9: ²ØÜ ¹áÉ³ñ | E9: ²Ý·ÉÇ³Ï³Ý ýáõÝï ëï»éÉÇÝ· | F9: ºìðà | G9: èáõë³ëï³ÝÛ³Ý éáõµÉÇ | H9: ê¸è | I9: ´³ÝÏ³ÛÇÝ áëÏÇ | J9: Î³Ý³¹³Ï³Ý ¹áÉ³ñ | K9: ²íëïñ³ÉÇ³Ï³Ý ¹áÉ³ñ | L9: Þí»Ûó³ñ³Ï³Ý ýñ³ÝÏ | M9: ¸³ÝÇ³Ï³Ý ÏñáÝ | N9: Æñ³Ý³Ï³Ý éÇ³É | O9: Ö³åáÝ³Ï³Ý Ç»Ý | P9: ´áõÉÕ³ñ³Ï³Ý É»í | Q9: àõÏñ³ÇÝ³Ï³Ý ·ñÇíÝÛ³ | R9: àõ½µ»Ï³Ï³Ý ëáõÙ | S9: ´»Éáéáõë³Ï³Ý éáõµÉÇ | T9: î³çÇÏ³Ï³Ý ëáÙáÝÇ | U9: ÂáõñùÙ»Ý³Ï³Ý Ù³Ý³Ã | V9: ìñ³ó³Ï³Ý É³ñÇ | W9: ²ñ·»ÝïÇÝ³Ï³Ý å»ëá | X9: º·Çåï³Ï³Ý ýáõÝï | Y9: Âáõñù³Ï³Ý ÉÇñ³ | Z9: Æëñ³Û»É³Ï³Ý ß»ù»É | AA9: È»Ñ³Ï³Ý ½ÉáïÇ | AB9: ÈÇµ³Ý³ÝÛ³Ý ýáõÝï | AC9: ÐÝ¹Ï³Ï³Ý éáõ÷Ç | AD9: ÐáõÝ·³ñ³Ï³Ý ýáñÇÝï | AE9: Üáñí»·³Ï³Ý ÏñáÝ | AF9: Þí»¹³Ï³Ý ÏñáÝ | AG9: â»Ë³Ï³Ý ÏñáÝ³ | AH9: âÇÝ³Ï³Ý Ûáõ³Ý | AI9: êÇÝ·³åáõñÛ³Ý ¹áÉ³ñ | AJ9: êÉáí³ÏÛ³Ý ÏñáÝ³ | AK9: Ð³ñ³íÏáñ»³Ï³Ý íáÝ | AL9: ´ñ³½ÇÉ³Ï³Ý é»³É | AM9: Ø»ùëÇÏ³Ï³Ý å»ëá | AN9: ê³áõ¹. ²ñ³µ³Ï³Ý éÇ³É | AO9: êÇñÇ³Ï³Ý ýáõÝï | AP9: Ø²¾ ¹ÇñË³Ù | AQ9: øáõí»ÛÃÛ³Ý ¹ÇÝ³ñ | AR9: èáõÙÇÝ³Ï³Ý É»Û | AS9: ÆëÉ³Ý¹³Ï³Ý ÏñáÝ | AT9: È³ïíÇ³Ï³Ý É³ï | AU9: ÈÇïí³Ï³Ý ÉÇï | AV9: ÔñÕñ½³Ï³Ý ëáÙ | AW9: Ô³½³Ë³Ï³Ý ï»Ý·» | AX9: ØáÉ¹áí³Ï³Ý É»Û | AY9: äÉ³ïÇÝ» µ³ÝÏ³ÛÇÝ ëï³Ý¹³ñï³óí³Í ÓáõÉ³ÏïáñÝ»ñ | AZ9: ²ñÍ³Ã» µ³ÝÏ³ÛÇÝ ëï³Ý¹³ñï³óí³Í ÓáõÉ³ÏïáñÝ»ñ | BA9: àëÏáõ ëï³Ý¹³ñï³óí³Í ÓáõÉ³ÏïáñÝ»ñ | BB9: Ø»ï³Õ³Ï³Ý Ñ³ßÇíÝ»ñ | BC9: ²ÛÉ ³ñï³ñÅáõÛÃ 1 | BD9: ²ÛÉ ³ñï³ñÅáõÛÃ 2 | BE9: ²ÛÉ ³ñï³ñÅáõÛÃ 3
B10: 1 | C10: ²ñï³ñÅáõÃ³ÛÇÝ ³ÏïÇíÝ»ñ, ³Û¹ ÃíáõÙª
B11: 1.1. | C11: àõÕÕ³ÏÇ ³å³Ñáí³·ñáõÃÛ³Ý ·Íáí ëï³óí»ÉÇù ·áõÙ³ñÝ»ñ
B12: 1.2. | C12: Ð³Ù³³å³Ñáí³·ñáõÃÛ³Ý å³ÛÙ³Ý³·ñ»ñÇó ëï³óí»ÉÇù ·áõÙ³ñÝ»ñ
B13: 1.3. | C13: ì»ñ³³å³Ñáí³·ñáõÃÛ³Ý å³ÛÙ³Ý³·ñ»ñÇó ëï³óí»ÉÇù ·áõÙ³ñÝ»ñ
B14: 1.4. | C14: ²å³Ñáí³·ñáõÃÛ³Ý Ñ³ïáõóáõÙÝ»ñÇ ·Íáí å³Ñ³ÝçÝ»ñ Ñ³Ù³³å³Ñáí³·ñáÕÝ»ñÇ ÝÏ³ïÙ³Ùµ
B15: 1.5. | C15: ²å³Ñáí³·ñáõÃÛ³Ý Ñ³ïáõóáõÙÝ»ñÇ ·Íáí å³Ñ³ÝçÝ»ñ í»ñ³³å³Ñáí³·ñáÕÝ»ñÇ ÝÏ³ïÙ³Ùµ
B16: 1.6. | C16: ²å³Ñáí³·ñáõÃÛ³Ý Ñ³ïáõóáõÙÝ»ñÇ ·Íáí å³Ñ³ÝçÝ»ñ ³ÛÉ ³ÝÓ³Ýó ÝÏ³ïÙ³Ùµ
B17: 1.7. | C17: êï³óí»ÉÇù ³ÛÉ ·áõÙ³ñÝ»ñ ³å³Ñáí³·ñ³Ï³Ý å³ÛÙ³Ý³·ñ»ñÇó
B18: 2 | C18: ²ñï³ñÅáõÃ³ÛÇÝ å³ñï³íáñáõÃÛáõÝÝ»ñ, ³Û¹ ÃíáõÙª
B19: 2.1. | C19: àõÕÕ³ÏÇ ³å³Ñáí³·ñ³Ï³Ý å³ÛÙ³Ý³·ñ»ñÇ ·Íáí í×³ñí»ÉÇù ·áõÙ³ñÝ»ñ
B20: 2.2. | C20: Ð³Ù³³å³Ñáí³·ñáõÃÛ³Ý å³ÛÙ³Ý³·ñ»ñÇ ·Íáí í×³ñí»ÉÇù ·áõÙ³ñÝ»ñ
B21: 2.3. | C21: ì»ñ³³å³Ñáí³·ñáõÃÛ³Ùµ ÁÝ¹áõÝ³Í éÇëÏ»ñÇ ·Íáí í×³ñí»ÉÇù ·áõÙ³ñÝ»ñ
B22: 2.4. | C22: ²å³Ñáí³·ñáõÃÛ³Ý ·Íáí Ñ³Ù³³å³Ñáí³·ñáÕÝ»ñÇÝ ÷áË³Ýóí»ÉÇù ³å³Ñáí³·ñ³í×³ñÝ»ñ
B23: 2.5. | C23: ²å³Ñáí³·ñáõÃÛ³Ý ·Íáí í»ñ³³å³Ñáí³·ñáÕÝ»ñÇÝ ÷áË³Ýóí»ÉÇù ³å³Ñáí³·ñ³í×³ñÝ»ñ
B24: 2.6. | C24: êï³óí³Í Ï³ÝË³í×³ñÝ»ñ ³å³Ñáí³·ñáõÃÛ³Ý ·Íáí
B25: 3 | C25: ²ñï³ñÅáõÃ³ÛÇÝ ³ñï³Ñ³ßí»Ïßé³ÛÇÝ Ñ³ßÇíÝ»ñ, ³Û¹ ÃíáõÙª
B26: 3.1. | C26: ²å³Ñáí³·ñ³Ï³Ý ·áõÙ³ñÝ»ñ
B27: 3.2. | C27: ä³ÛÙ³Ý³Ï³Ý ³ÏïÇíÝ»ñ ³Í³ÝóÛ³É ·áñÍÇùÝ»ñÇ ·Íáí
B28: 3.3. | C28: ä³ÛÙ³Ý³Ï³Ý å³ñï³íáñáõÃÛáõÝÝ»ñ ³Í³ÝóÛ³É ·áñÍÇùÝ»ñÇ ·Íáí
B29: 3.4 | C29: ì»ñ³³å³Ñáí³·ñ³Ï³Ý ·áõÙ³ñ
F32: ²å³Ñáí³·ñ³Ï³Ý ÁÝÏ»ñáõÃÛ³Ý í³ñãáõÃÛ³Ý Ý³Ë³·³Ñª | G32: =Sheet1!F44 -> 0
F33: (¶áñÍ³¹Çñ ïÝûñ»Ý)
F35: ¶ÉË³íáñ Ñ³ßí³å³Ñª | G35: =Sheet1!F47 -> 0
F37: ä³ï³ëË³Ý³ïáõ ³Ïïáõ³ñª | G37: =Sheet1!F49 -> 0

Sheet Sheet12
A2: ԱՂՅՈՒՍԱԿ 16.ԱՊԱՀՈՎԱԳՐԱՎՃԱՐՆԵՐԻ ԵՎ ՏԵԽՆԻԿԱՆԱՆ ՊԱՀՈՒՍՏԻ ՌԻՍԿԻ ՀԱՄԱՐ ՊԱՀԱՆՋՎՈՂ ԿԱՊԻՏԱԼԻ ՀԱՇՎԱՐԿ ՈՉ ԿՅԱՆՔԻ ԱՆԴԵՐՌԱՅԹԻՆԳԻ ՌԻՍԿԻ ՀԱՄԱՐ
C4: ²å³Ñáí³·ñ³Ï³Ý ÁÝÏ»ñáõÃÛ³Ý ³Ýí³ÝáõÙª | D4: =Company -> 0
F5: =WEEKDAY(D6,2) -> 6
C6: ²Ùë³ÃÇíª | D6: =Date -> 0
A9: Ì³í³É³ÛÇÝ Ù»ÍáõÃÛáõÝ (Ì) | B9: =SUM($J$15:$J$23) -> 0
A10: êï³Ý¹³ñï ß»ÕáõÙ (¶) | B10: =IFERROR(SQRT(SUM(Sheet25!B18:J26))/B9,0) -> 0
A11: ²å³Ñáí³·ñ³í×³ñÝ»ñÇ ¨ ï»ËÝÇÏ³Ï³Ý å³ÑáõëïÇ éÇëÏÇ Ñ³Ù³ñ å³Ñ³ÝçíáÕ Ï³åÇï³É (äÎ ³å) | B11: =IFERROR(3*B9*B10,"0") -> 0
L12: (Ñ³½³ñ ¹ñ³Ù)
A13: ²å³Ñáí³·ñáõÃÛ³Ý ¹³ë | B13: ²i | C13: ²Ýi | D13: ²·áñÍáÕi | E13: ²³å³·³i | F13: Ì³åi | G13: Ìïåi | H13: ¶³åi | I13: ¶ïåi | J13: Ìi | K13: ¶i | L13: ¶i*Ìi
A14: 1 | B14: 2 | C14: 3 | D14: 4 | E14: 5 | F14: 6 | G14: 7 | H14: 8 | I14: 9 | J14: 10 | K14: 11 | L14: 12
A15: ò³Ù³ù³ÛÇÝ ³íïáïñ³Ýëåáñï³ÛÇÝ ÙÇçáóÝ»ñÇ û·ï³·áñÍáõÙÇó µËáÕ å³ï³ëË³Ý³ïíáõÃÛ³Ý ³å³Ñáí³·ñáõÃÛáõÝ | F15: =MAX(B15,C15)+D15+E15 -> 0 | H15: 0.1 | I15: 0.09 | J15: =F15+G15 -> 0 | K15: =IFERROR(SQRT((H15*F15)^2+H15*F15*G15*I15+(I15*G15)^2)/(F15+G15),"") | L15: =IFERROR(J15*K15,0) -> 0
A16: ò³Ù³ù³ÛÇÝ ¨ »ñÏ³ÃáõÕ³ÛÇÝ ïñ³ÝëåáñïÇ ³å³Ñáí³·ñáõÃÛáõÝ | F16: =MAX(B16,C16)+D16+E16 -> 0 | H16: 0.08 | I16: 0.08 | J16: =F16+G16 -> 0 | K16: =IFERROR(SQRT((H16*F16)^2+H16*F16*G16*I16+(I16*G16)^2)/(F16+G16),"") | L16: =IFERROR(J16*K16,0) -> 0
A17: ú¹³Ý³í»ñÇ, çñ³ÛÇÝ ÷áË³¹ñ³ÙÇçáóÝ»ñÇ, ÷áË³¹ñíáÕ ·áõÛùÇ (µ»éÝ»ñÇ) ³å³Ñáí³·ñáõÃÛáõÝ, û¹³Ý³í»ñÇ ¨ çñ³ÛÇÝ ÷áË³¹ñ³ÙÇçáóÝ»ñÇ û·ï³·áñÍáõÙÇó µËáÕ å³ï³ëË³Ý³ïíáõÃÛ³Ý ³å³Ñáí³·ñáõÃÛáõÝ | F17: =MAX(B17,C17)+D17+E17 -> 0 | H17: 0.15 | I17: 0.11 | J17: =F17+G17 -> 0 | K17: =IFERROR(SQRT((H17*F17)^2+H17*F17*G17*I17+(I17*G17)^2)/(F17+G17),"") | L17: =IFERROR(J17*K17,0) -> 0
A18: Ðñ¹»ÑÇó ¨ µÝ³Ï³Ý ³Õ»ïÝ»ñÇó ³å³Ñáí³·ñáõÃÛáõÝ, ·áõÛùÇÝ Ñ³ëóí³Í ³ÛÉ íÝ³ëÝ»ñÇó ³å³Ñáí³·ñáõÃÛáõÝ | F18: =MAX(B18,C18)+D18+E18 -> 0 | H18: 0.08 | I18: 0.1 | J18: =F18+G18 -> 0 | K18: =IFERROR(SQRT((H18*F18)^2+H18*F18*G18*I18+(I18*G18)^2)/(F18+G18),"") | L18: =IFERROR(J18*K18,0) -> 0
A19: ÀÝ¹Ñ³Ýáõñ å³ï³ëË³Ý³ïíáõÃÛ³Ý ³å³Ñáí³·ñáõÃÛáõÝ | F19: =MAX(B19,C19)+D19+E19 -> 0 | H19: 0.14 | I19: 0.11 | J19: =F19+G19 -> 0 | K19: =IFERROR(SQRT((H19*F19)^2+H19*F19*G19*I19+(I19*G19)^2)/(F19+G19),"") | L19: =IFERROR(J19*K19,0) -> 0
A20: ì³ñÏÇ ³å³Ñáí³·ñáõÃÛáõÝ, »ñ³ßËÇùÇ ïñ³Ù³¹ñáõÙ | F20: =MAX(B20,C20)+D20+E20 -> 0 | H20: 0.12 | I20: 0.19 | J20: =F20+G20 -> 0 | K20: =IFERROR(SQRT((H20*F20)^2+H20*F20*G20*I20+(I20*G20)^2)/(F20+G20),"") | L20: =IFERROR(J20*K20,0) -> 0
A21: ¸³ï³Ï³Ý ¨ ³ñï³¹³ï³Ï³Ý Í³Ëë»ñÇ ³å³Ñáí³·ñáõÃÛáõÝ | F21: =MAX(B21,C21)+D21+E21 -> 0 | H21: 0.07 | I21: 0.12 | J21: =F21+G21 -> 0 | K21: =IFERROR(SQRT((H21*F21)^2+H21*F21*G21*I21+(I21*G21)^2)/(F21+G21),"") | L21: =IFERROR(J21*K21,0) -> 0
A22: ²ç³ÏóáõÃÛ³Ý ³å³Ñáí³·ñáõÃÛáõÝ | F22: =MAX(B22,C22)+D22+E22 -> 0 | H22: 0.09 | I22: 0.2 | J22: =F22+G22 -> 0 | K22: =IFERROR(SQRT((H22*F22)^2+H22*F22*G22*I22+(I22*G22)^2)/(F22+G22),"") | L22: =IFERROR(J22*K22,0) -> 0
A23: üÇÝ³Ýë³Ï³Ý íÝ³ëÝ»ñÇ ³å³Ñáí³·ñáõÃÛáõÝ | F23: =MAX(B23,C23)+D23+E23 -> 0 | H23: 0.13 | I23: 0.2 | J23: =F23+G23 -> 0 | K23: =IFERROR(SQRT((H23*F23)^2+H23*F23*G23*I23+(I23*G23)^2)/(F23+G23),"") | L23: =IFERROR(J23*K23,0) -> 0
C26: ²å³Ñáí³·ñ³Ï³Ý ÁÝÏ»ñáõÃÛ³Ý í³ñãáõÃÛ³Ý Ý³Ë³·³Ñª | D26: =Sheet1!F44 -> 0
C27: (¶áñÍ³¹Çñ ïÝûñ»Ý)
C29: ¶ÉË³íáñ Ñ³ßí³å³Ñª | D29: =Sheet1!F47 -> 0
C31: ä³ï³ëË³Ý³ïáõ ³Ïïáõ³ñª | D31: =Sheet1!F49 -> 0

Sheet Sheet13
A2: ²ÔÚàôê²Î 17.´Ý³Ï³Ý ³Õ»ïÝ»ñÇ éÇëÏÇ Ñ³Ù³ñ Ï³åÇï³ÉÇ å³Ñ³ÝçÇ Ñ³ßí³ñÏ áã ÏÛ³ÝùÇ ³Ý¹»ñé³ÛÃÇÝ·Ç éÇëÏÇ Ñ³Ù³ñ
B5: ²å³Ñáí³·ñ³Ï³Ý ÁÝÏ»ñáõÃÛ³Ý ³Ýí³ÝáõÙª | C5: =Company -> 0
B7: ²Ùë³ÃÇíª | C7: =Date -> 0
A10: ´Ý³Ï³Ý ³Õ»ïÝ»ñÇ éÇëÏÇ Ñ³Ù³ñ Ï³åÇï³ÉÇ å³Ñ³Ýç (äÎ µÝ.³Õ»ï) | B10: =IFERROR(SQRT(K22^2+K34^2+AF47^2+K59^2+E71^2),0) -> 0
K11: ²ÕÛáõë³Ï 17.1
K12: (Ñ³½³ñ ¹ñ³Ù)
A13: öáÃáñÇÏ | B13: ² (÷áÃáñÇÏ, ³ÛÉ, Ü) | C13: ² (÷áÃáñÇÏ, ³ÛÉ, ²) | D13: Î (÷áÃáñÇÏ, ³ÛÉ) | E13: ÀÎ|Î (÷áÃáñÇÏ, ³ÛÉ) | F13: äÎ (÷áÃáñÇÏ, ³ÛÉ) | G13: ²ä ÷áÃáñÇÏj | H13: Î (÷áÃáñÇÏ, ²¶) | I13: ÀÎ|Î (÷áÃáñÇÏ, ²¶) | J13: äÎ (÷áÃáñÇÏ,ÐÐ) | K13: äÎ ÷áÃáñÇÏ
A14: 1 | B14: 2 | C14: 3 | D14: 4 | E14: 5 | F14: 6 | G14: 7 | H14: 8 | I14: 9 | J14: 10 | K14: 11
A15: ò³Ù³ù³ÛÇÝ ïñ³ÝëåáñïÇ ³å³Ñáí³·ñáõÃÛáõÝ | D15: =1.75*MAX(B15,C15) -> 0 | F15: =IF(E15="","0",Sheet1!$C$16-Sheet13!E15) -> 0 | H15: =0.0008*G15 -> 0 | J15: =IF(I15="","0",Sheet1!$C$16-Sheet13!I15) -> 0 | K15: =SQRT(J15^2+F15^2) -> 0
A16: ºñÏ³ÃáõÕ³ÛÇÝ ïñ³ÝëåáñïÇ ³å³Ñáí³·ñáõÃÛáõÝ | D16: =1.75*MAX(B16,C16) -> 0 | F16: =IF(E16="","0",Sheet1!$C$16-Sheet13!E16) -> 0 | H16: =0.0008*G16 -> 0 | J16: =IF(I16="","0",Sheet1!$C$16-Sheet13!I16) -> 0 | K16: =SQRT(J16^2+F16^2) -> 0
A17: ú¹³Ý³í»ñÇ ³å³Ñáí³·ñáõÃÛáõÝ | D17: =1.75*MAX(B17,C17) -> 0 | F17: =IF(E17="","0",Sheet1!$C$16-Sheet13!E17) -> 0 | H17: =0.0008*G17 -> 0 | J17: =IF(I17="","0",Sheet1!$C$16-Sheet13!I17) -> 0 | K17: =SQRT(J17^2+F17^2) -> 0
A18: æñ³ÛÇÝ ÷áË³¹ñ³ÙÇçáóÝ»ñÇ ³å³Ñáí³·ñáõÃÛáõÝ | D18: =1.75*MAX(B18,C18) -> 0 | F18: =IF(E18="","0",Sheet1!$C$16-Sheet13!E18) -> 0 | H18: =0.0008*G18 -> 0 | J18: =IF(I18="","0",Sheet1!$C$16-Sheet13!I18) -> 0 | K18: =SQRT(J18^2+F18^2) -> 0
A19: öáË³¹ñíáÕ ·áõÛùÇ (µ»éÝ»ñÇ) ³å³Ñáí³·ñáõÃÛáõÝ | D19: =1.75*MAX(B19,C19) -> 0 | F19: =IF(E19="","0",Sheet1!$C$16-Sheet13!E19) -> 0 | H19: =0.0008*G19 -> 0 | J19: =IF(I19="","0",Sheet1!$C$16-Sheet13!I19) -> 0 | K19: =SQRT(J19^2+F19^2) -> 0
A20: Ðñ¹»ÑÇó ¨ µÝ³Ï³Ý ³Õ»ïÝ»ñÇó ³å³Ñáí³·ñáõÃÛáõÝ | D20: =1.75*MAX(B20,C20) -> 0 | F20: =IF(E20="","0",Sheet1!$C$16-Sheet13!E20) -> 0 | H20: =0.0008*G20 -> 0 | J20: =IF(I20="","0",Sheet1!$C$16-Sheet13!I20) -> 0 | K20: =SQRT(J20^2+F20^2) -> 0
A21: ¶áõÛùÇÝ Ñ³ëóí³Í ³ÛÉ íÝ³ëÝ»ñÇó ³å³Ñáí³·ñáõÃÛáõÝ | D21: =1.75*MAX(B21,C21) -> 0 | F21: =IF(E21="","0",Sheet1!$C$16-Sheet13!E21) -> 0 | H21: =0.0008*G21 -> 0 | J21: =IF(I21="","0",Sheet1!$C$16-Sheet13!I21) -> 0 | K21: =SQRT(J21^2+F21^2) -> 0
K22: =IFERROR(SUM(K15:K21),0) -> 0
K23: ²ÕÛáõë³Ï 17.2
K24: (Ñ³½³ñ ¹ñ³Ù)
A25: Î³ñÏáõï | B25: ² (Ï³ñÏáõï , ³ÛÉ, Ü) | C25: ² (Ï³ñÏáõï , ³ Û É, ²) | D25: Î (Ï³ñÏáõï, ³ÛÉ) | E25: ÀÎ|Î (Ï³ñÏáõï, ³ÛÉ) | F25: äÎ (Ï³ñÏáõï, ³ÛÉ) | G25: ²ä Ï³ñÏáõïj | H25: Î (Ï³ñÏáõï, ²¶) | I25: ÀÎ|Î (Ï³ñÏáõï, ²¶) | J25: äÎ (Ï³ñÏáõï, ÐÐ) | K25: äÎ Ï³ñÏáõï
A26: 1 | B26: 2 | C26: 3 | D26: 4 | E26: 5 | F26: 6 | G26: 7 | H26: 8 | I26: 9 | J26: 10 | K26: 11
A27: ò³Ù³ù³ÛÇÝ ïñ³ÝëåáñïÇ ³å³Ñáí³·ñáõÃÛáõÝ | D27: =0.3*MAX(B27,C27) -> 0 | F27: =IF(E27="","0",Sheet1!$C$16-Sheet13!E27) -> 0 | H27: =0.001*G27 -> 0 | J27: =IF(I27="","0",Sheet1!$C$16-Sheet13!I27) -> 0 | K27: =SQRT(J27^2+F27^2) -> 0
A28: ºñÏ³ÃáõÕ³ÛÇÝ ïñ³ÝëåáñïÇ ³å³Ñáí³·ñáõÃÛáõÝ | D28: =0.3*MAX(B28,C28) -> 0 | F28: =IF(E28="","0",Sheet1!$C$16-Sheet13!E28) -> 0 | H28: =0.001*G28 -> 0 | J28: =IF(I28="","0",Sheet1!$C$16-Sheet13!I28) -> 0 | K28: =SQRT(J28^2+F28^2) -> 0
A29: ú¹³Ý³í»ñÇ ³å³Ñáí³·ñáõÃÛáõÝ | D29: =0.3*MAX(B29,C29) -> 0 | F29: =IF(E29="","0",Sheet1!$C$16-Sheet13!E29) -> 0 | H29: =0.001*G29 -> 0 | J29: =IF(I29="","0",Sheet1!$C$16-Sheet13!I29) -> 0 | K29: =SQRT(J29^2+F29^2) -> 0
A30: æñ³ÛÇÝ ÷áË³¹ñ³ÙÇçáóÝ»ñÇ ³å³Ñáí³·ñáõÃÛáõÝ | D30: =0.3*MAX(B30,C30) -> 0 | F30: =IF(E30="","0",Sheet1!$C$16-Sheet13!E30) -> 0 | H30: =0.001*G30 -> 0 | J30: =IF(I30="","0",Sheet1!$C$16-Sheet13!I30) -> 0 | K30: =SQRT(J30^2+F30^2) -> 0
A31: öáË³¹ñíáÕ ·áõÛùÇ (µ»éÝ»ñÇ) ³å³Ñáí³·ñáõÃÛáõÝ | D31: =0.3*MAX(B31,C31) -> 0 | F31: =IF(E31="","0",Sheet1!$C$16-Sheet13!E31) -> 0 | H31: =0.001*G31 -> 0 | J31: =IF(I31="","0",Sheet1!$C$16-Sheet13!I31) -> 0 | K31: =SQRT(J31^2+F31^2) -> 0
A32: Ðñ¹»ÑÇó ¨ µÝ³Ï³Ý ³Õ»ïÝ»ñÇó ³å³Ñáí³·ñáõÃÛáõÝ | D32: =0.3*MAX(B32,C32) -> 0 | F32: =IF(E32="","0",Sheet1!$C$16-Sheet13!E32) -> 0 | H32: =0.001*G32 -> 0 | J32: =IF(I32="","0",Sheet1!$C$16-Sheet13!I32) -> 0 | K32: =SQRT(J32^2+F32^2) -> 0
A33: ¶áõÛùÇÝ Ñ³ëóí³Í ³ÛÉ íÝ³ëÝ»ñÇó ³å³Ñáí³·ñáõÃÛáõÝ | D33: =0.3*MAX(B33,C33) -> 0 | F33: =IF(E33="","0",Sheet1!$C$16-Sheet13!E33) -> 0 | H33: =0.001*G33 -> 0 | J33: =IF(I33="","0",Sheet1!$C$16-Sheet13!I33) -> 0 | K33: =SQRT(J33^2+F33^2) -> 0
K34: =IFERROR(SUM(K27:K33),0) -> 0
AF35: ²ÕÛáõë³Ï 17.3
AF36: (Ñ³½³ñ ¹ñ³Ù)
A37: ºñÏñ³ß³ñÅ | B37: ² (»ñÏñ³ß³ ñÅ, ³ÛÉ, Ü) | C37: ² (»ñÏñ³ ß³ ñÅ, ³ÛÉ, ²) | D37: Î (»ñÏñ³ß³ñÅ, ³ÛÉ) | E37: ÀÎ|Î (»ñÏñ³ß³ñÅ, ³ÛÉ) | F37: äÎ (»ñÏñ³ß³ñÅ, ³ÛÉ) | G37: ²ä »ñÏñ³ß³ñÅij | M37: Î (»ñÏñ³ß³ñÅ, ²¶)i | S37: ÀÎ|Î (»ñÏñ³ß³ñÅ, ²¶)i | Y37: äÎ (»ñÏñ³ß³ñÅ, ²¶)i | AE37: äÎ (»ñÏñ³ß³ñÅ, ÐÐ) | AF37: äÎ »ñÏñ³ß³ñÅ
G38: ÊáõÙµ 1 | H38: ÊáõÙµ 2 | I38: ÊáõÙµ 3 | J38: ÊáõÙµ 4 | K38: ÊáõÙµ 5 | L38: ÊáõÙµ 6 | M38: ÊáõÙµ 1 | N38: ÊáõÙµ 2 | O38: ÊáõÙµ 3 | P38: ÊáõÙµ 4 | Q38: ÊáõÙµ 5 | R38: ÊáõÙµ 6 | S38: ÊáõÙµ 1 | T38: ÊáõÙµ 2 | U38: ÊáõÙµ 3 | V38: ÊáõÙµ 4 | W38: ÊáõÙµ 5 | X38: ÊáõÙµ 6 | Y38: ÊáõÙµ 1 | Z38: ÊáõÙµ 2 | AA38: ÊáõÙµ 3 | AB38: ÊáõÙµ 4 | AC38: ÊáõÙµ 5 | AD38: ÊáõÙµ 6
A39: 1 | B39: 2 | C39: 3 | D39: 4 | E39: 5 | F39: 6 | G39: 7 | H39: 8 | I39: 9 | J39: 10 | K39: =+J39+1 -> 11 | L39: =+K39+1 -> 12 | M39: =+L39+1 -> 13 | N39: =+M39+1 -> 14 | O39: =+N39+1 -> 15 | P39: =+O39+1 -> 16 | Q39: =+P39+1 -> 17 | R39: =+Q39+1 -> 18 | ... AF39: =+AE39+1 -> 32
A40: ò³Ù³ù³ÛÇÝ ïñ³ÝëåáñïÇ ³å³Ñáí³·ñáõÃÛáõÝ | D40: =1.2*MAX(B40,C40) -> 0 | F40: =IF(E40="","0",Sheet1!$C$16-Sheet13!E40) -> 0 | M40: =0.025*G40 -> 0 | N40: =0.025*H40 -> 0 | O40: =0.025*I40 -> 0 | P40: =0.025*J40 -> 0 | Q40: =0.025*K40 -> 0 | R40: =0.025*L40 -> 0 | Y40: =IF(S40="","0",Sheet1!$C$16-Sheet13!S40) -> 0 | Z40: =IF(T40="","0",Sheet1!$C$16-Sheet13!T40) -> 0 | AA40: =IF(U40="","0",Sheet1!$C$16-Sheet13!U40) -> 0 | AB40: =IF(V40="","0",Sheet1!$C$16-Sheet13!V40) -> 0 | AC40: =IF(W40="","0",Sheet1!$C$16-Sheet13!W40) -> 0 | AD40: =IF(X40="","0",Sheet1!$C$16-Sheet13!X40) -> 0 | AE40: =SQRT(Y40^2+Z40^2+AA40^2+AB40^2+AC40^2+AD40^2) -> 0 | AF40: =SQRT(AE40^2+F40^2) -> 0
A41: ºñÏ³ÃáõÕ³ÛÇÝ ïñ³ÝëåáñïÇ ³å³Ñáí³·ñáõÃÛáõÝ | D41: =1.2*MAX(B41,C41) -> 0 | F41: =IF(E41="","0",Sheet1!$C$16-Sheet13!E41) -> 0 | M41: =0.025*G41 -> 0 | N41: =0.025*H41 -> 0 | O41: =0.025*I41 -> 0 | P41: =0.025*J41 -> 0 | Q41: =0.025*K41 -> 0 | R41: =0.025*L41 -> 0 | Y41: =IF(S41="","0",Sheet1!$C$16-Sheet13!S41) -> 0 | Z41: =IF(T41="","0",Sheet1!$C$16-Sheet13!T41) -> 0 | AA41: =IF(U41="","0",Sheet1!$C$16-Sheet13!U41) -> 0 | AB41: =IF(V41="","0",Sheet1!$C$16-Sheet13!V41) -> 0 | AC41: =IF(W41="","0",Sheet1!$C$16-Sheet13!W41) -> 0 | AD41: =IF(X41="","0",Sheet1!$C$16-Sheet13!X41) -> 0 | AE41: =SQRT(Y41^2+Z41^2+AA41^2+AB41^2+AC41^2+AD41^2) -> 0 | AF41: =SQRT(AE41^2+F41^2) -> 0
A42: ú¹³Ý³í»ñÇ ³å³Ñáí³·ñáõÃÛáõÝ | D42: =1.2*MAX(B42,C42) -> 0 | F42: =IF(E42="","0",Sheet1!$C$16-Sheet13!E42) -> 0 | M42: =0.025*G42 -> 0 | N42: =0.025*H42 -> 0 | O42: =0.025*I42 -> 0 | P42: =0.025*J42 -> 0 | Q42: =0.025*K42 -> 0 | R42: =0.025*L42 -> 0 | Y42: =IF(S42="","0",Sheet1!$C$16-Sheet13!S42) -> 0 | Z42: =IF(T42="","0",Sheet1!$C$16-Sheet13!T42) -> 0 | AA42: =IF(U42="","0",Sheet1!$C$16-Sheet13!U42) -> 0 | AB42: =IF(V42="","0",Sheet1!$C$16-Sheet13!V42) -> 0 | AC42: =IF(W42="","0",Sheet1!$C$16-Sheet13!W42) -> 0 | AD42: =IF(X42="","0",Sheet1!$C$16-Sheet13!X42) -> 0 | AE42: =SQRT(Y42^2+Z42^2+AA42^2+AB42^2+AC42^2+AD42^2) -> 0 | AF42: =SQRT(AE42^2+F42^2) -> 0
