Workbook
Name Company: Sheet1!$F$10
Name Date: Sheet1!$F$12
Name IF03_Sheet4_1: Sheet4!#REF!
Name IF03_Sheet5_1: Sheet18!$C$11
Name IF03_Sheet5_2: Sheet18!$G$11
Name Name: Sheet1!$B$6
Name x05IF3_N2: Sheet1!$C$31
Name x10IF3_N3: Sheet1!$D$31
Name x10IF3_N5: Sheet1!$E$31
Name x10IF3_SinglBor_RiskAmount: Sheet1!$K$15
Name x10IF3_SinglContr_Liab: Sheet1!$J$15
Name xh53IF3_Cur_10Day_Dif: Sheet24!$C$33
Name xh53IF3_Cur_10Day_Dif_NoDev: Sheet24!$C$131
Name xh53IF3_Cur_10Day_Dif_SpecDev: Sheet24!$C$231
Name xh53IF3_Cur_10Day_Lim: Sheet24!$C$32
Name xh53IF3_Cur_10Day_Lim_NoDev: Sheet24!$C$130
Name xh53IF3_Cur_10Day_Lim_SpecDev: Sheet24!$C$230
Name xh53IF3_Cur_10EndDay: Sheet24!$C$31
Name xh53IF3_Cur_10EndDay_NoDev: Sheet24!$C$129
Name xh53IF3_Cur_10EndDay_SpecDev: Sheet24!$C$229
Name xh53IF3_Cur_11Day_Dif: Sheet24!$C$36
Name xh53IF3_Cur_11Day_Dif_NoDev: Sheet24!$C$134
Name xh53IF3_Cur_11Day_Dif_SpecDev: Sheet24!$C$234
Name xh53IF3_Cur_11Day_Lim: Sheet24!$C$35
Name xh53IF3_Cur_11Day_Lim_NoDev: Sheet24!$C$133
Name xh53IF3_Cur_11Day_Lim_SpecDev: Sheet24!$C$233
Name xh53IF3_Cur_11EndDay: Sheet24!$C$34
Name xh53IF3_Cur_11EndDay_NoDev: Sheet24!$C$132
Name xh53IF3_Cur_11EndDay_SpecDev: Sheet24!$C$232
Name xh53IF3_Cur_12Day_Dif: Sheet24!$C$39
Name xh53IF3_Cur_12Day_Dif_NoDev: Sheet24!$C$137
Name xh53IF3_Cur_12Day_Dif_SpecDev: Sheet24!$C$237
Name xh53IF3_Cur_12Day_Lim: Sheet24!$C$38
Name xh53IF3_Cur_12Day_Lim_NoDev: Sheet24!$C$136
Name xh53IF3_Cur_12Day_Lim_SpecDev: Sheet24!$C$236
Name xh53IF3_Cur_12EndDay: Sheet24!$C$37
Name xh53IF3_Cur_12EndDay_NoDev: Sheet24!$C$135
Name xh53IF3_Cur_12EndDay_SpecDev: Sheet24!$C$235
Name xh53IF3_Cur_13Day_Dif: Sheet24!$C$42
Name xh53IF3_Cur_13Day_Dif_NoDev: Sheet24!$C$140
Name xh53IF3_Cur_13Day_Dif_SpecDev: Sheet24!$C$240
Name xh53IF3_Cur_13Day_Lim: Sheet24!$C$41
Name xh53IF3_Cur_13Day_Lim_NoDev: Sheet24!$C$139
Name xh53IF3_Cur_13Day_Lim_SpecDev: Sheet24!$C$239
Name xh53IF3_Cur_13EndDay: Sheet24!$C$40
Name xh53IF3_Cur_13EndDay_NoDev: Sheet24!$C$138
Name xh53IF3_Cur_13EndDay_SpecDev: Sheet24!$C$238
Name xh53IF3_Cur_14Day_Dif: Sheet24!$C$45
Name xh53IF3_Cur_14Day_Dif_NoDev: Sheet24!$C$143
Name xh53IF3_Cur_14Day_Dif_SpecDev: Sheet24!$C$243
Name xh53IF3_Cur_14Day_Lim: Sheet24!$C$44
Name xh53IF3_Cur_14Day_Lim_NoDev: Sheet24!$C$142
Name xh53IF3_Cur_14Day_Lim_SpecDev: Sheet24!$C$242
Name xh53IF3_Cur_14EndDay: Sheet24!$C$43
Name xh53IF3_Cur_14EndDay_NoDev: Sheet24!$C$141
Name xh53IF3_Cur_14EndDay_SpecDev: Sheet24!$C$241
Name xh53IF3_Cur_15Day_Dif: Sheet24!$C$48
Name xh53IF3_Cur_15Day_Dif_NoDev: Sheet24!$C$146
Name xh53IF3_Cur_15Day_Dif_SpecDev: Sheet24!$C$246
Name xh53IF3_Cur_15Day_Lim: Sheet24!$C$47

Sheet Sheet1
A1: 2021_January | B1: Ð²ìºÈì²Ì Ð³ëï³ïí³Í ¿ Ð³Û³ëï³ÝÇ Ð³Ýñ³å»ïáõÃÛ³Ý Ï»ÝïñáÝ³Ï³Ý µ³ÝÏÇ 2020 Ãí³Ï³ÝÇ դեկտեմբերի 29-Ç ÃÇí 228-Ü áñáßÙ³Ùµ §Ð²ìºÈì²Ì 3 §²å³Ñáí³·ñ³Ï³Ý ÁÝÏ»ñáõÃÛáõÝÝ»ñÇ Ñ³ßí»ïíáõÃÛáõÝÝ»ñÇ Ó¨»ñÁ, ¹ñ³ÝóáõÙ Ý»ñ³éíáÕ ï»Õ»Ï³ïíáõÃÛáõÝÁ, Ý»ñÏ³Û³óÝ»Éáõ Ï³ñ·Á ¨ Å³ÙÏ»ïÝ»ñÁ¦ Ï³ÝáÝ³Ï³ñ· 3/04 Ñ³í»Éí³ÍÇ
B5: Ð²ÞìºîìàôÂÚàôÜ ÂÆì 3
B6: Ü1.1, Ü1.2, Ü2, Ü3, Ü4, Ü5, Ü6.1, Ü6.2 ÑÇÙÝ³Ï³Ý ïÝï»ë³Ï³Ý ÝáñÙ³ïÇíÝ»ñÇ í»ñ³µ»ñÛ³É
B7: (³Ùë³Ï³Ý)
E10: ²å³Ñáí³·ñ³Ï³Ý ÁÝÏ»ñáõÃÛ³Ý ³Ýí³ÝáõÙª
E12: ²Ùë³ÃÇíª
B14: ÀÝ¹Ñ³Ýáõñ Ï³åÇï³É (Ü1.1 ÝáñÙ³ïÇíÇ Ù»ÍáõÃÛáõÝÁ Ñ³ßí³ñÏ»ÉÇë) | C14: ÀÝ¹Ñ³Ýáõñ Ï³åÇï³É (ÝáñÙ³ïÇíÝ»ñÇ` µ³ó³éáõÃÛ³Ùµ Ü1.1 ÝáñÙ³ïÇíÇ, Ù»ÍáõÃÛáõÝÝ»ñÁ Ñ³ßí³ñÏ»ÉÇë) | D14: Üí³½³·áõÛÝ Ï³åÇï³É | E14: ä³Ñ³ÝçíáÕ Ï³åÇï³ÉÇ Ù»ÍáõÃÛáõÝ | F14: ¶áñÍ³éÝ³Ï³Ý éÇëÏÇ Ñ³Ù³ñ å³Ñ³ÝçíáÕ Ï³åÇï³ÉÇ Ù»ÍáõÃÛáõÝ | G14: ²ñï³ñÅáõÃ³ÛÇÝ éÇëÏÇ Ñ³Ù³ñ å³Ñ³ÝçáÕ Ï³åÇï³ÉÇ Ù»ÍáõÃÛáõÝ | H14: ì³ñÏ³ÛÇÝ éÇëÏÇ Ñ³Ù³ñ å³Ñ³ÝçíáÕ Ï³åÇï³ÉÇ Ù»ÍáõÃÛáõÝ | I14: àã ÏÛ³ÝùÇ ³Ý¹»ñé³ÛÃÇÝ·Ç éÇëÏÇ Ñ³Ù³ñ å³Ñ³ÝçíáÕ Ï³åÇï³ÉÇ Ù»ÍáõÃÛáõÝ | J14: ²éáÕçáõÃÛ³Ý ³Ý¹»ñé³ÛÃÇÝ·Ç éÇëÏÇ Ñ³Ù³ñ å³Ñ³ÝçíáÕ Ï³åÇï³ÉÇ Ù»ÍáõÃÛáõÝ | K14: ÎÛ³ÝùÇ ³Ý¹»ñé³ÛÃÇÝ·Ç éÇëÏÇ Ñ³Ù³ñ å³Ñ³ÝçíáÕ Ï³åÇï³ÉÇ Ù»ÍáõÃÛáõÝ | L14: ´³ñÓñ Çñ³óí»ÉÇ ³ÏïÇíÝ»ñ | M14: ì×³ñÙ³Ý »ÝÃ³Ï³ å³ñï³íáñáõÃÛáõÝÝ»ñ | N14: ²å³Ñáí³·ñáõÃÛ³Ý Ù»Ï éÇëÏÇ ·Íáí ëï³ÝÓÝ³Í å³ñï³íáñáõÃÛ³Ý ½áõï Ù»ÍáõÃÛáõÝ | O14: Ø»Ï ÷áË³éáõÇ ·Íáí éÇëÏÇ ³é³í»É³·áõÛÝ ã³÷
B15: 1 | C15: 2 | D15: 3 | E15: 4 | F15: 5 | G15: 6 | H15: 7 | I15: 8 | J15: 9 | K15: 10 | L15: 11 | M15: 12 | N15: 13 | O15: 14
B16: =IFERROR(Sheet2!M43,0) -> 0 | C16: =IFERROR(Sheet2!L43,0) -> 0 | D16: =Sheet3!G12 -> 0 | E16: =IFERROR(F16+SQRT(SUM(Sheet26!C10:G14)),0) -> 0 | F16: =IFERROR(Sheet4!H11+Sheet4!L16,0) -> 0 | G16: =IFERROR(Sheet10!F38,0) -> 0 | H16: =IFERROR(0.12*(Sheet5!AC38+Sheet6!T39+Sheet7!AB39+Sheet8!AD38)+Sheet9!C9,0) -> 0 | I16: =IFERROR(SQRT(Sheet12!B11^2+(SQRT(Sheet13!B10^2+Sheet14!B10^2))^2+0.5*Sheet12!B11*(SQRT(Sheet13!B10^2+Sheet14!B10^2))),0) -> 0 | J16: =IFERROR(SQRT(Sheet15!B11^2+Sheet16!B10^2+0.5*Sheet15!B11*Sheet16!B10),0) -> 0 | K16: =IFERROR(Sheet17!B10,0) -> 0 | L16: =Sheet18!D19 -> 0 | M16: =Sheet18!K19 -> 0
L17: =Sheet18!D27 -> 0 | M17: =Sheet18!K27 -> 0
L18: =Sheet18!D35 -> 0 | M18: =Sheet18!K35 -> 0
L19: =Sheet18!D43 -> 0 | M19: =Sheet18!K43 -> 0
L20: =Sheet18!D51 -> 0 | M20: =Sheet18!K51 -> 0
E25: `
H28: Աղյուսակ 2.
H29: (հազար դրամ)
B30: Ü1.1 ÝáñÙ³ïÇíÇ Ù»ÍáõÃÛáõÝ | C30: Ü1.2 ÝáñÙ³ïÇíÇ Ù»ÍáõÃÛáõÝ | D30: Ü2 ÝáñÙ³ïÇíÇ Ù»ÍáõÃÛáõÝ | E30: Ü3 ÝáñÙ³ïÇíÇ Ù»ÍáõÃÛáõÝ | F30: Ü3 ÝáñÙ³ïÇíÇ Ù»ÍáõÃÛáõÝ »ñÏñ³ß³ñÅÇ éÇëÏÇó ³å³Ñáí³·ñí³Í å³ÛÙ³Ý³·ñ»ñÇ ·Íáí | H30: Ü5 ÝáñÙ³ïÇíÇ Ù»ÍáõÃÛáõÝ
B31: 1 | C31: 2 | D31: 3 | E31: 4 | F31: 5 | G31: 6 | H31: 7
B32: =IFERROR(B16/D16,"") | C32: =IFERROR(C16/E16,"") | D32: =IFERROR(L16/M16,"") | E32: =IFERROR(N16/$C$16,"") | F32: ÊáõÙµ 1 | G32: =IFERROR(((Sheet19.1!C12-Sheet19.1!D12)/$C$16),"") | H32: =IFERROR(O16/$C$16,"")
D33: =IFERROR(L17/M17,"") | E33: =IFERROR(N17/$C$16,"") | F33: ÊáõÙµ 2 | G33: =IFERROR(((Sheet19.1!C13-Sheet19.1!D13)/$C$16),"") | H33: =IFERROR(O17/$C$16,"")
D34: =IFERROR(L18/M18,"") | E34: =IFERROR(N18/$C$16,"") | F34: ÊáõÙµ 3 | G34: =IFERROR(((Sheet19.1!C14-Sheet19.1!D14)/$C$16),"") | H34: =IFERROR(O18/$C$16,"")
D35: =IFERROR(L19/M19,"") | E35: =IFERROR(N19/$C$16,"") | F35: ÊáõÙµ 4 | G35: =IFERROR(((Sheet19.1!C15-Sheet19.1!D15)/$C$16),"") | H35: =IFERROR(O19/$C$16,"")
D36: =IFERROR(L20/M20,"") | E36: =IFERROR(N20/$C$16,"") | F36: ÊáõÙµ 5 | G36: =IFERROR(((Sheet19.1!C16-Sheet19.1!D16)/$C$16),"") | H36: =IFERROR(O20/$C$16,"")
E37: =IFERROR(N21/$C$16,"") | F37: ÊáõÙµ 6 | G37: =IFERROR(((Sheet19.1!C17-Sheet19.1!D17)/$C$16),"") | H37: =IFERROR(O21/$C$16,"")
E38: =IFERROR(N22/$C$16,"") | F38: ÊáõÙµ 7 | G38: =IFERROR(((Sheet19.1!C18-Sheet19.1!D18)/$C$16),"") | H38: =IFERROR(O22/$C$16,"")
E39: =IFERROR(N23/$C$16,"") | H39: =IFERROR(O23/$C$16,"")
E40: =IFERROR(N24/$C$16,"") | H40: =IFERROR(O24/$C$16,"")
E41: =IFERROR(N25/$C$16,"") | H41: =IFERROR(O25/$C$16,"")
E44: ²å³Ñáí³·ñ³Ï³Ý ÁÝÏ»ñáõÃÛ³Ý í³ñãáõÃÛ³Ý Ý³Ë³·³Ñª
E45: (¶áñÍ³¹Çñ ïÝûñ»Ý)
E47: ¶ÉË³íáñ Ñ³ßí³å³Ñª
E49: ä³ï³ëË³Ý³ïáõ ³Ïïáõ³ñª

Sheet Sheet2
B2: ²ÔÚàôê²Î 3. ÀÜ¸Ð²Üàôð Î²äÆî²ÈÆ ºì ¸ð² î²ððºðÆ Ð²Þì²ðÎÜ Àêî úðºðÆ
F4: ²å³Ñáí³·ñ³Ï³Ý ÁÝÏ»ñáõÃÛ³Ý ³Ýí³ÝáõÙª | G4: =Company -> 0
F6: ²Ùë³ÃÇíª | G6: =Date -> 0
M8: (Ñ³½³ñ ¹ñ³Ù)
B9: ²Ùëí³ ûñ»ñ | C9: Ð³ßí»Ïßé³ÛÇÝ Ù»ÍáõÃÛáõÝÝ»ñ | F9: ÜáñÙ³ïÇí³ÛÇÝ Ï³åÇï³ÉÇ Ñ³ßí³ñÏÇ Ñ³Ù³ñ ÑÇÙÝ³Ï³Ý Ï³åÇï³ÉÇ Ñ³ßí»Ïßé³ÛÇÝ Ù»ÍáõÃÛáõÝÇó Ýí³½»óíáÕ ·áõÙ³ñÝ»ñ | G9: ÜáñÙ³ïÇí³ÛÇÝ Éñ³óáõóÇã Ï³åÇï³ÉÇ Ñ³ßí³ñÏÇÝ ãÙ³ëÝ³ÏóáÕ ·áõÙ³ñÝ»ñ | H9: ÜáñÙ³ïÇíÝ»ñÇ Ñ³ßí³ñÏÇÝ Ù³ëÝ³ÏóáÕ
C10: ÐÇÙÝ³Ï³Ý Ï³åÇï³É | D10: Èñ³óáõóÇã Ï³åÇï³É | E10: ÀÝ¹Ñ³Ýáõñ Ï³åÇï³É | H10: ÐÇÙÝ³Ï³Ý Ï³åÇï³É | I10: Èñ³óáõóÇã Ï³åÇï³É | J10: Èñ³óáõóÇã Ï³åÇï³É (áã ³í»ÉÇ, ù³Ý ÑÇÙÝ³Ï³Ý Ï³åÇï³ÉÇ 50%-Á) | K10: Èñ³óáõóÇã Ï³åÇï³É (áã ³í»ÉÇ, ù³Ý ÑÇÙÝ³Ï³Ý Ï³åÇï³ÉÇ 25%-Á) | L10: ÀÝ¹Ñ³Ýáõñ Ï³åÇï³É (ÝáñÙ³ïÇíÝ»ñÇ` µ³ó³éáõÃÛ³Ùµ Ü1.1 ÝáñÙ³ïÇíÇ, Ù»ÍáõÃÛáõÝÝ»ñÁ Ñ³ßí³ñÏ»ÉÇë) | M10: ÀÝ¹Ñ³Ýáõñ Ï³åÇï³É (Ü1.1 ÝáñÙ³ïÇíÇ Ù»ÍáõÃÛáõÝÁ Ñ³ßí³ñÏ»ÉÇë)
C11: 1 | D11: 2 | E11: 3 | F11: 4 | G11: 5 | H11: 6 | I11: 7 | J11: 8 | K11: 9 | L11: 10 | M11: 11
B12: 1 | E12: =C12+D12 -> 0 | H12: =C12-F12 -> 0 | I12: =D12-G12 -> 0 | J12: =MIN(I12,H12*0.5) -> 0 | K12: =MIN(H12*0.25,I12) -> 0 | L12: =SUM(H12,J12) -> 0 | M12: =SUM(H12,K12) -> 0
B13: 2 | E13: =C13+D13 -> 0 | H13: =C13-F13 -> 0 | I13: =D13-G13 -> 0 | J13: =MIN(I13,H13*0.5) -> 0 | K13: =MIN(H13*0.25,I13) -> 0 | L13: =SUM(H13,J13) -> 0 | M13: =SUM(H13,K13) -> 0
B14: 3 | E14: =C14+D14 -> 0 | H14: =C14-F14 -> 0 | I14: =D14-G14 -> 0 | J14: =MIN(I14,H14*0.5) -> 0 | K14: =MIN(H14*0.25,I14) -> 0 | L14: =SUM(H14,J14) -> 0 | M14: =SUM(H14,K14) -> 0
B15: 4 | E15: =C15+D15 -> 0 | H15: =C15-F15 -> 0 | I15: =D15-G15 -> 0 | J15: =MIN(I15,H15*0.5) -> 0 | K15: =MIN(H15*0.25,I15) -> 0 | L15: =SUM(H15,J15) -> 0 | M15: =SUM(H15,K15) -> 0
B16: 5 | E16: =C16+D16 -> 0 | H16: =C16-F16 -> 0 | I16: =D16-G16 -> 0 | J16: =MIN(I16,H16*0.5) -> 0 | K16: =MIN(H16*0.25,I16) -> 0 | L16: =SUM(H16,J16) -> 0 | M16: =SUM(H16,K16) -> 0
B17: 6 | E17: =C17+D17 -> 0 | H17: =C17-F17 -> 0 | I17: =D17-G17 -> 0 | J17: =MIN(I17,H17*0.5) -> 0 | K17: =MIN(H17*0.25,I17) -> 0 | L17: =SUM(H17,J17) -> 0 | M17: =SUM(H17,K17) -> 0
B18: 7 | E18: =C18+D18 -> 0 | H18: =C18-F18 -> 0 | I18: =D18-G18 -> 0 | J18: =MIN(I18,H18*0.5) -> 0 | K18: =MIN(H18*0.25,I18) -> 0 | L18: =SUM(H18,J18) -> 0 | M18: =SUM(H18,K18) -> 0
B19: 8 | E19: =C19+D19 -> 0 | H19: =C19-F19 -> 0 | I19: =D19-G19 -> 0 | J19: =MIN(I19,H19*0.5) -> 0 | K19: =MIN(H19*0.25,I19) -> 0 | L19: =SUM(H19,J19) -> 0 | M19: =SUM(H19,K19) -> 0
B20: 9 | E20: =C20+D20 -> 0 | H20: =C20-F20 -> 0 | I20: =D20-G20 -> 0 | J20: =MIN(I20,H20*0.5) -> 0 | K20: =MIN(H20*0.25,I20) -> 0 | L20: =SUM(H20,J20) -> 0 | M20: =SUM(H20,K20) -> 0
B21: 10 | E21: =C21+D21 -> 0 | H21: =C21-F21 -> 0 | I21: =D21-G21 -> 0 | J21: =MIN(I21,H21*0.5) -> 0 | K21: =MIN(H21*0.25,I21) -> 0 | L21: =SUM(H21,J21) -> 0 | M21: =SUM(H21,K21) -> 0
B22: 11 | E22: =C22+D22 -> 0 | H22: =C22-F22 -> 0 | I22: =D22-G22 -> 0 | J22: =MIN(I22,H22*0.5) -> 0 | K22: =MIN(H22*0.25,I22) -> 0 | L22: =SUM(H22,J22) -> 0 | M22: =SUM(H22,K22) -> 0
B23: 12 | E23: =C23+D23 -> 0 | H23: =C23-F23 -> 0 | I23: =D23-G23 -> 0 | J23: =MIN(I23,H23*0.5) -> 0 | K23: =MIN(H23*0.25,I23) -> 0 | L23: =SUM(H23,J23) -> 0 | M23: =SUM(H23,K23) -> 0
... B42: 31 | E42: =C42+D42 -> 0 | H42: =C42-F42 -> 0 | I42: =D42-G42 -> 0 | J42: =MIN(I42,H42*0.5) -> 0 | K42: =MIN(H42*0.25,I42) -> 0 | L42: =SUM(H42,J42) -> 0 | M42: =SUM(H42,K42) -> 0
B43: ØÇçÇÝ | C43: =SUM(C12:C42)/LEFT(TEXT(Date,"dd/mm/yy"),2) -> #DIV/0! | D43: =SUM(D12:D42)/LEFT(TEXT(Date,"dd/mm/yy"),2) -> #DIV/0! | E43: =SUM(E12:E42)/LEFT(TEXT(Date,"dd/mm/yy"),2) -> #DIV/0! | F43: =SUM(F12:F42)/LEFT(TEXT(Date,"dd/mm/yy"),2) -> #DIV/0! | G43: =SUM(G12:G42)/LEFT(TEXT(Date,"dd/mm/yy"),2) -> #DIV/0! | H43: =SUM(H12:H42)/LEFT(TEXT(Date,"dd/mm/yy"),2) -> #DIV/0! | I43: =SUM(I12:I42)/LEFT(TEXT(Date,"dd/mm/yy"),2) -> #DIV/0! | J43: =SUM(J12:J42)/LEFT(TEXT(Date,"dd/mm/yy"),2) -> #DIV/0! | ... M43: =SUM(M12:M42)/LEFT(TEXT(Date,"dd/mm/yy"),2) -> #DIV/0!
E46: ²å³Ñáí³·ñ³Ï³Ý ÁÝÏ»ñáõÃÛ³Ý í³ñãáõÃÛ³Ý Ý³Ë³·³Ñª | F46: =Sheet1!F44 -> 0
E47: (¶áñÍ³¹Çñ ïÝûñ»Ý)
E49: ¶ÉË³íáñ Ñ³ßí³å³Ñª | F49: =Sheet1!F47 -> 0
E51: ä³ï³ëË³Ý³ïáõ ³Ïïáõ³ñª | F51: =Sheet1!F49 -> 0

Sheet Sheet3
B2: ՆՎԱԶԱԳՈՒՅՆ ԿԱՊԻՏԱԼԻ ՀԱՇՎԱՐԿ
C4: ²å³Ñáí³·ñ³Ï³Ý ÁÝÏ»ñáõÃÛ³Ý ³Ýí³ÝáõÙª | D4: =Company -> 0
C6: ²Ùë³ÃÇíª | D6: =Date -> 0
G8: ²ÕÛáõë³Ï 4
G9: (Ñ³½³ñ ¹ñ³Ù)
B10: ¶Í³ÛÇÝ Ù»Ãá¹áí Ñ³ßí³ñÏíáÕ Ï³åÇï³ÉÇ Ýí³½³·áõÛÝ Ù»ÍáõÃÛáõÝ áã ÏÛ³ÝùÇ ³å³Ñáí³·ñáõÃÛáõÝ Çñ³Ï³Ý³óÝáÕ ÁÝÏ»ñáõÃÛáõÝÝ»ñÇ Ñ³Ù³ñ | C10: ¶Í³ÛÇÝ Ù»Ãá¹áí Ñ³ßí³ñÏíáÕ Ï³åÇï³ÉÇ Ýí³½³·áõÛÝ Ù»ÍáõÃÛáõÝ ÏÛ³ÝùÇ ³å³Ñáí³·ñáõÃÛáõÝ Çñ³Ï³Ý³óÝáÕ ÁÝÏ»ñáõÃÛáõÝÝ»ñÇ Ñ³Ù³ñ | D10: ¶Í³ÛÇÝ Ù»Ãá¹áí Ñ³ßí³ñÏíáÕ Ï³åÇï³ÉÇ Ýí³½³·áõÛÝ Ù»ÍáõÃÛáõÝ | E10: Üí³½³·áõÛÝ Ï³åÇï³ÉÇ Ñ³ßí³ñÏ³ÛÇÝ Ù»ÍáõÃÛáõÝ | F10: Üí³½³·áõÛÝ Ï³åÇï³ÉÇ µ³ó³ñÓ³Ï Ù»ÍáõÃÛáõÝ | G10: Üí³½³·áõÛÝ Ï³åÇï³ÉÇ Ù»ÍáõÃÛáõÝ
B11: 1 | C11: 2 | D11: 3 | E11: 4 | F11: 5 | G11: 6
B12: =SUMPRODUCT(C18:C36,D18:D36)+SUMPRODUCT(E18:E36,F18:F36) -> 0 | C12: =C41*0.037+D41*0.0007 -> 0 | D12: =+B12+C12 -> 0 | E12: =IFERROR(MIN(MAX(D12,0.25*Sheet1!E16),0.45*Sheet1!E16),0) -> 0 | G12: =MAX(E12,F12) -> 0
F13: ²ÕÛáõë³Ï 5
F14: (Ñ³½³ñ ¹ñ³Ù)
A15: ²å³Ñáí³·ñáõÃÛ³Ý ¹³ë | C15: îåi | D15: ¶ïåi | E15: ²i | F15: ¶³i
A16: 1 | C16: 2 | D16: 3 | E16: 4 | F16: 5
A17: 1 | B17: àã ÏÛ³ÝùÇ ³å³Ñáí³·ñáõÃÛáõÝ, ³Û¹ ÃíáõÙª | C17: =SUM(C18:C36) -> 0 | E17: =SUM(E18:E36) -> 0
A18: 1.1 | B18: ¸Åµ³Ëï å³ï³Ñ³ñÝ»ñÇó ³å³Ñáí³·ñáõÃÛáõÝ | D18: 0.119 | F18: 0.08
A19: 1.2 | B19: ²éáÕçáõÃÛ³Ý ³å³Ñáí³·ñáõÃÛáõÝ | D19: 0.089 | F19: 0.066
A20: 1.3 | B20: ò³Ù³ù³ÛÇÝ ïñ³ÝëåáñïÇ ³å³Ñáí³·ñáõÃÛáõÝ | D20: 0.075 | F20: 0.075
A21: 1.4 | B21: ºñÏ³ÃáõÕ³ÛÇÝ ïñ³ÝëåáñïÇ ³å³Ñáí³·ñáõÃÛáõÝ | D21: 0.075 | F21: 0.075
A22: 1.5 | B22: ú¹³Ý³í»ñÇ ³å³Ñáí³·ñáõÃÛáõÝ | D22: 0.103 | F22: 0.14
A23: 1.6 | B23: æñ³ÛÇÝ ÷áË³¹ñ³ÙÇçáóÝ»ñÇ ³å³Ñáí³·ñáõÃÛáõÝ | D23: 0.103 | F23: 0.14
A24: 1.7 | B24: öáË³¹ñíáÕ ·áõÛùÇ (µ»éÝ»ñÇ) ³å³Ñáí³·ñáõÃÛáõÝ | D24: 0.103 | F24: 0.14
A25: 1.8 | B25: Ðñ¹»ÑÇó ¨ µÝ³Ï³Ý ³Õ»ïÝ»ñÇó ³å³Ñáí³·ñáõÃÛáõÝ | D25: 0.094 | F25: 0.075
A26: 1.9 | B26: ¶áõÛùÇÝ Ñ³ëóí³Í ³ÛÉ íÝ³ëÝ»ñÇó ³å³Ñáí³·ñáõÃÛáõÝ | D26: 0.094 | F26: 0.075
A27: 1.10 | B27: ò³Ù³ù³ÛÇÝ ³íïáïñ³Ýëåáñï³ÛÇÝ ÙÇçáóÝ»ñÇ û·ï³·áñÍáõÙÇó µËáÕ å³ï³ëË³Ý³ïíáõÃÛ³Ý Ï³Ù³íáñ ³å³Ñáí³·ñáõÃÛáõÝ | D27: 0.085 | F27: 0.094
A28: 1.11 | B28: ú¹³Ý³í»ñÇ (Ý³¨ª µ»éÝ³÷áË³¹ñáÕ) û·ï³·áñÍáõÙÇó µËáÕ å³ï³ëË³Ý³ïíáõÃÛ³Ý ³å³Ñáí³·ñáõÃÛáõÝ | D28: 0.103 | F28: 0.14
A29: 1.12 | B29: æñ³ÛÇÝ ÷áË³¹ñ³ÙÇçáóÝ»ñÇ û·ï³·áñÍáõÙÇó µËáÕ å³ï³ëË³Ý³ïíáõÃÛ³Ý ³å³Ñáí³·ñáõÃÛáõÝ | D29: 0.103 | F29: 0.14
A30: 1.13 | B30: ÀÝ¹Ñ³Ýáõñ å³ï³ëË³Ý³ïíáõÃÛ³Ý ³å³Ñáí³·ñáõÃÛáõÝ | D30: 0.103 | F30: 0.131
A31: 1.14 | B31: ì³ñÏÇ ³å³Ñáí³·ñáõÃÛáõÝ | D31: 0.177 | F31: 0.113
A32: 1.15 | B32: ºñ³ßËÇùÇ ïñ³Ù³¹ñáõÙ | D32: 0.177 | F32: 0.113
A33: 1.16 | B33: üÇÝ³Ýë³Ï³Ý íÝ³ëÝ»ñÇ ³å³Ñáí³·ñáõÃÛáõÝ | D33: 0.186 | F33: 0.122
A34: 1.17 | B34: ¸³ï³Ï³Ý ¨ ³ñï³¹³ï³Ï³Ý Í³Ëë»ñÇ ³å³Ñáí³·ñáõÃÛáõÝ | D34: 0.113 | F34: 0.066
A35: 1.18 | B35: ²ç³ÏóáõÃÛ³Ý ³å³Ñáí³·ñáõÃÛáõÝ | D35: 0.186 | F35: 0.085
A36: 1.19 | B36: ò³Ù³ù³ÛÇÝ ³íïáïñ³Ýëåáñï³ÛÇÝ ÙÇçáóÝ»ñÇ û·ï³·áñÍáõÙÇó µËáÕ å³ï³ëË³Ý³ïíáõÃÛ³Ý å³ñï³¹Çñ ³å³Ñáí³·ñáõÃÛáõÝ | D36: 0.085 | F36: 0.094
D37: ²ÕÛáõë³Ï 6
D38: (Ñ³½³ñ ¹ñ³Ù)
A39: ²å³Ñáí³·ñáõÃÛ³Ý ¹³ë | C39: ՏՊկյանք | D39: ՌԿ
A40: 1 | C40: 2 | D40: 3
A41: 2 | B41: ÎÛ³ÝùÇ ³å³Ñáí³·ñáõÃÛáõÝ, ³Û¹ ÃíáõÙª | C41: =SUM(C42:C47) -> 0 | D41: =SUM(D42:D47) -> 0
A42: 2.1 | B42: ÎÛ³ÝùÇ ³å³Ñáí³·ñáõÃÛáõÝ
A43: 2.2 | B43: ²ÙáõëÝáõÃÛ³Ý, ÍÝáõÝ¹Ç ³å³Ñáí³·ñáõÃÛáõÝ
A44: 2.3 | B44: Ü»ñ¹ñáõÙ³ÛÇÝ ³ÏïÇíÝ»ñÇÝ Ï³åíáÕ ³å³Ñáí³·ñáõÃÛáõÝ
A45: 2.4 | B45: îáÝïÇÝ ³å³Ñáí³·ñáõÃÛáõÝ
A46: 2.5 | B46: Î³åÇï³ÉÇ Ñ³ïáõóÙ³Ý ³å³Ñáí³·ñáõÃÛáõÝ
A47: 2.6 | B47: Îáõï³Ï³ÛÇÝ Ï»Ýë³Ãáß³Ï³ÛÇÝ ÙÇçáóÝ»ñÇ Ï³é³í³ñáõÙ
C50: ²å³Ñáí³·ñ³Ï³Ý ÁÝÏ»ñáõÃÛ³Ý í³ñãáõÃÛ³Ý Ý³Ë³·³Ñª | D50: =Sheet1!F44 -> 0
C51: (¶áñÍ³¹Çñ ïÝûñ»Ý)
C53: ¶ÉË³íáñ Ñ³ßí³å³Ñª | D53: =Sheet1!F47 -> 0
C55: ä³ï³ëË³Ý³ïáõ ³Ïïáõ³ñª | D55: =Sheet1!F49 -> 0

Sheet Sheet4
B2: ¶àðÌ²èÜ²Î²Ü èÆêÎÆ Ð²Ø²ð ä²Ð²ÜæìàÔ Î²äÆî²ÈÆ ØºÌàôÂÚ²Ü Ð²Þì²ðÎ
E4: ²å³Ñáí³·ñ³Ï³Ý ÁÝÏ»ñáõÃÛ³Ý ³Ýí³ÝáõÙª | F4: =Company -> 0
E6: ²Ùë³ÃÇíª | F6: =Date -> 0
B8: ²ÕÛáõë³Ï 7.àã ÏÛ³ÝùÇ ³å³Ñáí³·ñáõÃÛáõÝ Çñ³Ï³Ý³óÝáÕ ³å³Ñáí³·ñ³Ï³Ý ÁÝÏ»ñáõÃÛáõÝÝ»ñÇ Ñ³Ù³ñ | H8: (Ñ³½³ñ ¹ñ³Ù)
B9: Ð³ßí»ïáõ ³Ùëí³ í»ñçÇÝ ûñí³ ¹ñáõÃÛ³Ùµ ï»ËÝÇÏ³Ï³Ý å³ÑáõëïÝ»ñÇ Ù»ÍáõÃÛáõÝ ³é³Ýó Ýí³½»óÝ»Éáõ í»ñ³³å³Ñáí³·ñáÕÇ Ù³ëÝ³µ³ÅÇÝÁ (îä) | C9: èïå | D9: Ð³ßí»ïáõ ³Ùëí³ ¨ ¹ñ³Ý Ý³Ëáñ¹áÕ 11 ³ÙÇëÝ»ñÇ ÁÝÃ³óùáõÙ í³ëï³Ï³Í Ñ³Ù³Ë³éÝ ³å³Ñáí³·ñ³í×³ñÝ»ñÇ Ù»ÍáõÃÛáõÝ, (ì²) | E9: Ð³ßí»ïáõ ³Ùëí³Ý ¨ ¹ñ³Ý Ý³Ëáñ¹áÕ 11 ³ÙÇëÝ»ñÇÝ Ý³Ëáñ¹áÕ 12 ³ÙÇëÝ»ñÇ ÁÝÃ³óùáõÙ í³ëï³Ï³Í Ñ³Ù³Ë³éÝ ³å³Ñáí³·ñ³í×³ñÝ»ñÇ Ù»ÍáõÃÛáõÝ, (ì²0) | F9: è³åí×³ñ | G9: è·áñÍ | H9: ¶áñÍ³éÝ³Ï³Ý éÇëÏÇ Ñ³Ù³ñ å³Ñ³ÝçíáÕ Ï³åÇï³ÉÇ Ù»ÍáõÃÛáõÝ (äÎ·áñÍ)
B10: 1 | C10: 2 | D10: 3 | E10: 4 | F10: 5 | G10: 6 | H10: 7
C11: =+B11*0.03 -> 0 | F11: =0.03*D11+MAX(0,0.03*(D11-1.2*E11)) -> 0 | G11: =MAX(F11,C11) -> 0 | H11: =IFERROR(MIN(0.3*Sheet26!B17,G11),0) -> 0
B13: ²ÕÛáõë³Ï 8.ÎÛ³ÝùÇ ³å³Ñáí³·ñáõÃÛáõÝ Çñ³Ï³Ý³óÝáÕ ³å³Ñáí³·ñ³Ï³Ý ÁÝÏ»ñáõÃÛáõÝÝ»ñÇ Ñ³Ù³ñ | L13: (Ñ³½³ñ ¹ñ³Ù)
B14: îä | C14: îäÝé | D14: èïå | E14: ì² | F14: ì²0 | G14: ì²Ýé | H14: ì²Ýé0 | I14: è³åí×³ñ | J14: è·áñÍ | K14: ÌÝé | L14: ¶áñÍ³éÝ³Ï³Ý éÇëÏÇ Ñ³Ù³ñ å³Ñ³ÝçíáÕ Ï³åÇï³ÉÇ Ù»ÍáõÃÛáõÝ (äÎ·áñÍ)
B15: 1 | C15: 2 | D15: 3 | E15: 4 | F15: 5 | G15: 6 | H15: 7 | I15: 8 | J15: 9 | K15: 10 | L15: 11
D16: =0.0045*MAX(0,B16-C16) -> 0 | I16: =0.04*(E16-G16)+MAX(0,0.04*(E16-1.2*F16-(G16-1.2*H16))) -> 0 | J16: =MAX(I16,D16) -> 0 | L16: =IFERROR(MIN(0.3*Sheet26!B17,J16)+0.25*K16,0) -> 0
E19: ²å³Ñáí³·ñ³Ï³Ý ÁÝÏ»ñáõÃÛ³Ý í³ñãáõÃÛ³Ý Ý³Ë³·³Ñª | F19: =Sheet1!F44 -> 0
E20: (¶áñÍ³¹Çñ ïÝûñ»Ý)
E22: ¶ÉË³íáñ Ñ³ßí³å³Ñª | F22: =Sheet1!F47 -> 0
E24: ä³ï³ëË³Ý³ïáõ ³Ïïáõ³ñª | F24: =Sheet1!F49 -> 0

Sheet Sheet5
AC1: ²ÕÛáõë³Ï 9
AC2: (Ñ³½³ñ ¹ñ³Ù)
B3: Վարկային ռիսկի համար պահանջվող կապիտալի մեծության հաշվակն ըստ օրերի
B4: ²ÏïÇíÝ»ñ (áñáÝó íñ³ ã»Ý ï³ñ³ÍíáõÙ ìè¼Ø-Ý»ñÁ) Áëï éÇëÏ»ñÇ ÏßÇéÝ»ñÇ
B5: ²Ùëí³ ûñ»ñÁ | C5: èÇëÏÇ 0 % ÏßÇé áõÝ»óáÕ ³ÏïÇíÝ»ñ | D5: ²ÏïÇíÝ»ñÇ ÑÝ³ñ³íáñ ÏáñáõëïÝ»ñÇ å³Ñáõëï | E5: èÇëÏÇ 10 % ÏßÇé áõÝ»óáÕ ³ÏïÇíÝ»ñ | F5: ²ÏïÇíÝ»ñÇ ÑÝ³ñ³íáñ ÏáñáõëïÝ»ñÇ å³Ñáõëï | G5: èÇëÏÇ 20 % ÏßÇé áõÝ»óáÕ ³ÏïÇíÝ»ñ | H5: ²ÏïÇíÝ»ñÇ ÑÝ³ñ³íáñ ÏáñáõëïÝ»ñÇ å³Ñáõëï | I5: èÇëÏÇ 30 % ÏßÇé áõÝ»óáÕ ³ÏïÇíÝ»ñ | J5: ²ÏïÇíÝ»ñÇ ÑÝ³ñ³íáñ ÏáñáõëïÝ»ñÇ å³Ñáõëï | K5: èÇëÏÇ 50 % ÏßÇé áõÝ»óáÕ ³ÏïÇíÝ»ñ | L5: ²ÏïÇíÝ»ñÇ ÑÝ³ñ³íáñ ÏáñáõëïÝ»ñÇ å³Ñáõëï | M5: èÇëÏÇ 75 % ÏßÇé áõÝ»óáÕ ³ÏïÇíÝ»ñ | N5: ²ÏïÇíÝ»ñÇ ÑÝ³ñ³íáñ ÏáñáõëïÝ»ñÇ å³Ñáõëï | O5: èÇëÏÇ 100 % ÏßÇé áõÝ»óáÕ ³ÏïÇíÝ»ñ | P5: ²ÏïÇíÝ»ñÇ ÑÝ³ñ³íáñ ÏáñáõëïÝ»ñÇ å³Ñáõëï | Q5: èÇëÏÇ 110 % ÏßÇé áõÝ»óáÕ ³ÏïÇíÝ»ñ | R5: ²ÏïÇíÝ»ñÇ ÑÝ³ñ³íáñ ÏáñáõëïÝ»ñÇ å³Ñáõëï | S5: èÇëÏÇ 150 % ÏßÇé áõÝ»óáÕ ³ÏïÇíÝ»ñ | T5: ²ÏïÇíÝ»ñÇ ÑÝ³ñ³íáñ ÏáñáõëïÝ»ñÇ å³Ñáõëï | U5: èÇëÏÇ 225 % ÏßÇé áõÝ»óáÕ ³ÏïÇíÝ»ñ | V5: ²ÏïÇíÝ»ñÇ ÑÝ³ñ³íáñ ÏáñáõëïÝ»ñÇ å³Ñáõëï | W5: èÇëÏÇ 400 % ÏßÇé áõÝ»óáÕ ³ÏïÇíÝ»ñ | X5: ²ÏïÇíÝ»ñÇ ÑÝ³ñ³íáñ ÏáñáõëïÝ»ñÇ å³Ñáõëï | Y5: èÇëÏÇ 800 % ÏßÇé áõÝ»óáÕ ³ÏïÇíÝ»ñ | Z5: ²ÏïÇíÝ»ñÇ ÑÝ³ñ³íáñ ÏáñáõëïÝ»ñÇ å³Ñáõëï | AA5: èÇëÏÇ 830 % ÏßÇé áõÝ»óáÕ ³ÏïÇíÝ»ñ | AB5: ²ÏïÇíÝ»ñÇ ÑÝ³ñ³íáñ ÏáñáõëïÝ»ñÇ å³Ñáõëï | AC5: ì³ñÏ³ÛÇÝ éÇëÏÇ Ñ³Ù³ñ å³Ñ³ÝçíáÕ Ï³åÇï³ÉÇ Ù»ÍáõÃÛáõÝ ((1-2)*0%+(3-4)*10%+(5-6)*20%+(7-8)*30%+(9-10)*50%+(11-12)*75%+(13-14)*100%+(15-16)*110%+(17-18)*150%+(19-20)*225%+(21-22)*400%+(23-24)*800%+(25-26)*830%)
C6: 1 | D6: 2 | E6: 3 | F6: 4 | G6: 5 | H6: 6 | I6: 7 | J6: 8 | K6: 9 | L6: 10 | M6: 11 | N6: 12 | O6: 13 | P6: 14 | Q6: 15 | R6: 16 | S6: 17 | T6: 18 | U6: 19 | V6: 20 | W6: 21 | X6: 22 | Y6: 23 | Z6: 24 | AA6: 25 | AB6: 26 | AC6: 27
B7: 1 | AC7: =(C7-D7)*0%+(E7-F7)*10%+(G7-H7)*20%+(I7-J7)*30%+(K7-L7)*50%+(M7-N7)*75%+(O7-P7)*100%+(Q7-R7)*110%+(S7-T7)*150%+(U7-V7)*225%+(W7-X7)*400%+(Y7-Z7)*800%+(AA7-AB7)*830%+SUMIFS(Sheet8.1!$H$8:$H$193,Sheet8.1!$B$8:$B$193,Sheet5!$B7) -> 0
B8: 2 | AC8: =(C8-D8)*0%+(E8-F8)*10%+(G8-H8)*20%+(I8-J8)*30%+(K8-L8)*50%+(M8-N8)*75%+(O8-P8)*100%+(Q8-R8)*110%+(S8-T8)*150%+(U8-V8)*225%+(W8-X8)*400%+(Y8-Z8)*800%+(AA8-AB8)*830%+SUMIFS(Sheet8.1!$H$8:$H$193,Sheet8.1!$B$8:$B$193,Sheet5!$B8) -> 0
B9: 3 | AC9: =(C9-D9)*0%+(E9-F9)*10%+(G9-H9)*20%+(I9-J9)*30%+(K9-L9)*50%+(M9-N9)*75%+(O9-P9)*100%+(Q9-R9)*110%+(S9-T9)*150%+(U9-V9)*225%+(W9-X9)*400%+(Y9-Z9)*800%+(AA9-AB9)*830%+SUMIFS(Sheet8.1!$H$8:$H$193,Sheet8.1!$B$8:$B$193,Sheet5!$B9) -> 0
B10: 4 | AC10: =(C10-D10)*0%+(E10-F10)*10%+(G10-H10)*20%+(I10-J10)*30%+(K10-L10)*50%+(M10-N10)*75%+(O10-P10)*100%+(Q10-R10)*110%+(S10-T10)*150%+(U10-V10)*225%+(W10-X10)*400%+(Y10-Z10)*800%+(AA10-AB10)*830%+SUMIFS(Sheet8.1!$H$8:$H$193,Sheet8.1!$B$8:$B$193,Sheet5!$B10) -> 0
B11: 5 | AC11: =(C11-D11)*0%+(E11-F11)*10%+(G11-H11)*20%+(I11-J11)*30%+(K11-L11)*50%+(M11-N11)*75%+(O11-P11)*100%+(Q11-R11)*110%+(S11-T11)*150%+(U11-V11)*225%+(W11-X11)*400%+(Y11-Z11)*800%+(AA11-AB11)*830%+SUMIFS(Sheet8.1!$H$8:$H$193,Sheet8.1!$B$8:$B$193,Sheet5!$B11) -> 0
B12: 6 | AC12: =(C12-D12)*0%+(E12-F12)*10%+(G12-H12)*20%+(I12-J12)*30%+(K12-L12)*50%+(M12-N12)*75%+(O12-P12)*100%+(Q12-R12)*110%+(S12-T12)*150%+(U12-V12)*225%+(W12-X12)*400%+(Y12-Z12)*800%+(AA12-AB12)*830%+SUMIFS(Sheet8.1!$H$8:$H$193,Sheet8.1!$B$8:$B$193,Sheet5!$B12) -> 0
B13: 7 | AC13: =(C13-D13)*0%+(E13-F13)*10%+(G13-H13)*20%+(I13-J13)*30%+(K13-L13)*50%+(M13-N13)*75%+(O13-P13)*100%+(Q13-R13)*110%+(S13-T13)*150%+(U13-V13)*225%+(W13-X13)*400%+(Y13-Z13)*800%+(AA13-AB13)*830%+SUMIFS(Sheet8.1!$H$8:$H$193,Sheet8.1!$B$8:$B$193,Sheet5!$B13) -> 0
B14: 8 | AC14: =(C14-D14)*0%+(E14-F14)*10%+(G14-H14)*20%+(I14-J14)*30%+(K14-L14)*50%+(M14-N14)*75%+(O14-P14)*100%+(Q14-R14)*110%+(S14-T14)*150%+(U14-V14)*225%+(W14-X14)*400%+(Y14-Z14)*800%+(AA14-AB14)*830%+SUMIFS(Sheet8.1!$H$8:$H$193,Sheet8.1!$B$8:$B$193,Sheet5!$B14) -> 0
B15: 9 | AC15: =(C15-D15)*0%+(E15-F15)*10%+(G15-H15)*20%+(I15-J15)*30%+(K15-L15)*50%+(M15-N15)*75%+(O15-P15)*100%+(Q15-R15)*110%+(S15-T15)*150%+(U15-V15)*225%+(W15-X15)*400%+(Y15-Z15)*800%+(AA15-AB15)*830%+SUMIFS(Sheet8.1!$H$8:$H$193,Sheet8.1!$B$8:$B$193,Sheet5!$B15) -> 0
B16: 10 | AC16: =(C16-D16)*0%+(E16-F16)*10%+(G16-H16)*20%+(I16-J16)*30%+(K16-L16)*50%+(M16-N16)*75%+(O16-P16)*100%+(Q16-R16)*110%+(S16-T16)*150%+(U16-V16)*225%+(W16-X16)*400%+(Y16-Z16)*800%+(AA16-AB16)*830%+SUMIFS(Sheet8.1!$H$8:$H$193,Sheet8.1!$B$8:$B$193,Sheet5!$B16) -> 0
B17: 11 | AC17: =(C17-D17)*0%+(E17-F17)*10%+(G17-H17)*20%+(I17-J17)*30%+(K17-L17)*50%+(M17-N17)*75%+(O17-P17)*100%+(Q17-R17)*110%+(S17-T17)*150%+(U17-V17)*225%+(W17-X17)*400%+(Y17-Z17)*800%+(AA17-AB17)*830%+SUMIFS(Sheet8.1!$H$8:$H$193,Sheet8.1!$B$8:$B$193,Sheet5!$B17) -> 0
B18: 12 | AC18: =(C18-D18)*0%+(E18-F18)*10%+(G18-H18)*20%+(I18-J18)*30%+(K18-L18)*50%+(M18-N18)*75%+(O18-P18)*100%+(Q18-R18)*110%+(S18-T18)*150%+(U18-V18)*225%+(W18-X18)*400%+(Y18-Z18)*800%+(AA18-AB18)*830%+SUMIFS(Sheet8.1!$H$8:$H$193,Sheet8.1!$B$8:$B$193,Sheet5!$B18) -> 0
... B37: 31 | AC37: =(C37-D37)*0%+(E37-F37)*10%+(G37-H37)*20%+(I37-J37)*30%+(K37-L37)*50%+(M37-N37)*75%+(O37-P37)*100%+(Q37-R37)*110%+(S37-T37)*150%+(U37-V37)*225%+(W37-X37)*400%+(Y37-Z37)*800%+(AA37-AB37)*830%+SUMIFS(Sheet8.1!$H$8:$H$193,Sheet8.1!$B$8:$B$193,Sheet5!$B37) -> 0
B38: ØÇçÇÝ | C38: =SUM(C7:C37)/DAY(Date) -> #DIV/0! | D38: =SUM(D7:D37)/DAY(Date) -> #DIV/0! | E38: =SUM(E7:E37)/DAY(Date) -> #DIV/0! | F38: =SUM(F7:F37)/DAY(Date) -> #DIV/0! | G38: =SUM(G7:G37)/DAY(Date) -> #DIV/0! | H38: =SUM(H7:H37)/DAY(Date) -> #DIV/0! | I38: =SUM(I7:I37)/DAY(Date) -> #DIV/0! | J38: =SUM(J7:J37)/DAY(Date) -> #DIV/0! | ... AC38: =SUM(AC7:AC37)/DAY(Date) -> #DIV/0!
O41: ²å³Ñáí³·ñ³Ï³Ý ÁÝÏ»ñáõÃÛ³Ý í³ñãáõÃÛ³Ý Ý³Ë³·³Ñª | P41: =Sheet1!F44 -> 0
O42: (¶áñÍ³¹Çñ ïÝûñ»Ý)
O44: ¶ÉË³íáñ Ñ³ßí³å³Ñª | P44: =Sheet1!F47 -> 0
O46: ä³ï³ëË³Ý³ïáõ ³Ïïáõ³ñª | P46: =Sheet1!F49 -> 0

Sheet Sheet6
T2: ²ÔÚàôê²Î 10.
T3: (Ñ³½³ñ ¹ñ³Ù)
B4: Վարկային ռիսկի համար պահանջվող կապիտալի մեծության հաշվակն ըստ օրերի
B5: ²ÏïÇíÝ»ñ (áñáÝó íñ³ ï³ñ³ÍíáõÙ »Ý ìè¼Ø-Ý»ñÁ) Áëï éÇëÏ»ñÇ ÏßÇéÝ»ñÇ
B6: ²Ùëí³ ûñ»ñÁ | C6: ìè¼Ø »ÝÃ³Ï³ ³ÏïÇíÝ»ñÇ ÁÝ¹Ñ³Ýáõñ ·áõÙ³ñÁ | D6: ²ÏïÇíÝ»ñÇ ÑÝ³ñ³íáñ ÏáñáõëïÝ»ñÇ å³Ñáõëï | E6: ²ÏïÇíÝ»ñÇ Ù»ÍáõÃÛáõÝÁ, áñáÝó éÇëÏÇ ÏßÇéÁ ìè¼Ø ÏÇñ³éÙ³Ý ³ñ¹ÛáõÝùáõÙ ÷áËí»É ¿ | F6: ìè¼Ø ÏÇñ³éÙ³Ý ³ñ¹ÛáõÝùáõÙ í³ñÏ³ÛÇÝ éÇëÏÇ ÷á÷áËáõÃÛáõÝÁ | G6: èÇëÏÇ 0 % ÏßÇé áõÝ»óáÕ ³ÏïÇíÝ»ñ ÑÝ³ñ³íáñ ÏáñáõëïÝ»ñÇ å³ÑáõëïÁ Ýí³½»óÝ»Éáõó Ñ»ïá | H6: èÇëÏÇ 10 % ÏßÇé áõÝ»óáÕ ³ÏïÇíÝ»ñ ÑÝ³ñ³íáñ ÏáñáõëïÝ»ñÇ å³ÑáõëïÁ Ýí³½»óÝ»Éáõó Ñ»ïá | I6: èÇëÏÇ 20 % ÏßÇé áõÝ»óáÕ ³ÏïÇíÝ»ñ ÑÝ³ñ³íáñ ÏáñáõëïÝ»ñÇ å³ÑáõëïÁ Ýí³½»óÝ»Éáõó Ñ»ïá | J6: èÇëÏÇ 30 % ÏßÇé áõÝ»óáÕ ³ÏïÇíÝ»ñ ÑÝ³ñ³íáñ ÏáñáõëïÝ»ñÇ å³ÑáõëïÁ Ýí³½»óÝ»Éáõó Ñ»ïá | K6: èÇëÏÇ 50 % ÏßÇé áõÝ»óáÕ ³ÏïÇíÝ»ñ ÑÝ³ñ³íáñ ÏáñáõëïÝ»ñÇ å³ÑáõëïÁ Ýí³½»óÝ»Éáõó Ñ»ïá | L6: èÇëÏÇ 75 % ÏßÇé áõÝ»óáÕ ³ÏïÇíÝ»ñ ÑÝ³ñ³íáñ ÏáñáõëïÝ»ñÇ å³ÑáõëïÁ Ýí³½»óÝ»Éáõó Ñ»ïá | M6: èÇëÏÇ 100 % ÏßÇé áõÝ»óáÕ ³ÏïÇíÝ»ñ ÑÝ³ñ³íáñ ÏáñáõëïÝ»ñÇ å³ÑáõëïÁ Ýí³½»óÝ»Éáõó Ñ»ïá | N6: èÇëÏÇ 110 % ÏßÇé áõÝ»óáÕ ³ÏïÇíÝ»ñ ÑÝ³ñ³íáñ ÏáñáõëïÝ»ñÇ å³ÑáõëïÁ Ýí³½»óÝ»Éáõó Ñ»ïá | O6: èÇëÏÇ 150 % ÏßÇé áõÝ»óáÕ ³ÏïÇíÝ»ñ ÑÝ³ñ³íáñ ÏáñáõëïÝ»ñÇ å³ÑáõëïÁ Ýí³½»óÝ»Éáõó Ñ»ïá | P6: èÇëÏÇ 225 % ÏßÇé áõÝ»óáÕ ³ÏïÇíÝ»ñ ÑÝ³ñ³íáñ ÏáñáõëïÝ»ñÇ å³ÑáõëïÁ Ýí³½»óÝ»Éáõó Ñ»ïá | Q6: èÇëÏÇ 400 % ÏßÇé áõÝ»óáÕ ³ÏïÇíÝ»ñ ÑÝ³ñ³íáñ ÏáñáõëïÝ»ñÇ å³ÑáõëïÁ Ýí³½»óÝ»Éáõó Ñ»ïá | R6: èÇëÏÇ 800 % ÏßÇé áõÝ»óáÕ ³ÏïÇíÝ»ñ ÑÝ³ñ³íáñ ÏáñáõëïÝ»ñÇ å³ÑáõëïÁ Ýí³½»óÝ»Éáõó Ñ»ïá | S6: èÇëÏÇ 830 % ÏßÇé áõÝ»óáÕ ³ÏïÇíÝ»ñ ÑÝ³ñ³íáñ ÏáñáõëïÝ»ñÇ å³ÑáõëïÁ Ýí³½»óÝ»Éáõó Ñ»ïá | T6: ì³ñÏ³ÛÇÝ éÇëÏÇ Ñ³Ù³ñ å³Ñ³ÝçíáÕ Ï³åÇï³ÉÇ Ù»ÍáõÃÛáõÝ ((5)*0%+(6)*10%+(7)*20%+(8)*30%+(9)*50%+(10)*75%+(11)*100%+(12)*110%+(13)*150%+(14)*225%+(15)*400%+(16)*800%+(17)*830%)
C7: 1 | D7: 2 | E7: 3 | F7: 4 | G7: 5 | H7: 6 | I7: 7 | J7: 8 | K7: 9 | L7: 10 | M7: 11 | N7: 12 | O7: 13 | P7: 14 | Q7: 15 | R7: 16 | S7: 17 | T7: 18
B8: 1 | T8: =G8*0%+H8*10%+I8*20%+J8*30%+K8*50%+L8*75%+M8*100%+N8*110%+O8*150%+P8*225%+Q8*400%+R8*800%+S8*830%+SUMIFS(Sheet8.1!$I$8:$I$193,Sheet8.1!$B$8:$B$193,Sheet6!$B8) -> 0
B9: 2 | T9: =G9*0%+H9*10%+I9*20%+J9*30%+K9*50%+L9*75%+M9*100%+N9*110%+O9*150%+P9*225%+Q9*400%+R9*800%+S9*830%+SUMIFS(Sheet8.1!$I$8:$I$193,Sheet8.1!$B$8:$B$193,Sheet6!$B9) -> 0
B10: 3 | T10: =G10*0%+H10*10%+I10*20%+J10*30%+K10*50%+L10*75%+M10*100%+N10*110%+O10*150%+P10*225%+Q10*400%+R10*800%+S10*830%+SUMIFS(Sheet8.1!$I$8:$I$193,Sheet8.1!$B$8:$B$193,Sheet6!$B10) -> 0
B11: 4 | T11: =G11*0%+H11*10%+I11*20%+J11*30%+K11*50%+L11*75%+M11*100%+N11*110%+O11*150%+P11*225%+Q11*400%+R11*800%+S11*830%+SUMIFS(Sheet8.1!$I$8:$I$193,Sheet8.1!$B$8:$B$193,Sheet6!$B11) -> 0
B12: 5 | T12: =G12*0%+H12*10%+I12*20%+J12*30%+K12*50%+L12*75%+M12*100%+N12*110%+O12*150%+P12*225%+Q12*400%+R12*800%+S12*830%+SUMIFS(Sheet8.1!$I$8:$I$193,Sheet8.1!$B$8:$B$193,Sheet6!$B12) -> 0
B13: 6 | T13: =G13*0%+H13*10%+I13*20%+J13*30%+K13*50%+L13*75%+M13*100%+N13*110%+O13*150%+P13*225%+Q13*400%+R13*800%+S13*830%+SUMIFS(Sheet8.1!$I$8:$I$193,Sheet8.1!$B$8:$B$193,Sheet6!$B13) -> 0
B14: 7 | T14: =G14*0%+H14*10%+I14*20%+J14*30%+K14*50%+L14*75%+M14*100%+N14*110%+O14*150%+P14*225%+Q14*400%+R14*800%+S14*830%+SUMIFS(Sheet8.1!$I$8:$I$193,Sheet8.1!$B$8:$B$193,Sheet6!$B14) -> 0
B15: 8 | T15: =G15*0%+H15*10%+I15*20%+J15*30%+K15*50%+L15*75%+M15*100%+N15*110%+O15*150%+P15*225%+Q15*400%+R15*800%+S15*830%+SUMIFS(Sheet8.1!$I$8:$I$193,Sheet8.1!$B$8:$B$193,Sheet6!$B15) -> 0
B16: 9 | T16: =G16*0%+H16*10%+I16*20%+J16*30%+K16*50%+L16*75%+M16*100%+N16*110%+O16*150%+P16*225%+Q16*400%+R16*800%+S16*830%+SUMIFS(Sheet8.1!$I$8:$I$193,Sheet8.1!$B$8:$B$193,Sheet6!$B16) -> 0
B17: 10 | T17: =G17*0%+H17*10%+I17*20%+J17*30%+K17*50%+L17*75%+M17*100%+N17*110%+O17*150%+P17*225%+Q17*400%+R17*800%+S17*830%+SUMIFS(Sheet8.1!$I$8:$I$193,Sheet8.1!$B$8:$B$193,Sheet6!$B17) -> 0
B18: 11 | T18: =G18*0%+H18*10%+I18*20%+J18*30%+K18*50%+L18*75%+M18*100%+N18*110%+O18*150%+P18*225%+Q18*400%+R18*800%+S18*830%+SUMIFS(Sheet8.1!$I$8:$I$193,Sheet8.1!$B$8:$B$193,Sheet6!$B18) -> 0
B19: 12 | T19: =G19*0%+H19*10%+I19*20%+J19*30%+K19*50%+L19*75%+M19*100%+N19*110%+O19*150%+P19*225%+Q19*400%+R19*800%+S19*830%+SUMIFS(Sheet8.1!$I$8:$I$193,Sheet8.1!$B$8:$B$193,Sheet6!$B19) -> 0
... B38: 31 | T38: =G38*0%+H38*10%+I38*20%+J38*30%+K38*50%+L38*75%+M38*100%+N38*110%+O38*150%+P38*225%+Q38*400%+R38*800%+S38*830%+SUMIFS(Sheet8.1!$I$8:$I$193,Sheet8.1!$B$8:$B$193,Sheet6!$B38) -> 0
B39: ØÇçÇÝ | C39: =SUM(C8:C38)/DAY(Date) -> #DIV/0! | D39: =SUM(D8:D38)/DAY(Date) -> #DIV/0! | E39: =SUM(E8:E38)/DAY(Date) -> #DIV/0! | F39: =SUM(F8:F38)/DAY(Date) -> #DIV/0! | G39: =SUM(G8:G38)/DAY(Date) -> #DIV/0! | H39: =SUM(H8:H38)/DAY(Date) -> #DIV/0! | I39: =SUM(I8:I38)/DAY(Date) -> #DIV/0! | J39: =SUM(J8:J38)/DAY(Date) -> #DIV/0! | ... T39: =SUM(T8:T38)/DAY(Date) -> #DIV/0!
J42: ²å³Ñáí³·ñ³Ï³Ý ÁÝÏ»ñáõÃÛ³Ý í³ñãáõÃÛ³Ý Ý³Ë³·³Ñª | K42: =Sheet1!F44 -> 0
J43: (¶áñÍ³¹Çñ ïÝûñ»Ý)
J45: ¶ÉË³íáñ Ñ³ßí³å³Ñª | K45: =Sheet1!F47 -> 0
J47: ä³ï³ëË³Ý³ïáõ ³Ïïáõ³ñª | K47: =Sheet1!F49 -> 0

Sheet Sheet7
AB2: ²ÔÚàôê²Î 11.
AB3: (Ñ³½³ñ ¹ñ³Ù)
B4: Վարկային ռիսկի համար պահանջվող կապիտալի մեծության հաշվակն ըստ օրերի
B5: Ð»ïÑ³ßí»Ïßé³ÛÇÝ å³ÛÙ³Ý³Ï³Ý å³ñï³íáñáõÃÛáõÝÝ»ñÇ ¨ Ñ»ïÑ³ßí»Ïßé³ÛÇÝ ³Ý³í³ñï Å³ÙÏ»ï³ÛÇÝ ·áñÍ³éÝáõÃÛáõÝÝ»ñÇ (áñáÝó íñ³ ã»Ý ï³ñ³ÍíáõÙ ìè¼Ø-Ý»ñÁ) í³ñÏ³ÛÇÝ éÇëÏÇ ÷áË³ñÏÙ³Ý ·áñÍáÝÝ»ñÇ í»ñ³ÍÙ³Ý ¨ í³ñÏ³ÛÇÝ éÇëÏÇ Ñ³ßí³ñÏÝ»ñÁ Áëï ûñ»ñÇ
B6: ²Ùëí³ ûñ»ñÁ | C6: ²ñï³Ñ³ßí»Ïßé³ÛÇÝ ³Í³ÝóÛ³É ·áñÍÇùÝ»ñ /µ³ó³éáõÃÛ³Ùµ` ³ñÅáõÃ³ÛÇÝ ëíá÷Ç / (¹ñ³Ù³ÛÇÝ Ñá¹í³ÍÝ»ñ) | D6: ä³Ñáõëï | E6: ì³ñÏ³ÛÇÝ éÇëÏÇ Ù»ÍáõÃÛáõÝÁ ìèö¶ ÏÇñ³éáõÙÇó Ñ»ïá (1-2) * 1 % | F6: ²ñï³Ñ³ßí»Ïßé³ÛÇÝ ³Í³ÝóÛ³É ·áñÍÇùÝ»ñ /µ³ó³éáõÃÛ³Ùµ` ³ñÅáõÃ³ÛÇÝ ëíá÷Ç/ (³ñï³ñÅáõÃ³ÛÇÝ Ñá¹í³ÍÝ»ñ) | G6: ä³Ñáõëï | H6: ì³ñÏ³ÛÇÝ éÇëÏÇ Ù»ÍáõÃÛáõÝÁ ìèö¶ ÏÇñ³éáõÙÇó Ñ»ïá (4-5) * 1.5 % | I6: ²ñï³Ñ³ßí»Ïßé³ÛÇÝ å³ÛÙ³Ý³Ï³Ý å³ñï³íáñáõÃÛáõÝÝ»ñ (¹ñ³Ù³ÛÇÝ Ñá¹í³ÍÝ»ñ) | J6: ä³Ñáõëï | K6: ì³ñÏ³ÛÇÝ éÇëÏÇ Ù»ÍáõÃÛáõÝÁ ìèö¶ ÏÇñ³éáõÙÇó Ñ»ïá (7-8) * 100 % | L6: ²ñï³Ñ³ßí»Ïßé³ÛÇÝ å³ÛÙ³Ý³Ï³Ý å³ñï³íáñáõÃÛáõÝÝ»ñ (³ñï³ñÅáõÃ³ÛÇÝ Ñá¹í³ÍÝ»ñ) | M6: ä³Ñáõëï | N6: ì³ñÏ³ÛÇÝ éÇëÏÇ Ù»ÍáõÃÛáõÝÁ ìèö¶ ÏÇñ³éáõÙÇó Ñ»ïá (10-11) * 100 % | O6: èÇëÏÇ 0% ÏßÇé (3+6+ 9+12)-Çó | P6: èÇëÏÇ 10% ÏßÇé (3+6+ 9+12) -Çó | Q6: èÇëÏÇ 20% ÏßÇé (3+6+ 9+12)-Çó | R6: èÇëÏÇ 30% ÏßÇé (3+6+ 9+12) -Çó | S6: èÇëÏÇ 50% ÏßÇé (3+6+ 9+12) -Çó | T6: èÇëÏÇ 75% ÏßÇé (3+6+ 9+12) -Çó | U6: èÇëÏÇ 100% ÏßÇé (3+6+ 9+12)-Çó | V6: èÇëÏÇ 110% ÏßÇé (3+6+ 9+12) -Çó | W6: èÇëÏÇ 150% ÏßÇé (3+6+ 9+12) -Çó | X6: èÇëÏÇ 225% ÏßÇé (3+6+ 9+12) -Çó | Y6: èÇëÏÇ 400% ÏßÇé (3+6+ 9+12)-Çó | Z6: èÇëÏÇ 800% ÏßÇé (3+6+ 9+12) -Çó | AA6: èÇëÏÇ 830% ÏßÇé (3+6+ 9+12) -Çó | AB6: ì³ñÏ³ÛÇÝ éÇëÏÇ Ñ³Ù³ñ å³Ñ³ÝçíáÕ Ï³åÇï³ÉÇ Ù»ÍáõÃÛáõÝ ((13)*0%+(14)*10%+(15)*20%+(16)*30%+(17)*50%+(18)*75%+(19)*100%+(20)*110%+(21)*150%+(22)*225%+(23)*400%+(24)*800%+(25)*830%)
C7: 1 | D7: 2 | E7: 3 | F7: 4 | G7: 5 | H7: 6 | I7: 7 | J7: 8 | K7: 9 | L7: 10 | M7: 11 | N7: 12 | O7: 13 | P7: 14 | Q7: 15 | R7: 16 | S7: 17 | T7: 18 | U7: 19 | V7: 20 | W7: 21 | X7: 22 | Y7: 23 | Z7: 24 | AA7: 25 | AB7: 26
B8: 1 | E8: =(C8-D8)*1% -> 0 | H8: =(F8-G8)*1.5% -> 0 | K8: =(I8-J8)*100% -> 0 | N8: =(L8-M8)*100% -> 0 | AB8: =IF(ABS(SUM(O8:AA8)-(E8+H8+N8+K8))<2,O8*0%+P8*10%+Q8*20%+R8*30%+S8*50%+T8*75%+U8*100%+V8*110%+W8*150%+X8*225%+Y8*400%+Z8*800%+AA8*830%,"Error")+SUMIFS(Sheet8.1!$J$8:$J$193,Sheet8.1!$B$8:$B$193,Sheet7!$B8) -> 0
B9: 2 | E9: =(C9-D9)*1% -> 0 | H9: =(F9-G9)*1.5% -> 0 | K9: =(I9-J9)*100% -> 0 | N9: =(L9-M9)*100% -> 0 | AB9: =IF(ABS(SUM(O9:AA9)-(E9+H9+N9+K9))<2,O9*0%+P9*10%+Q9*20%+R9*30%+S9*50%+T9*75%+U9*100%+V9*110%+W9*150%+X9*225%+Y9*400%+Z9*800%+AA9*830%,"Error")+SUMIFS(Sheet8.1!$J$8:$J$193,Sheet8.1!$B$8:$B$193,Sheet7!$B9) -> 0
B10: 3 | E10: =(C10-D10)*1% -> 0 | H10: =(F10-G10)*1.5% -> 0 | K10: =(I10-J10)*100% -> 0 | N10: =(L10-M10)*100% -> 0 | AB10: =IF(ABS(SUM(O10:AA10)-(E10+H10+N10+K10))<2,O10*0%+P10*10%+Q10*20%+R10*30%+S10*50%+T10*75%+U10*100%+V10*110%+W10*150%+X10*225%+Y10*400%+Z10*800%+AA10*830%,"Error")+SUMIFS(Sheet8.1!$J$8:$J$193,Sheet8.1!$B$8:$B$193,Sheet7!$B10) -> 0
B11: 4 | E11: =(C11-D11)*1% -> 0 | H11: =(F11-G11)*1.5% -> 0 | K11: =(I11-J11)*100% -> 0 | N11: =(L11-M11)*100% -> 0 | AB11: =IF(ABS(SUM(O11:AA11)-(E11+H11+N11+K11))<2,O11*0%+P11*10%+Q11*20%+R11*30%+S11*50%+T11*75%+U11*100%+V11*110%+W11*150%+X11*225%+Y11*400%+Z11*800%+AA11*830%,"Error")+SUMIFS(Sheet8.1!$J$8:$J$193,Sheet8.1!$B$8:$B$193,Sheet7!$B11) -> 0
B12: 5 | E12: =(C12-D12)*1% -> 0 | H12: =(F12-G12)*1.5% -> 0 | K12: =(I12-J12)*100% -> 0 | N12: =(L12-M12)*100% -> 0 | AB12: =IF(ABS(SUM(O12:AA12)-(E12+H12+N12+K12))<2,O12*0%+P12*10%+Q12*20%+R12*30%+S12*50%+T12*75%+U12*100%+V12*110%+W12*150%+X12*225%+Y12*400%+Z12*800%+AA12*830%,"Error")+SUMIFS(Sheet8.1!$J$8:$J$193,Sheet8.1!$B$8:$B$193,Sheet7!$B12) -> 0
B13: 6 | E13: =(C13-D13)*1% -> 0 | H13: =(F13-G13)*1.5% -> 0 | K13: =(I13-J13)*100% -> 0 | N13: =(L13-M13)*100% -> 0 | AB13: =IF(ABS(SUM(O13:AA13)-(E13+H13+N13+K13))<2,O13*0%+P13*10%+Q13*20%+R13*30%+S13*50%+T13*75%+U13*100%+V13*110%+W13*150%+X13*225%+Y13*400%+Z13*800%+AA13*830%,"Error")+SUMIFS(Sheet8.1!$J$8:$J$193,Sheet8.1!$B$8:$B$193,Sheet7!$B13) -> 0
B14: 7 | E14: =(C14-D14)*1% -> 0 | H14: =(F14-G14)*1.5% -> 0 | K14: =(I14-J14)*100% -> 0 | N14: =(L14-M14)*100% -> 0 | AB14: =IF(ABS(SUM(O14:AA14)-(E14+H14+N14+K14))<2,O14*0%+P14*10%+Q14*20%+R14*30%+S14*50%+T14*75%+U14*100%+V14*110%+W14*150%+X14*225%+Y14*400%+Z14*800%+AA14*830%,"Error")+SUMIFS(Sheet8.1!$J$8:$J$193,Sheet8.1!$B$8:$B$193,Sheet7!$B14) -> 0
B15: 8 | E15: =(C15-D15)*1% -> 0 | H15: =(F15-G15)*1.5% -> 0 | K15: =(I15-J15)*100% -> 0 | N15: =(L15-M15)*100% -> 0 | AB15: =IF(ABS(SUM(O15:AA15)-(E15+H15+N15+K15))<2,O15*0%+P15*10%+Q15*20%+R15*30%+S15*50%+T15*75%+U15*100%+V15*110%+W15*150%+X15*225%+Y15*400%+Z15*800%+AA15*830%,"Error")+SUMIFS(Sheet8.1!$J$8:$J$193,Sheet8.1!$B$8:$B$193,Sheet7!$B15) -> 0
B16: 9 | E16: =(C16-D16)*1% -> 0 | H16: =(F16-G16)*1.5% -> 0 | K16: =(I16-J16)*100% -> 0 | N16: =(L16-M16)*100% -> 0 | AB16: =IF(ABS(SUM(O16:AA16)-(E16+H16+N16+K16))<2,O16*0%+P16*10%+Q16*20%+R16*30%+S16*50%+T16*75%+U16*100%+V16*110%+W16*150%+X16*225%+Y16*400%+Z16*800%+AA16*830%,"Error")+SUMIFS(Sheet8.1!$J$8:$J$193,Sheet8.1!$B$8:$B$193,Sheet7!$B16) -> 0
B17: 10 | E17: =(C17-D17)*1% -> 0 | H17: =(F17-G17)*1.5% -> 0 | K17: =(I17-J17)*100% -> 0 | N17: =(L17-M17)*100% -> 0 | AB17: =IF(ABS(SUM(O17:AA17)-(E17+H17+N17+K17))<2,O17*0%+P17*10%+Q17*20%+R17*30%+S17*50%+T17*75%+U17*100%+V17*110%+W17*150%+X17*225%+Y17*400%+Z17*800%+AA17*830%,"Error")+SUMIFS(Sheet8.1!$J$8:$J$193,Sheet8.1!$B$8:$B$193,Sheet7!$B17) -> 0
B18: 11 | E18: =(C18-D18)*1% -> 0 | H18: =(F18-G18)*1.5% -> 0 | K18: =(I18-J18)*100% -> 0 | N18: =(L18-M18)*100% -> 0 | AB18: =IF(ABS(SUM(O18:AA18)-(E18+H18+N18+K18))<2,O18*0%+P18*10%+Q18*20%+R18*30%+S18*50%+T18*75%+U18*100%+V18*110%+W18*150%+X18*225%+Y18*400%+Z18*800%+AA18*830%,"Error")+SUMIFS(Sheet8.1!$J$8:$J$193,Sheet8.1!$B$8:$B$193,Sheet7!$B18) -> 0
B19: 12 | E19: =(C19-D19)*1% -> 0 | H19: =(F19-G19)*1.5% -> 0 | K19: =(I19-J19)*100% -> 0 | N19: =(L19-M19)*100% -> 0 | AB19: =IF(ABS(SUM(O19:AA19)-(E19+H19+N19+K19))<2,O19*0%+P19*10%+Q19*20%+R19*30%+S19*50%+T19*75%+U19*100%+V19*110%+W19*150%+X19*225%+Y19*400%+Z19*800%+AA19*830%,"Error")+SUMIFS(Sheet8.1!$J$8:$J$193,Sheet8.1!$B$8:$B$193,Sheet7!$B19) -> 0
... B38: 31 | E38: =(C38-D38)*1% -> 0 | H38: =(F38-G38)*1.5% -> 0 | K38: =(I38-J38)*100% -> 0 | N38: =(L38-M38)*100% -> 0 | AB38: =IF(ABS(SUM(O38:AA38)-(E38+H38+N38+K38))<2,O38*0%+P38*10%+Q38*20%+R38*30%+S38*50%+T38*75%+U38*100%+V38*110%+W38*150%+X38*225%+Y38*400%+Z38*800%+AA38*830%,"Error")+SUMIFS(Sheet8.1!$J$8:$J$193,Sheet8.1!$B$8:$B$193,Sheet7!$B38) -> 0
B39: ØÇçÇÝ | C39: =SUM(C8:C38)/DAY(Date) -> #DIV/0! | D39: =SUM(D8:D38)/DAY(Date) -> #DIV/0! | E39: =SUM(E8:E38)/DAY(Date) -> #DIV/0! | F39: =SUM(F8:F38)/DAY(Date) -> #DIV/0! | G39: =SUM(G8:G38)/DAY(Date) -> #DIV/0! | H39: =SUM(H8:H38)/DAY(Date) -> #DIV/0! | I39: =SUM(I8:I38)/DAY(Date) -> #DIV/0! | J39: =SUM(J8:J38)/DAY(Date) -> #DIV/0! | ... AB39: =SUM(AB8:AB38)/DAY(Date) -> #DIV/0!
N42: ²å³Ñáí³·ñ³Ï³Ý ÁÝÏ»ñáõÃÛ³Ý í³ñãáõÃÛ³Ý Ý³Ë³·³Ñª | O42: =Sheet1!F44 -> 0
N43: (¶áñÍ³¹Çñ ïÝûñ»Ý)
N45: ¶ÉË³íáñ Ñ³ßí³å³Ñª | O45: =Sheet1!F47 -> 0
N47: ä³ï³ëË³Ý³ïáõ ³Ïïáõ³ñª | O47: =Sheet1!F49 -> 0

Sheet Sheet8
AD1: ²ÔÚàôê²Î 12.
AD2: (Ñ³½³ñ ¹ñ³Ù)
B3: Վարկային ռիսկի համար պահանջվող կապիտալի մեծության հաշվակն ըստ օրերի
B4: Ð»ïÑ³ßí»Ïßé³ÛÇÝ å³ÛÙ³Ý³Ï³Ý å³ñï³íáñáõÃÛáõÝÝ»ñÇ ¨ Ñ»ïÑ³ßí»Ïßé³ÛÇÝ ³Ý³í³ñï Å³ÙÏ»ï³ÛÇÝ ·áñÍ³éÝáõÃÛáõÝÝ»ñÇ (áñáÝó íñ³ ï³ñ³ÍíáõÙ »Ý ìè¼Ø-Ý»ñÁ) í³ñÏ³ÛÇÝ éÇëÏÇ ÷áË³ñÏÙ³Ý ·áñÍáÝÝ»ñÇ í»ñ³ÍÙ³Ý ¨ í³ñÏ³ÛÇÝ éÇëÏÇ Ñ³ßí³ñÏÝ»ñÁ Áëï ûñ»ñÇ
B5: ²Ùëí³ ûñ»ñÁ | C5: ²ñï³Ñ³ßí»Ïßé³ÛÇÝ ³Í³ÝóÛ³É ·áñÍÇùÝ»ñ/ µ³ó³éáõÃÛ³Ùµ` ³ñÅáõÃ³ÛÇÝ ëíá÷Ç/ (¹ñ³Ù³ÛÇÝ Ñá¹í³ÍÝ»ñ) | D5: ä³Ñáõëï | E5: ì³ñÏ³ÛÇÝ éÇëÏÇ Ù»ÍáõÃÛáõÝÁ ìèö¶ ÏÇñ³éáõÙÇó Ñ»ïá (1-2) * 1 % | F5: ²ñï³Ñ³ßí»Ïßé³ÛÇÝ ³Í³ÝóÛ³É ·áñÍÇùÝ»ñ /µ³ó³éáõÃÛ³Ùµ` ³ñÅáõÃ³ÛÇÝ ëíá÷Ç/ (³ñï³ñÅáõÃ³ÛÇÝ Ñá¹í³ÍÝ»ñ) | G5: ä³Ñáõëï | H5: ì³ñÏ³ÛÇÝ éÇëÏÇ Ù»ÍáõÃÛáõÝÁ ìèö¶ ÏÇñ³éáõÙÇó Ñ»ïá (4-5) * 1.5 % | I5: ²ñï³Ñ³ßí»Ïßé³ÛÇÝ å³ÛÙ³Ý³Ï³Ý å³ñï³íáñáõÃÛáõÝÝ»ñ (¹ñ³Ù³ÛÇÝ Ñá¹í³ÍÝ»ñ) | J5: ä³Ñáõëï | K5: ì³ñÏ³ÛÇÝ éÇëÏÇ Ù»ÍáõÃÛáõÝÁ ìèö¶ ÏÇñ³éáõÙÇó Ñ»ïá (7-8) * 100 % | L5: ²ñï³Ñ³ßí»Ïßé³ÛÇÝ å³ÛÙ³Ý³Ï³Ý å³ñï³íáñáõÃÛáõÝÝ»ñ (³ñï³ñÅáõÃ³ÛÇÝ Ñá¹í³ÍÝ»ñ) | M5: ä³Ñáõëï | N5: ì³ñÏ³ÛÇÝ éÇëÏÇ Ù»ÍáõÃÛáõÝÁ ìèö¶ ÏÇñ³éáõÙÇó Ñ»ïá (10-11) * 100 % | O5: Ð³ßí»Ïßé³ÛÇÝ í³ñÏ³ÛÇÝ éÇëÏÇ Ù»ÍáõÃÛáõÝÁ, áñÇ éÇëÏÇ ÏßÇéÁ ìè¼Ø ÏÇñ³éÙ³Ý ³ñ¹ÛáõÝùáõÙ ÷áËí»É ¿ | P5: ìè¼Ø ÏÇñ³éÙ³Ý ³ñ¹ÛáõÝùáõÙ í³ñÏ³ÛÇÝ éÇëÏÇ ÷á÷áËáõÃÛáõÝÁ | Q5: èÇëÏÇ 0% ÏßÇé (3+6+ 9+12)-Çó | R5: èÇëÏÇ 10% ÏßÇé (3+6+ 9+12) -Çó | S5: èÇëÏÇ 20% ÏßÇé (3+6+ 9+12)-Çó | T5: èÇëÏÇ 30% ÏßÇé (3+6+ 9+12) -Çó | U5: èÇëÏÇ 50% ÏßÇé (3+6+ 9+12) -Çó | V5: èÇëÏÇ 75% ÏßÇé (3+6+ 9+12) -Çó | W5: èÇëÏÇ 100% ÏßÇé (3+6+ 9+12)-Çó | X5: èÇëÏÇ 110% ÏßÇé (3+6+ 9+12) -Çó | Y5: èÇëÏÇ 150% ÏßÇé (3+6+ 9+12) -Çó | Z5: èÇëÏÇ 225% ÏßÇé (3+6+ 9+12) -Çó | AA5: èÇëÏÇ 400% ÏßÇé (3+6+ 9+12)-Çó | AB5: èÇëÏÇ 800% ÏßÇé (3+6+ 9+12) -Çó | AC5: èÇëÏÇ 830% ÏßÇé (3+6+ 9+12) -Çó | AD5: ì³ñÏ³ÛÇÝ éÇëÏÇ Ñ³Ù³ñ å³Ñ³ÝçíáÕ Ï³åÇï³ÉÇ Ù»ÍáõÃÛáõÝ ((15)*0%+(16)*10%+(17)*20%+(18)*30%+(19)*50%+(20)*75%+(21)*100%+(22)*110%+(23)*150%+(24)*225%+(25)*400%+(26)*800%+(27)*830%)
C6: 1 | D6: 2 | E6: 3 | F6: 4 | G6: 5 | H6: 6 | I6: 7 | J6: 8 | K6: 9 | L6: 10 | M6: 11 | N6: 12 | O6: 13 | P6: 14 | Q6: 15 | R6: 16 | S6: 17 | T6: 18 | U6: 19 | V6: 20 | W6: 21 | X6: 22 | Y6: 23 | Z6: 24 | AA6: 25 | AB6: 26 | AC6: 27 | AD6: 28
B7: 1 | E7: =(C7-D7)*1% -> 0 | H7: =(F7-G7)*1.5% -> 0 | K7: =(I7-J7)*100% -> 0 | N7: =(L7-M7)*100% -> 0 | AD7: =IF(ABS(SUM(Q7:AC7)-(E7+H7+K7+N7))<2,Q7*0%+R7*10%+S7*20%+T7*30%+U7*50%+V7*75%+W7*100%+X7*110%+Y7*150%+Z7*225%+AA7*400%+AB7*800%+AC7*830%,"Error")+SUMIFS(Sheet8.1!$K$8:$K$193,Sheet8.1!$B$8:$B$193,Sheet8!$B7) -> 0
B8: 2 | E8: =(C8-D8)*1% -> 0 | H8: =(F8-G8)*1.5% -> 0 | K8: =(I8-J8)*100% -> 0 | N8: =(L8-M8)*100% -> 0 | AD8: =IF(ABS(SUM(Q8:AC8)-(E8+H8+K8+N8))<2,Q8*0%+R8*10%+S8*20%+T8*30%+U8*50%+V8*75%+W8*100%+X8*110%+Y8*150%+Z8*225%+AA8*400%+AB8*800%+AC8*830%,"Error")+SUMIFS(Sheet8.1!$K$8:$K$193,Sheet8.1!$B$8:$B$193,Sheet8!$B8) -> 0
B9: 3 | E9: =(C9-D9)*1% -> 0 | H9: =(F9-G9)*1.5% -> 0 | K9: =(I9-J9)*100% -> 0 | N9: =(L9-M9)*100% -> 0 | AD9: =IF(ABS(SUM(Q9:AC9)-(E9+H9+K9+N9))<2,Q9*0%+R9*10%+S9*20%+T9*30%+U9*50%+V9*75%+W9*100%+X9*110%+Y9*150%+Z9*225%+AA9*400%+AB9*800%+AC9*830%,"Error")+SUMIFS(Sheet8.1!$K$8:$K$193,Sheet8.1!$B$8:$B$193,Sheet8!$B9) -> 0
B10: 4 | E10: =(C10-D10)*1% -> 0 | H10: =(F10-G10)*1.5% -> 0 | K10: =(I10-J10)*100% -> 0 | N10: =(L10-M10)*100% -> 0 | AD10: =IF(ABS(SUM(Q10:AC10)-(E10+H10+K10+N10))<2,Q10*0%+R10*10%+S10*20%+T10*30%+U10*50%+V10*75%+W10*100%+X10*110%+Y10*150%+Z10*225%+AA10*400%+AB10*800%+AC10*830%,"Error")+SUMIFS(Sheet8.1!$K$8:$K$193,Sheet8.1!$B$8:$B$193,Sheet8!$B10) -> 0
B11: 5 | E11: =(C11-D11)*1% -> 0 | H11: =(F11-G11)*1.5% -> 0 | K11: =(I11-J11)*100% -> 0 | N11: =(L11-M11)*100% -> 0 | AD11: =IF(ABS(SUM(Q11:AC11)-(E11+H11+K11+N11))<2,Q11*0%+R11*10%+S11*20%+T11*30%+U11*50%+V11*75%+W11*100%+X11*110%+Y11*150%+Z11*225%+AA11*400%+AB11*800%+AC11*830%,"Error")+SUMIFS(Sheet8.1!$K$8:$K$193,Sheet8.1!$B$8:$B$193,Sheet8!$B11) -> 0
B12: 6 | E12: =(C12-D12)*1% -> 0 | H12: =(F12-G12)*1.5% -> 0 | K12: =(I12-J12)*100% -> 0 | N12: =(L12-M12)*100% -> 0 | AD12: =IF(ABS(SUM(Q12:AC12)-(E12+H12+K12+N12))<2,Q12*0%+R12*10%+S12*20%+T12*30%+U12*50%+V12*75%+W12*100%+X12*110%+Y12*150%+Z12*225%+AA12*400%+AB12*800%+AC12*830%,"Error")+SUMIFS(Sheet8.1!$K$8:$K$193,Sheet8.1!$B$8:$B$193,Sheet8!$B12) -> 0
B13: 7 | E13: =(C13-D13)*1% -> 0 | H13: =(F13-G13)*1.5% -> 0 | K13: =(I13-J13)*100% -> 0 | N13: =(L13-M13)*100% -> 0 | AD13: =IF(ABS(SUM(Q13:AC13)-(E13+H13+K13+N13))<2,Q13*0%+R13*10%+S13*20%+T13*30%+U13*50%+V13*75%+W13*100%+X13*110%+Y13*150%+Z13*225%+AA13*400%+AB13*800%+AC13*830%,"Error")+SUMIFS(Sheet8.1!$K$8:$K$193,Sheet8.1!$B$8:$B$193,Sheet8!$B13) -> 0
B14: 8 | E14: =(C14-D14)*1% -> 0 | H14: =(F14-G14)*1.5% -> 0 | K14: =(I14-J14)*100% -> 0 | N14: =(L14-M14)*100% -> 0 | AD14: =IF(ABS(SUM(Q14:AC14)-(E14+H14+K14+N14))<2,Q14*0%+R14*10%+S14*20%+T14*30%+U14*50%+V14*75%+W14*100%+X14*110%+Y14*150%+Z14*225%+AA14*400%+AB14*800%+AC14*830%,"Error")+SUMIFS(Sheet8.1!$K$8:$K$193,Sheet8.1!$B$8:$B$193,Sheet8!$B14) -> 0
B15: 9 | E15: =(C15-D15)*1% -> 0 | H15: =(F15-G15)*1.5% -> 0 | K15: =(I15-J15)*100% -> 0 | N15: =(L15-M15)*100% -> 0 | AD15: =IF(ABS(SUM(Q15:AC15)-(E15+H15+K15+N15))<2,Q15*0%+R15*10%+S15*20%+T15*30%+U15*50%+V15*75%+W15*100%+X15*110%+Y15*150%+Z15*225%+AA15*400%+AB15*800%+AC15*830%,"Error")+SUMIFS(Sheet8.1!$K$8:$K$193,Sheet8.1!$B$8:$B$193,Sheet8!$B15) -> 0
B16: 10 | E16: =(C16-D16)*1% -> 0 | H16: =(F16-G16)*1.5% -> 0 | K16: =(I16-J16)*100% -> 0 | N16: =(L16-M16)*100% -> 0 | AD16: =IF(ABS(SUM(Q16:AC16)-(E16+H16+K16+N16))<2,Q16*0%+R16*10%+S16*20%+T16*30%+U16*50%+V16*75%+W16*100%+X16*110%+Y16*150%+Z16*225%+AA16*400%+AB16*800%+AC16*830%,"Error")+SUMIFS(Sheet8.1!$K$8:$K$193,Sheet8.1!$B$8:$B$193,Sheet8!$B16) -> 0
B17: 11 | E17: =(C17-D17)*1% -> 0 | H17: =(F17-G17)*1.5% -> 0 | K17: =(I17-J17)*100% -> 0 | N17: =(L17-M17)*100% -> 0 | AD17: =IF(ABS(SUM(Q17:AC17)-(E17+H17+K17+N17))<2,Q17*0%+R17*10%+S17*20%+T17*30%+U17*50%+V17*75%+W17*100%+X17*110%+Y17*150%+Z17*225%+AA17*400%+AB17*800%+AC17*830%,"Error")+SUMIFS(Sheet8.1!$K$8:$K$193,Sheet8.1!$B$8:$B$193,Sheet8!$B17) -> 0
B18: 12 | E18: =(C18-D18)*1% -> 0 | H18: =(F18-G18)*1.5% -> 0 | K18: =(I18-J18)*100% -> 0 | N18: =(L18-M18)*100% -> 0 | AD18: =IF(ABS(SUM(Q18:AC18)-(E18+H18+K18+N18))<2,Q18*0%+R18*10%+S18*20%+T18*30%+U18*50%+V18*75%+W18*100%+X18*110%+Y18*150%+Z18*225%+AA18*400%+AB18*800%+AC18*830%,"Error")+SUMIFS(Sheet8.1!$K$8:$K$193,Sheet8.1!$B$8:$B$193,Sheet8!$B18) -> 0
... B37: 31 | E37: =(C37-D37)*1% -> 0 | H37: =(F37-G37)*1.5% -> 0 | K37: =(I37-J37)*100% -> 0 | N37: =(L37-M37)*100% -> 0 | AD37: =IF(ABS(SUM(Q37:AC37)-(E37+H37+K37+N37))<2,Q37*0%+R37*10%+S37*20%+T37*30%+U37*50%+V37*75%+W37*100%+X37*110%+Y37*150%+Z37*225%+AA37*400%+AB37*800%+AC37*830%,"Error")+SUMIFS(Sheet8.1!$K$8:$K$193,Sheet8.1!$B$8:$B$193,Sheet8!$B37) -> 0
B38: ØÇçÇÝ | C38: =SUM(C7:C37)/DAY(Date) -> #DIV/0! | D38: =SUM(D7:D37)/DAY(Date) -> #DIV/0! | E38: =SUM(E7:E37)/DAY(Date) -> #DIV/0! | F38: =SUM(F7:F37)/DAY(Date) -> #DIV/0! | G38: =SUM(G7:G37)/DAY(Date) -> #DIV/0! | H38: =SUM(H7:H37)/DAY(Date) -> #DIV/0! | I38: =SUM(I7:I37)/DAY(Date) -> #DIV/0! | J38: =SUM(J7:J37)/DAY(Date) -> #DIV/0! | ... AD38: =SUM(AD7:AD37)/DAY(Date) -> #DIV/0!
O41: ²å³Ñáí³·ñ³Ï³Ý ÁÝÏ»ñáõÃÛ³Ý í³ñãáõÃÛ³Ý Ý³Ë³·³Ñª | P41: =Sheet1!F44 -> 0
O42: (¶áñÍ³¹Çñ ïÝûñ»Ý)
O44: ¶ÉË³íáñ Ñ³ßí³å³Ñª | P44: =Sheet1!F47 -> 0
O46: ä³ï³ëË³Ý³ïáõ ³Ïïáõ³ñª | P46: =Sheet1!F49 -> 0

Sheet Sheet8.1
B2: Ü»ñ¹ñáõÙ³ÛÇÝ ýáÝ¹»ñÇ ÝÏ³ïÙ³Ùµ å³Ñ³ÝçÝ»ñÇ í³ñÏ³ÛÇÝ éÇëÏÇ Ñ³ßí³ñÏÁ (9-12-ñ¹ ³ÕÛáõë³ÏÝ»ñáõÙ Ý»ñ³é»Éáõ Ñ³Ù³ñ)
G4: ²ÔÚàôê²Î 12.1
G5: (Ñ³½. ¹ñ³Ù)
B6: ²Ùëí³ ûñ»ñ | C6: èÇëÏÇ ÏßÇé | D6: Ü»ñ¹ñáõÙ³ÛÇÝ ýáÝ¹»ñÇ ÝÏ³ïÙ³Ùµ å³Ñ³ÝçÇ Ù»ÍáõÃÛáõÝÁ ÑÝ³ñ³íáñ ÏáñáõëïÝ»ñÇ å³ÑáõëïÁ Ýí³½»óÝ»Éáõó Ñ»ïá (³ÏïÇíÝ»ñ, áñáÝó íñ³ ã»Ý ï³ñ³ÍíáõÙ ìè¼Ø-Ý»ñÁ) | E6: Ü»ñ¹ñáõÙ³ÛÇÝ ýáÝ¹»ñÇ ÝÏ³ïÙ³Ùµ å³Ñ³ÝçÇ Ù»ÍáõÃÛáõÝÁ ÑÝ³ñ³íáñ ÏáñáõëïÝ»ñÇ å³ÑáõëïÁ Ýí³½»óÝ»Éáõó Ñ»ïá (ìè¼Ø-Ç »ÝÃ³Ï³ ³ÏïÇíÝ»ñ) | F6: Ü»ñ¹ñáõÙ³ÛÇÝ ýáÝ¹»ñÇ ÝÏ³ïÙ³Ùµ å³Ñ³ÝçÇ Ù»ÍáõÃÛáõÝÁ ÑÝ³ñ³íáñ ÏáñáõëïÝ»ñÇ å³ÑáõëïÁ Ýí³½»óÝ»Éáõó Ñ»ïá (³ñï³Ñ³ßí»Ïßé³ÛÇÝ ³Í³ÝóÛ³É ·áñÍÇùÝ»ñ ¨ ³ñï³Ñ³ßí»Ïßé³ÛÇÝ å³ÛÙ³Ý³Ï³Ý å³ñï³íáñáõÃÛáõÝÝ»ñ, áñáÝó íñ³ ã»Ý ï³ñ³ÍíáõÙ ìè¼Ø-Ý»ñÁ) | G6: Ü»ñ¹ñáõÙ³ÛÇÝ ýáÝ¹»ñÇ ÝÏ³ïÙ³Ùµ å³Ñ³ÝçÇ Ù»ÍáõÃÛáõÝÁ ÑÝ³ñ³íáñ ÏáñáõëïÝ»ñÇ å³ÑáõëïÁ Ýí³½»óÝ»Éáõó Ñ»ïá (³ñï³Ñ³ßí»Ïßé³ÛÇÝ ³Í³ÝóÛ³É ·áñÍÇùÝ»ñ ¨ ³ñï³Ñ³ßí»Ïßé³ÛÇÝ å³ÛÙ³Ý³Ï³Ý å³ñï³íáñáõÃÛáõÝÝ»ñ, áñáÝó íñ³ ï³ñ³ÍíáõÙ »Ý ìè¼Ø-Ý»ñÁ)
B7: 1 | C7: =B7+1 -> 2 | D7: =C7+1 -> 3 | E7: =D7+1 -> 4 | F7: =E7+1 -> 5 | G7: =F7+1 -> 6
H8: =C8*D8 -> 0 | I8: =E8*C8 -> 0 | J8: =F8*C8 -> 0 | K8: =G8*C8 -> 0
H9: =C9*D9 -> 0 | I9: =E9*C9 -> 0 | J9: =F9*C9 -> 0 | K9: =G9*C9 -> 0
H10: =C10*D10 -> 0 | I10: =E10*C10 -> 0 | J10: =F10*C10 -> 0 | K10: =G10*C10 -> 0
H11: =C11*D11 -> 0 | I11: =E11*C11 -> 0 | J11: =F11*C11 -> 0 | K11: =G11*C11 -> 0
H12: =C12*D12 -> 0 | I12: =E12*C12 -> 0 | J12: =F12*C12 -> 0 | K12: =G12*C12 -> 0
H13: =C13*D13 -> 0 | I13: =E13*C13 -> 0 | J13: =F13*C13 -> 0 | K13: =G13*C13 -> 0
H14: =C14*D14 -> 0 | I14: =E14*C14 -> 0 | J14: =F14*C14 -> 0 | K14: =G14*C14 -> 0
H15: =C15*D15 -> 0 | I15: =E15*C15 -> 0 | J15: =F15*C15 -> 0 | K15: =G15*C15 -> 0
H16: =C16*D16 -> 0 | I16: =E16*C16 -> 0 | J16: =F16*C16 -> 0 | K16: =G16*C16 -> 0
H17: =C17*D17 -> 0 | I17: =E17*C17 -> 0 | J17: =F17*C17 -> 0 | K17: =G17*C17 -> 0
H18: =C18*D18 -> 0 | I18: =E18*C18 -> 0 | J18: =F18*C18 -> 0 | K18: =G18*C18 -> 0
H19: =C19*D19 -> 0 | I19: =E19*C19 -> 0 | J19: =F19*C19 -> 0 | K19: =G19*C19 -> 0
... H193: =C193*D193 -> 0 | I193: =E193*C193 -> 0 | J193: =F193*C193 -> 0 | K193: =G193*C193 -> 0
F198: ²å³Ñáí³·ñ³Ï³Ý ÁÝÏ»ñáõÃÛ³Ý í³ñãáõÃÛ³Ý Ý³Ë³·³Ñª | G198: =Sheet8!P41 -> 0
F199: (¶áñÍ³¹Çñ ïÝûñ»Ý)
F201: ¶ÉË³íáñ Ñ³ßí³å³Ñª | G201: =Sheet8!P44 -> 0
F203: ä³ï³ëË³Ý³ïáõ ³Ïïáõ³ñª | G203: =Sheet8!P46 -> 0

Sheet Sheet9
B2: ²ÕÛáõë³Ï 13․ì»ñ³³å³Ñáí³·ñáõÃÛ³Ý ³ñ¹ÛáõÝùáõÙ ³Ý¹»ñé³ÛÃÇÝ·Ç éÇëÏÇ Ýí³½»óÙ³Ý ¿ý»ÏïÇ Ñ³ßí³ñÏ | H2: 2e-05
H3: 0.0001
B4: ²å³Ñáí³·ñ³Ï³Ý ÁÝÏ»ñáõÃÛ³Ý ³Ýí³ÝáõÙª | C4: =Company -> 0 | H4: 0.0005
H5: 0.0024
B6: ²Ùë³ÃÇíª | C6: =Date -> 0 | H6: 0.005
H7: 0.012
B8: Ð³ßí³ñÏíáÕ ³Ý¹»ñé³ÛÃÇÝ·Ç éÇëÏÇ Ñ³Ù³ñ å³Ñ³ÝçíáÕ Ï³åÇï³ÉÇ Ù»ÍáõÃÛáõÝ | C8: ì»ñ³³å³Ñáí³·ñáõÃÛ³Ý ³ñ¹ÛáõÝùáõÙ ³Ý¹»ñé³ÛÃÇÝ·Ç éÇëÏÇ Ýí³½»óÙ³Ý ¿ý»Ïï | H8: 0.042
B9: =IFERROR(SQRT(SUM(Sheet26!C10:E12)),"") -> 0 | C9: =IFERROR(0.25*SUMPRODUCT(C13:C37,E13:E37),0) -> 0
E10: (Ñ³½³ñ ¹ñ³Ù)
B11: ì»ñ³³å³Ñáí³·ñáÕÇ ³Ýí³ÝáõÙ | C11: ì»ñ³³å³Ñáí³·ñáÕÇ éÇëÏÇ ·áñÍ³ÏÇó | D11: Ð³ßí³ñÏíáÕ ³Ý¹»ñé³ÛÃÇÝ·Ç éÇëÏÇ Ñ³Ù³ñ å³Ñ³ÝçíáÕ Ï³åÇï³ÉÇ Ù»ÍáõÃÛáõÝ ³é³Ýó Ñ³ßíÇ ³éÝ»Éáõ í»ñ³³å³Ñáí³·ñáÕÇ Ñ»ï ÏÝùí³Í í»ñ³³å³Ñáí³·ñáõÃÛ³Ý å³ÛÙ³Ý³·ÇñÁ/ å³ÛÙ³Ý³·ñ»ñÁ (äÎk ÑÇå) | E11: ì»ñ³³å³Ñáí³·ñáÕÇ Ñ»ï ÏÝùí³Í å³ÛÙ³Ý³·ñÇ/ å³ÛÙ³Ý³·ñ»ñÇ ³ñ¹ÛáõÝùáõÙ ³Ý¹»ñé³ÛÃÇÝ·Ç éÇëÏÇ Ýí³½»óÙ³Ý ¿ý»Ïï
B12: 1 | C12: 2 | D12: 3 | E12: 4
A13: 1 | E13: =IFERROR(D13-$B$9,"") -> 0
A14: 2 | E14: =IFERROR(D14-$B$9,"") -> 0
A15: 3 | E15: =IFERROR(D15-$B$9,"") -> 0
A16: 4 | E16: =IFERROR(D16-$B$9,"") -> 0
A17: 5 | E17: =IFERROR(D17-$B$9,"") -> 0
A18: 6 | E18: =IFERROR(D18-$B$9,"") -> 0
A19: 7 | E19: =IFERROR(D19-$B$9,"") -> 0
A20: 8 | E20: =IFERROR(D20-$B$9,"") -> 0
A21: 9 | E21: =IFERROR(D21-$B$9,"") -> 0
A22: 10 | E22: =IFERROR(D22-$B$9,"") -> 0
A23: 11 | E23: =IFERROR(D23-$B$9,"") -> 0
A24: 12 | E24: =IFERROR(D24-$B$9,"") -> 0
... A37: 25 | E37: =IFERROR(D37-$B$9,"") -> 0
C40: ²å³Ñáí³·ñ³Ï³Ý ÁÝÏ»ñáõÃÛ³Ý í³ñãáõÃÛ³Ý Ý³Ë³·³Ñª | D40: =Sheet1!F44 -> 0
C41: (¶áñÍ³¹Çñ ïÝûñ»Ý)
C43: ¶ÉË³íáñ Ñ³ßí³å³Ñª | D43: =Sheet1!F47 -> 0
C45: ä³ï³ëË³Ý³ïáõ ³Ïïáõ³ñª | D45: =Sheet1!F49 -> 0

Sheet Sheet10
F2: ²ÕÛáõë³Ï 14
F3: (Ñ³½³ñ ¹ñ³Ù)
B4: ²ðî²ðÄàôÂ²ÚÆÜ èÆêÎÆ Ð²Ø²ð ä²Ð²ÜæìàÔ Î²äÆî²ÈÆ ØºÌàôÂÚ²Ü Ð²Þì²ðÎ
C5: ²ñï³ñÅáõÃ³ÛÇÝ »ñÏ³ñ ¹Çñù»ñÇ Ñ³Ýñ³·áõÙ³ñ | D5: ²ñï³ñÅáõÃ³ÛÇÝ Ï³ñ× ¹Çñù»ñÇ Ñ³Ýñ³·áõÙ³ñ (µ³ó³ñÓ³Ï Ù»ÍáõÃÛ³Ùµ) | E5: ´³ÝÏ³ÛÇÝ áëÏáõ, Ã³ÝÏ³ñÅ»ù Ù»ï³ÕÝ»ñÇ ëï³Ý¹³ñï³óí³Í ÓáõÉ³ÏïáñÝ»ñÇ ¨ Ù»ï³Õ³Ï³Ý Ñ³ßÇíÝ»ñÇ µ³ó ¹Çñù»ñÇ Ñ³Ýñ³·áõÙ³ñ (µ³ó³ñÓ³Ï Ù»ÍáõÃÛ³Ùµ) | F5: ²ñï³ñÅáõÃ³ÛÇÝ Ñ³Ù³Ë³éÝ ¹Çñù
B6: ²Ùëí³ ûñ»ñÁ | C6: 1 | D6: 2 | E6: 3 | F6: 4
B7: 1 | F7: =SUM(C7:E7) -> 0
B8: 2 | F8: =SUM(C8:E8) -> 0
B9: 3 | F9: =SUM(C9:E9) -> 0
B10: 4 | F10: =SUM(C10:E10) -> 0
B11: 5 | F11: =SUM(C11:E11) -> 0
B12: 6 | F12: =SUM(C12:E12) -> 0
B13: 7 | F13: =SUM(C13:E13) -> 0
B14: 8 | F14: =SUM(C14:E14) -> 0
B15: 9 | F15: =SUM(C15:E15) -> 0
B16: 10 | F16: =SUM(C16:E16) -> 0
B17: 11 | F17: =SUM(C17:E17) -> 0
B18: 12 | F18: =SUM(C18:E18) -> 0
... B37: 31 | F37: =SUM(C37:E37) -> 0
B38: ²ñï³ñÅáõÃ³ÛÇÝ éÇëÏÇ Ñ³Ù³ñ ³Ñ³ÝçíáÕ Ï³åÇï³ÉÇ Ù»ÍáõÃÛáõÝ | C38: x | D38: x | E38: x | F38: =0.25*MAX(F7:F37) -> 0
D41: ²å³Ñáí³·ñ³Ï³Ý ÁÝÏ»ñáõÃÛ³Ý í³ñãáõÃÛ³Ý Ý³Ë³·³Ñª
D42: (¶áñÍ³¹Çñ ïÝûñ»Ý) | E42: =Sheet1!F44 -> 0
D44: ¶ÉË³íáñ Ñ³ßí³å³Ñª | E44: =Sheet1!F47 -> 0
D46: ä³ï³ëË³Ý³ïáõ ³Ïïáõ³ñª | E46: =Sheet1!F49 -> 0

Sheet Sheet11
C2: ²ÔÚàôê²Î 15. ÀÜÎºðàôÂÚ²Ü ²ÎîÆìÜºðÆ, ä²ðî²ìàðàôÂÚàôÜÜºðÆ ºì ²ðî²Ð²ÞìºÎÞè²ÚÆÜ Ð²ÞÆìÜºðÆ Î²¼ØÀ Àêî ²è²ÜÒÆÜ ²ðî²ðÄàôÚÂÜºðÆ
E4: ²å³Ñáí³·ñ³Ï³Ý ÁÝÏ»ñáõÃÛ³Ý ³Ýí³ÝáõÙª | F4: =Company -> 0
E6: ²Ùë³ÃÇíª | F6: =Date -> 0
BE8: (Ñ³½³ñ ¹ñ³Ù)
C9: ²ñï³ñÅáõÛÃÇ ISO Ïá¹Á | D9: ²ØÜ ¹áÉ³ñ | E9: ²Ý·ÉÇ³Ï³Ý ýáõÝï ëï»éÉÇÝ· | F9: ºìðà | G9: èáõë³ëï³ÝÛ³Ý éáõµÉÇ | H9: ê¸è | I9: ´³ÝÏ³ÛÇÝ áëÏÇ | J9: Î³Ý³¹³Ï³Ý ¹áÉ³ñ | K9: ²íëïñ³ÉÇ³Ï³Ý ¹áÉ³ñ | L9: Þí»Ûó³ñ³Ï³Ý ýñ³ÝÏ | M9: ¸³ÝÇ³Ï³Ý ÏñáÝ | N9: Æñ³Ý³Ï³Ý éÇ³É | O9: Ö³åáÝ³Ï³Ý Ç»Ý | P9: ´áõÉÕ³ñ³Ï³Ý É»í | Q9: àõÏñ³ÇÝ³Ï³Ý ·ñÇíÝÛ³ | R9: àõ½µ»Ï³Ï³Ý ëáõÙ | S9: ´»Éáéáõë³Ï³Ý éáõµÉÇ | T9: î³çÇÏ³Ï³Ý ëáÙáÝÇ | U9: ÂáõñùÙ»Ý³Ï³Ý Ù³Ý³Ã | V9: ìñ³ó³Ï³Ý É³ñÇ | W9: ²ñ·»ÝïÇÝ³Ï³Ý å»ëá | X9: º·Çåï³Ï³Ý ýáõÝï | Y9: Âáõñù³Ï³Ý ÉÇñ³ | Z9: Æëñ³Û»É³Ï³Ý ß»ù»É | AA9: È»Ñ³Ï³Ý ½ÉáïÇ | AB9: ÈÇµ³Ý³ÝÛ³Ý ýáõÝï | AC9: ÐÝ¹Ï³Ï³Ý éáõ÷Ç | AD9: ÐáõÝ·³ñ³Ï³Ý ýáñÇÝï | AE9: Üáñí»·³Ï³Ý ÏñáÝ | AF9: Þí»¹³Ï³Ý ÏñáÝ | AG9: â»Ë³Ï³Ý ÏñáÝ³ | AH9: âÇÝ³Ï³Ý Ûáõ³Ý | AI9: êÇÝ·³åáõñÛ³Ý ¹áÉ³ñ | AJ9: êÉáí³ÏÛ³Ý ÏñáÝ³ | AK9: Ð³ñ³íÏáñ»³Ï³Ý íáÝ | AL9: ´ñ³½ÇÉ³Ï³Ý é»³É | AM9: Ø»ùëÇÏ³Ï³Ý å»ëá | AN9: ê³áõ¹. ²ñ³µ³Ï³Ý éÇ³É | AO9: êÇñÇ³Ï³Ý ýáõÝï | AP9: Ø²¾ ¹ÇñË³Ù | AQ9: øáõí»ÛÃÛ³Ý ¹ÇÝ³ñ | AR9: èáõÙÇÝ³Ï³Ý É»Û | AS9: ÆëÉ³Ý¹³Ï³Ý ÏñáÝ | AT9: È³ïíÇ³Ï³Ý É³ï | AU9: ÈÇïí³Ï³Ý ÉÇï | AV9: ÔñÕñ½³Ï³Ý ëáÙ | AW9: Ô³½³Ë³Ï³Ý ï»Ý·» | AX9: ØáÉ¹áí³Ï³Ý É»Û | AY9: äÉ³ïÇÝ» µ³ÝÏ³ÛÇÝ ëï³Ý¹³ñï³óí³Í ÓáõÉ³ÏïáñÝ»ñ | AZ9: ²ñÍ³Ã» µ³ÝÏ³ÛÇÝ ëï³Ý¹³ñï³óí³Í ÓáõÉ³ÏïáñÝ»ñ | BA9: àëÏáõ ëï³Ý¹³ñï³óí³Í ÓáõÉ³ÏïáñÝ»ñ | BB9: Ø»ï³Õ³Ï³Ý Ñ³ßÇíÝ»ñ | BC9: ²ÛÉ ³ñï³ñÅáõÛÃ 1 | BD9: ²ÛÉ ³ñï³ñÅáõÛÃ 2 | BE9: ²ÛÉ ³ñï³ñÅáõÛÃ 3
B10: 1 | C10: ²ñï³ñÅáõÃ³ÛÇÝ ³ÏïÇíÝ»ñ, ³Û¹ ÃíáõÙª
B11: 1.1. | C11: àõÕÕ³ÏÇ ³å³Ñáí³·ñáõÃÛ³Ý ·Íáí ëï³óí»ÉÇù ·áõÙ³ñÝ»ñ
B12: 1.2. | C12: Ð³Ù³³å³Ñáí³·ñáõÃÛ³Ý å³ÛÙ³Ý³·ñ»ñÇó ëï³óí»ÉÇù ·áõÙ³ñÝ»ñ
B13: 1.3. | C13: ì»ñ³³å³Ñáí³·ñáõÃÛ³Ý å³ÛÙ³Ý³·ñ»ñÇó ëï³óí»ÉÇù ·áõÙ³ñÝ»ñ
B14: 1.4. | C14: ²å³Ñáí³·ñáõÃÛ³Ý Ñ³ïáõóáõÙÝ»ñÇ ·Íáí å³Ñ³ÝçÝ»ñ Ñ³Ù³³å³Ñáí³·ñáÕÝ»ñÇ ÝÏ³ïÙ³Ùµ
B15: 1.5. | C15: ²å³Ñáí³·ñáõÃÛ³Ý Ñ³ïáõóáõÙÝ»ñÇ ·Íáí å³Ñ³ÝçÝ»ñ í»ñ³³å³Ñáí³·ñáÕÝ»ñÇ ÝÏ³ïÙ³Ùµ
B16: 1.6. | C16: ²å³Ñáí³·ñáõÃÛ³Ý Ñ³ïáõóáõÙÝ»ñÇ ·Íáí å³Ñ³ÝçÝ»ñ ³ÛÉ ³ÝÓ³Ýó ÝÏ³ïÙ³Ùµ
B17: 1.7. | C17: êï³óí»ÉÇù ³ÛÉ ·áõÙ³ñÝ»ñ ³å³Ñáí³·ñ³Ï³Ý å³ÛÙ³Ý³·ñ»ñÇó
B18: 2 | C18: ²ñï³ñÅáõÃ³ÛÇÝ å³ñï³íáñáõÃÛáõÝÝ»ñ, ³Û¹ ÃíáõÙª
B19: 2.1. | C19: àõÕÕ³ÏÇ ³å³Ñáí³·ñ³Ï³Ý å³ÛÙ³Ý³·ñ»ñÇ ·Íáí í×³ñí»ÉÇù ·áõÙ³ñÝ»ñ
B20: 2.2. | C20: Ð³Ù³³å³Ñáí³·ñáõÃÛ³Ý å³ÛÙ³Ý³·ñ»ñÇ ·Íáí í×³ñí»ÉÇù ·áõÙ³ñÝ»ñ
B21: 2.3. | C21: ì»ñ³³å³Ñáí³·ñáõÃÛ³Ùµ ÁÝ¹áõÝ³Í éÇëÏ»ñÇ ·Íáí í×³ñí»ÉÇù ·áõÙ³ñÝ»ñ
B22: 2.4. | C22: ²å³Ñáí³·ñáõÃÛ³Ý ·Íáí Ñ³Ù³³å³Ñáí³·ñáÕÝ»ñÇÝ ÷áË³Ýóí»ÉÇù ³å³Ñáí³·ñ³í×³ñÝ»ñ
B23: 2.5. | C23: ²å³Ñáí³·ñáõÃÛ³Ý ·Íáí í»ñ³³å³Ñáí³·ñáÕÝ»ñÇÝ ÷áË³Ýóí»ÉÇù ³å³Ñáí³·ñ³í×³ñÝ»ñ
B24: 2.6. | C24: êï³óí³Í Ï³ÝË³í×³ñÝ»ñ ³å³Ñáí³·ñáõÃÛ³Ý ·Íáí
B25: 3 | C25: ²ñï³ñÅáõÃ³ÛÇÝ ³ñï³Ñ³ßí»Ïßé³ÛÇÝ Ñ³ßÇíÝ»ñ, ³Û¹ ÃíáõÙª
B26: 3.1. | C26: ²å³Ñáí³·ñ³Ï³Ý ·áõÙ³ñÝ»ñ
B27: 3.2. | C27: ä³ÛÙ³Ý³Ï³Ý ³ÏïÇíÝ»ñ ³Í³ÝóÛ³É ·áñÍÇùÝ»ñÇ ·Íáí
B28: 3.3. | C28: ä³ÛÙ³Ý³Ï³Ý å³ñï³íáñáõÃÛáõÝÝ»ñ ³Í³ÝóÛ³É ·áñÍÇùÝ»ñÇ ·Íáí
B29: 3.4 | C29: ì»ñ³³å³Ñáí³·ñ³Ï³Ý ·áõÙ³ñ
F32: ²å³Ñáí³·ñ³Ï³Ý ÁÝÏ»ñáõÃÛ³Ý í³ñãáõÃÛ³Ý Ý³Ë³·³Ñª | G32: =Sheet1!F44 -> 0
F33: (¶áñÍ³¹Çñ ïÝûñ»Ý)
F35: ¶ÉË³íáñ Ñ³ßí³å³Ñª | G35: =Sheet1!F47 -> 0
F37: ä³ï³ëË³Ý³ïáõ ³Ïïáõ³ñª | G37: =Sheet1!F49 -> 0

Sheet Sheet12
A2: ԱՂՅՈՒՍԱԿ 16.ԱՊԱՀՈՎԱԳՐԱՎՃԱՐՆԵՐԻ ԵՎ ՏԵԽՆԻԿԱՆԱՆ ՊԱՀՈՒՍՏԻ ՌԻՍԿԻ ՀԱՄԱՐ ՊԱՀԱՆՋՎՈՂ ԿԱՊԻՏԱԼԻ ՀԱՇՎԱՐԿ ՈՉ ԿՅԱՆՔԻ ԱՆԴԵՐՌԱՅԹԻՆԳԻ ՌԻՍԿԻ ՀԱՄԱՐ
C4: ²å³Ñáí³·ñ³Ï³Ý ÁÝÏ»ñáõÃÛ³Ý ³Ýí³ÝáõÙª | D4: =Company -> 0
F5: =WEEKDAY(D6,2) -> 6
C6: ²Ùë³ÃÇíª | D6: =Date -> 0
A9: Ì³í³É³ÛÇÝ Ù»ÍáõÃÛáõÝ (Ì) | B9: =SUM($J$15:$J$23) -> 0
A10: êï³Ý¹³ñï ß»ÕáõÙ (¶) | B10: =IFERROR(SQRT(SUM(Sheet25!B18:J26))/B9,0) -> 0
A11: ²å³Ñáí³·ñ³í×³ñÝ»ñÇ ¨ ï»ËÝÇÏ³Ï³Ý å³ÑáõëïÇ éÇëÏÇ Ñ³Ù³ñ å³Ñ³ÝçíáÕ Ï³åÇï³É (äÎ ³å) | B11: =IFERROR(3*B9*B10,"0") -> 0
L12: (Ñ³½³ñ ¹ñ³Ù)
A13: ²å³Ñáí³·ñáõÃÛ³Ý ¹³ë | B13: ²i | C13: ²Ýi | D13: ²·áñÍáÕi | E13: ²³å³·³i | F13: Ì³åi | G13: Ìïåi | H13: ¶³åi | I13: ¶ïåi | J13: Ìi | K13: ¶i | L13: ¶i*Ìi
A14: 1 | B14: 2 | C14: 3 | D14: 4 | E14: 5 | F14: 6 | G14: 7 | H14: 8 | I14: 9 | J14: 10 | K14: 11 | L14: 12
A15: ò³Ù³ù³ÛÇÝ ³íïáïñ³Ýëåáñï³ÛÇÝ ÙÇçáóÝ»ñÇ û·ï³·áñÍáõÙÇó µËáÕ å³ï³ëË³Ý³ïíáõÃÛ³Ý ³å³Ñáí³·ñáõÃÛáõÝ | F15: =MAX(B15,C15)+D15+E15 -> 0 | H15: 0.1 | I15: 0.09 | J15: =F15+G15 -> 0 | K15: =IFERROR(SQRT((H15*F15)^2+H15*F15*G15*I15+(I15*G15)^2)/(F15+G15),"") | L15: =IFERROR(J15*K15,0) -> 0
A16: ò³Ù³ù³ÛÇÝ ¨ »ñÏ³ÃáõÕ³ÛÇÝ ïñ³ÝëåáñïÇ ³å³Ñáí³·ñáõÃÛáõÝ | F16: =MAX(B16,C16)+D16+E16 -> 0 | H16: 0.08 | I16: 0.08 | J16: =F16+G16 -> 0 | K16: =IFERROR(SQRT((H16*F16)^2+H16*F16*G16*I16+(I16*G16)^2)/(F16+G16),"") | L16: =IFERROR(J16*K16,0) -> 0
A17: ú¹³Ý³í»ñÇ, çñ³ÛÇÝ ÷áË³¹ñ³ÙÇçáóÝ»ñÇ, ÷áË³¹ñíáÕ ·áõÛùÇ (µ»éÝ»ñÇ) ³å³Ñáí³·ñáõÃÛáõÝ, û¹³Ý³í»ñÇ ¨ çñ³ÛÇÝ ÷áË³¹ñ³ÙÇçáóÝ»ñÇ û·ï³·áñÍáõÙÇó µËáÕ å³ï³ëË³Ý³ïíáõÃÛ³Ý ³å³Ñáí³·ñáõÃÛáõÝ | F17: =MAX(B17,C17)+D17+E17 -> 0 | H17: 0.15 | I17: 0.11 | J17: =F17+G17 -> 0 | K17: =IFERROR(SQRT((H17*F17)^2+H17*F17*G17*I17+(I17*G17)^2)/(F17+G17),"") | L17: =IFERROR(J17*K17,0) -> 0
A18: Ðñ¹»ÑÇó ¨ µÝ³Ï³Ý ³Õ»ïÝ»ñÇó ³å³Ñáí³·ñáõÃÛáõÝ, ·áõÛùÇÝ Ñ³ëóí³Í ³ÛÉ íÝ³ëÝ»ñÇó ³å³Ñáí³·ñáõÃÛáõÝ | F18: =MAX(B18,C18)+D18+E18 -> 0 | H18: 0.08 | I18: 0.1 | J18: =F18+G18 -> 0 | K18: =IFERROR(SQRT((H18*F18)^2+H18*F18*G18*I18+(I18*G18)^2)/(F18+G18),"") | L18: =IFERROR(J18*K18,0) -> 0
A19: ÀÝ¹Ñ³Ýáõñ å³ï³ëË³Ý³ïíáõÃÛ³Ý ³å³Ñáí³·ñáõÃÛáõÝ | F19: =MAX(B19,C19)+D19+E19 -> 0 | H19: 0.14 | I19: 0.11 | J19: =F19+G19 -> 0 | K19: =IFERROR(SQRT((H19*F19)^2+H19*F19*G19*I19+(I19*G19)^2)/(F19+G19),"") | L19: =IFERROR(J19*K19,0) -> 0
A20: ì³ñÏÇ ³å³Ñáí³·ñáõÃÛáõÝ, »ñ³ßËÇùÇ ïñ³Ù³¹ñáõÙ | F20: =MAX(B20,C20)+D20+E20 -> 0 | H20: 0.12 | I20: 0.19 | J20: =F20+G20 -> 0 | K20: =IFERROR(SQRT((H20*F20)^2+H20*F20*G20*I20+(I20*G20)^2)/(F20+G20),"") | L20: =IFERROR(J20*K20,0) -> 0
A21: ¸³ï³Ï³Ý ¨ ³ñï³¹³ï³Ï³Ý Í³Ëë»ñÇ ³å³Ñáí³·ñáõÃÛáõÝ | F21: =MAX(B21,C21)+D21+E21 -> 0 | H21: 0.07 | I21: 0.12 | J21: =F21+G21 -> 0 | K21: =IFERROR(SQRT((H21*F21)^2+H21*F21*G21*I21+(I21*G21)^2)/(F21+G21),"") | L21: =IFERROR(J21*K21,0) -> 0
A22: ²ç³ÏóáõÃÛ³Ý ³å³Ñáí³·ñáõÃÛáõÝ | F22: =MAX(B22,C22)+D22+E22 -> 0 | H22: 0.09 | I22: 0.2 | J22: =F22+G22 -> 0 | K22: =IFERROR(SQRT((H22*F22)^2+H22*F22*G22*I22+(I22*G22)^2)/(F22+G22),"") | L22: =IFERROR(J22*K22,0) -> 0
A23: üÇÝ³Ýë³Ï³Ý íÝ³ëÝ»ñÇ ³å³Ñáí³·ñáõÃÛáõÝ | F23: =MAX(B23,C23)+D23+E23 -> 0 | H23: 0.13 | I23: 0.2 | J23: =F23+G23 -> 0 | K23: =IFERROR(SQRT((H23*F23)^2+H23*F23*G23*I23+(I23*G23)^2)/(F23+G23),"") | L23: =IFERROR(J23*K23,0) -> 0
C26: ²å³Ñáí³·ñ³Ï³Ý ÁÝÏ»ñáõÃÛ³Ý í³ñãáõÃÛ³Ý Ý³Ë³·³Ñª | D26: =Sheet1!F44 -> 0
C27: (¶áñÍ³¹Çñ ïÝûñ»Ý)
C29: ¶ÉË³íáñ Ñ³ßí³å³Ñª | D29: =Sheet1!F47 -> 0
C31: ä³ï³ëË³Ý³ïáõ ³Ïïáõ³ñª | D31: =Sheet1!F49 -> 0

Sheet Sheet13
A2: ²ÔÚàôê²Î 17.´Ý³Ï³Ý ³Õ»ïÝ»ñÇ éÇëÏÇ Ñ³Ù³ñ Ï³åÇï³ÉÇ å³Ñ³ÝçÇ Ñ³ßí³ñÏ áã ÏÛ³ÝùÇ ³Ý¹»ñé³ÛÃÇÝ·Ç éÇëÏÇ Ñ³Ù³ñ
B5: ²å³Ñáí³·ñ³Ï³Ý ÁÝÏ»ñáõÃÛ³Ý ³Ýí³ÝáõÙª | C5: =Company -> 0
B7: ²Ùë³ÃÇíª | C7: =Date -> 0
A10: ´Ý³Ï³Ý ³Õ»ïÝ»ñÇ éÇëÏÇ Ñ³Ù³ñ Ï³åÇï³ÉÇ å³Ñ³Ýç (äÎ µÝ.³Õ»ï) | B10: =IFERROR(SQRT(K22^2+K34^2+AF47^2+K59^2+E71^2),0) -> 0
K11: ²ÕÛáõë³Ï 17.1
K12: (Ñ³½³ñ ¹ñ³Ù)
A13: öáÃáñÇÏ | B13: ² (÷áÃáñÇÏ, ³ÛÉ, Ü) | C13: ² (÷áÃáñÇÏ, ³ÛÉ, ²) | D13: Î (÷áÃáñÇÏ, ³ÛÉ) | E13: ÀÎ|Î (÷áÃáñÇÏ, ³ÛÉ) | F13: äÎ (÷áÃáñÇÏ, ³ÛÉ) | G13: ²ä ÷áÃáñÇÏj | H13: Î (÷áÃáñÇÏ, ²¶) | I13: ÀÎ|Î (÷áÃáñÇÏ, ²¶) | J13: äÎ (÷áÃáñÇÏ,ÐÐ) | K13: äÎ ÷áÃáñÇÏ
A14: 1 | B14: 2 | C14: 3 | D14: 4 | E14: 5 | F14: 6 | G14: 7 | H14: 8 | I14: 9 | J14: 10 | K14: 11
A15: ò³Ù³ù³ÛÇÝ ïñ³ÝëåáñïÇ ³å³Ñáí³·ñáõÃÛáõÝ | D15: =1.75*MAX(B15,C15) -> 0 | F15: =IF(E15="","0",Sheet1!$C$16-Sheet13!E15) -> 0 | H15: =0.0008*G15 -> 0 | J15: =IF(I15="","0",Sheet1!$C$16-Sheet13!I15) -> 0 | K15: =SQRT(J15^2+F15^2) -> 0
A16: ºñÏ³ÃáõÕ³ÛÇÝ ïñ³ÝëåáñïÇ ³å³Ñáí³·ñáõÃÛáõÝ | D16: =1.75*MAX(B16,C16) -> 0 | F16: =IF(E16="","0",Sheet1!$C$16-Sheet13!E16) -> 0 | H16: =0.0008*G16 -> 0 | J16: =IF(I16="","0",Sheet1!$C$16-Sheet13!I16) -> 0 | K16: =SQRT(J16^2+F16^2) -> 0
A17: ú¹³Ý³í»ñÇ ³å³Ñáí³·ñáõÃÛáõÝ | D17: =1.75*MAX(B17,C17) -> 0 | F17: =IF(E17="","0",Sheet1!$C$16-Sheet13!E17) -> 0 | H17: =0.0008*G17 -> 0 | J17: =IF(I17="","0",Sheet1!$C$16-Sheet13!I17) -> 0 | K17: =SQRT(J17^2+F17^2) -> 0
A18: æñ³ÛÇÝ ÷áË³¹ñ³ÙÇçáóÝ»ñÇ ³å³Ñáí³·ñáõÃÛáõÝ | D18: =1.75*MAX(B18,C18) -> 0 | F18: =IF(E18="","0",Sheet1!$C$16-Sheet13!E18) -> 0 | H18: =0.0008*G18 -> 0 | J18: =IF(I18="","0",Sheet1!$C$16-Sheet13!I18) -> 0 | K18: =SQRT(J18^2+F18^2) -> 0
A19: öáË³¹ñíáÕ ·áõÛùÇ (µ»éÝ»ñÇ) ³å³Ñáí³·ñáõÃÛáõÝ | D19: =1.75*MAX(B19,C19) -> 0 | F19: =IF(E19="","0",Sheet1!$C$16-Sheet13!E19) -> 0 | H19: =0.0008*G19 -> 0 | J19: =IF(I19="","0",Sheet1!$C$16-Sheet13!I19) -> 0 | K19: =SQRT(J19^2+F19^2) -> 0
A20: Ðñ¹»ÑÇó ¨ µÝ³Ï³Ý ³Õ»ïÝ»ñÇó ³å³Ñáí³·ñáõÃÛáõÝ | D20: =1.75*MAX(B20,C20) -> 0 | F20: =IF(E20="","0",Sheet1!$C$16-Sheet13!E20) -> 0 | H20: =0.0008*G20 -> 0 | J20: =IF(I20="","0",Sheet1!$C$16-Sheet13!I20) -> 0 | K20: =SQRT(J20^2+F20^2) -> 0
A21: ¶áõÛùÇÝ Ñ³ëóí³Í ³ÛÉ íÝ³ëÝ»ñÇó ³å³Ñáí³·ñáõÃÛáõÝ | D21: =1.75*MAX(B21,C21) -> 0 | F21: =IF(E21="","0",Sheet1!$C$16-Sheet13!E21) -> 0 | H21: =0.0008*G21 -> 0 | J21: =IF(I21="","0",Sheet1!$C$16-Sheet13!I21) -> 0 | K21: =SQRT(J21^2+F21^2) -> 0
K22: =IFERROR(SUM(K15:K21),0) -> 0
K23: ²ÕÛáõë³Ï 17.2
K24: (Ñ³½³ñ ¹ñ³Ù)
A25: Î³ñÏáõï | B25: ² (Ï³ñÏáõï , ³ÛÉ, Ü) | C25: ² (Ï³ñÏáõï , ³ Û É, ²) | D25: Î (Ï³ñÏáõï, ³ÛÉ) | E25: ÀÎ|Î (Ï³ñÏáõï, ³ÛÉ) | F25: äÎ (Ï³ñÏáõï, ³ÛÉ) | G25: ²ä Ï³ñÏáõïj | H25: Î (Ï³ñÏáõï, ²¶) | I25: ÀÎ|Î (Ï³ñÏáõï, ²¶) | J25: äÎ (Ï³ñÏáõï, ÐÐ) | K25: äÎ Ï³ñÏáõï
A26: 1 | B26: 2 | C26: 3 | D26: 4 | E26: 5 | F26: 6 | G26: 7 | H26: 8 | I26: 9 | J26: 10 | K26: 11
A27: ò³Ù³ù³ÛÇÝ ïñ³ÝëåáñïÇ ³å³Ñáí³·ñáõÃÛáõÝ | D27: =0.3*MAX(B27,C27) -> 0 | F27: =IF(E27="","0",Sheet1!$C$16-Sheet13!E27) -> 0 | H27: =0.001*G27 -> 0 | J27: =IF(I27="","0",Sheet1!$C$16-Sheet13!I27) -> 0 | K27: =SQRT(J27^2+F27^2) -> 0
A28: ºñÏ³ÃáõÕ³ÛÇÝ ïñ³ÝëåáñïÇ ³å³Ñáí³·ñáõÃÛáõÝ | D28: =0.3*MAX(B28,C28) -> 0 | F28: =IF(E28="","0",Sheet1!$C$16-Sheet13!E28) -> 0 | H28: =0.001*G28 -> 0 | J28: =IF(I28="","0",Sheet1!$C$16-Sheet13!I28) -> 0 | K28: =SQRT(J28^2+F28^2) -> 0
A29: ú¹³Ý³í»ñÇ ³å³Ñáí³·ñáõÃÛáõÝ | D29: =0.3*MAX(B29,C29) -> 0 | F29: =IF(E29="","0",Sheet1!$C$16-Sheet13!E29) -> 0 | H29: =0.001*G29 -> 0 | J29: =IF(I29="","0",Sheet1!$C$16-Sheet13!I29) -> 0 | K29: =SQRT(J29^2+F29^2) -> 0
A30: æñ³ÛÇÝ ÷áË³¹ñ³ÙÇçáóÝ»ñÇ ³å³Ñáí³·ñáõÃÛáõÝ | D30: =0.3*MAX(B30,C30) -> 0 | F30: =IF(E30="","0",Sheet1!$C$16-Sheet13!E30) -> 0 | H30: =0.001*G30 -> 0 | J30: =IF(I30="","0",Sheet1!$C$16-Sheet13!I30) -> 0 | K30: =SQRT(J30^2+F30^2) -> 0
A31: öáË³¹ñíáÕ ·áõÛùÇ (µ»éÝ»ñÇ) ³å³Ñáí³·ñáõÃÛáõÝ | D31: =0.3*MAX(B31,C31) -> 0 | F31: =IF(E31="","0",Sheet1!$C$16-Sheet13!E31) -> 0 | H31: =0.001*G31 -> 0 | J31: =IF(I31="","0",Sheet1!$C$16-Sheet13!I31) -> 0 | K31: =SQRT(J31^2+F31^2) -> 0
A32: Ðñ¹»ÑÇó ¨ µÝ³Ï³Ý ³Õ»ïÝ»ñÇó ³å³Ñáí³·ñáõÃÛáõÝ | D32: =0.3*MAX(B32,C32) -> 0 | F32: =IF(E32="","0",Sheet1!$C$16-Sheet13!E32) -> 0 | H32: =0.001*G32 -> 0 | J32: =IF(I32="","0",Sheet1!$C$16-Sheet13!I32) -> 0 | K32: =SQRT(J32^2+F32^2) -> 0
A33: ¶áõÛùÇÝ Ñ³ëóí³Í ³ÛÉ íÝ³ëÝ»ñÇó ³å³Ñáí³·ñáõÃÛáõÝ | D33: =0.3*MAX(B33,C33) -> 0 | F33: =IF(E33="","0",Sheet1!$C$16-Sheet13!E33) -> 0 | H33: =0.001*G33 -> 0 | J33: =IF(I33="","0",Sheet1!$C$16-Sheet13!I33) -> 0 | K33: =SQRT(J33^2+F33^2) -> 0
K34: =IFERROR(SUM(K27:K33),0) -> 0
AF35: ²ÕÛáõë³Ï 17.3
AF36: (Ñ³½³ñ ¹ñ³Ù)
A37: ºñÏñ³ß³ñÅ | B37: ² (»ñÏñ³ß³ ñÅ, ³ÛÉ, Ü) | C37: ² (»ñÏñ³ ß³ ñÅ, ³ÛÉ, ²) | D37: Î (»ñÏñ³ß³ñÅ, ³ÛÉ) | E37: ÀÎ|Î (»ñÏñ³ß³ñÅ, ³ÛÉ) | F37: äÎ (»ñÏñ³ß³ñÅ, ³ÛÉ) | G37: ²ä »ñÏñ³ß³ñÅij | M37: Î (»ñÏñ³ß³ñÅ, ²¶)i | S37: ÀÎ|Î (»ñÏñ³ß³ñÅ, ²¶)i | Y37: äÎ (»ñÏñ³ß³ñÅ, ²¶)i | AE37: äÎ (»ñÏñ³ß³ñÅ, ÐÐ) | AF37: äÎ »ñÏñ³ß³ñÅ
G38: ÊáõÙµ 1 | H38: ÊáõÙµ 2 | I38: ÊáõÙµ 3 | J38: ÊáõÙµ 4 | K38: ÊáõÙµ 5 | L38: ÊáõÙµ 6 | M38: ÊáõÙµ 1 | N38: ÊáõÙµ 2 | O38: ÊáõÙµ 3 | P38: ÊáõÙµ 4 | Q38: ÊáõÙµ 5 | R38: ÊáõÙµ 6 | S38: ÊáõÙµ 1 | T38: ÊáõÙµ 2 | U38: ÊáõÙµ 3 | V38: ÊáõÙµ 4 | W38: ÊáõÙµ 5 | X38: ÊáõÙµ 6 | Y38: ÊáõÙµ 1 | Z38: ÊáõÙµ 2 | AA38: ÊáõÙµ 3 | AB38: ÊáõÙµ 4 | AC38: ÊáõÙµ 5 | AD38: ÊáõÙµ 6
A39: 1 | B39: 2 | C39: 3 | D39: 4 | E39: 5 | F39: 6 | G39: 7 | H39: 8 | I39: 9 | J39: 10 | K39: =+J39+1 -> 11 | L39: =+K39+1 -> 12 | M39: =+L39+1 -> 13 | N39: =+M39+1 -> 14 | O39: =+N39+1 -> 15 | P39: =+O39+1 -> 16 | Q39: =+P39+1 -> 17 | R39: =+Q39+1 -> 18 | ... AF39: =+AE39+1 -> 32
A40: ò³Ù³ù³ÛÇÝ ïñ³ÝëåáñïÇ ³å³Ñáí³·ñáõÃÛáõÝ | D40: =1.2*MAX(B40,C40) -> 0 | F40: =IF(E40="","0",Sheet1!$C$16-Sheet13!E40) -> 0 | M40: =0.025*G40 -> 0 | N40: =0.025*H40 -> 0 | O40: =0.025*I40 -> 0 | P40: =0.025*J40 -> 0 | Q40: =0.025*K40 -> 0 | R40: =0.025*L40 -> 0 | Y40: =IF(S40="","0",Sheet1!$C$16-Sheet13!S40) -> 0 | Z40: =IF(T40="","0",Sheet1!$C$16-Sheet13!T40) -> 0 | AA40: =IF(U40="","0",Sheet1!$C$16-Sheet13!U40) -> 0 | AB40: =IF(V40="","0",Sheet1!$C$16-Sheet13!V40) -> 0 | AC40: =IF(W40="","0",Sheet1!$C$16-Sheet13!W40) -> 0 | AD40: =IF(X40="","0",Sheet1!$C$16-Sheet13!X40) -> 0 | AE40: =SQRT(Y40^2+Z40^2+AA40^2+AB40^2+AC40^2+AD40^2) -> 0 | AF40: =SQRT(AE40^2+F40^2) -> 0
A41: ºñÏ³ÃáõÕ³ÛÇÝ ïñ³ÝëåáñïÇ ³å³Ñáí³·ñáõÃÛáõÝ | D41: =1.2*MAX(B41,C41) -> 0 | F41: =IF(E41="","0",Sheet1!$C$16-Sheet13!E41) -> 0 | M41: =0.025*G41 -> 0 | N41: =0.025*H41 -> 0 | O41: =0.025*I41 -> 0 | P41: =0.025*J41 -> 0 | Q41: =0.025*K41 -> 0 | R41: =0.025*L41 -> 0 | Y41: =IF(S41="","0",Sheet1!$C$16-Sheet13!S41) -> 0 | Z41: =IF(T41="","0",Sheet1!$C$16-Sheet13!T41) -> 0 | AA41: =IF(U41="","0",Sheet1!$C$16-Sheet13!U41) -> 0 | AB41: =IF(V41="","0",Sheet1!$C$16-Sheet13!V41) -> 0 | AC41: =IF(W41="","0",Sheet1!$C$16-Sheet13!W41) -> 0 | AD41: =IF(X41="","0",Sheet1!$C$16-Sheet13!X41) -> 0 | AE41: =SQRT(Y41^2+Z41^2+AA41^2+AB41^2+AC41^2+AD41^2) -> 0 | AF41: =SQRT(AE41^2+F41^2) -> 0
A42: ú¹³Ý³í»ñÇ ³å³Ñáí³·ñáõÃÛáõÝ | D42: =1.2*MAX(B42,C42) -> 0 | F42: =IF(E42="","0",Sheet1!$C$16-Sheet13!E42) -> 0 | M42: =0.025*G42 -> 0 | N42: =0.025*H42 -> 0 | O42: =0.025*I42 -> 0 | P42: =0.025*J42 -> 0 | Q42: =0.025*K42 -> 0 | R42: =0.025*L42 -> 0 | Y42: =IF(S42="","0",Sheet1!$C$16-Sheet13!S42) -> 0 | Z42: =IF(T42="","0",Sheet1!$C$16-Sheet13!T42) -> 0 | AA42: =IF(U42="","0",Sheet1!$C$16-Sheet13!U42) -> 0 | AB42: =IF(V42="","0",Sheet1!$C$16-Sheet13!V42) -> 0 | AC42: =IF(W42="","0",Sheet1!$C$16-Sheet13!W42) -> 0 | AD42: =IF(X42="","0",Sheet1!$C$16-Sheet13!X42) -> 0 | AE42: =SQRT(Y42^2+Z42^2+AA42^2+AB42^2+AC42^2+AD42^2) -> 0 | AF42: =SQRT(AE42^2+F42^2) -> 0
A43: æñ³ÛÇÝ ÷áË³¹ñ³ÙÇçáóÝ»ñÇ ³å³Ñáí³·ñáõÃÛáõÝ | D43: =1.2*MAX(B43,C43) -> 0 | F43: =IF(E43="","0",Sheet1!$C$16-Sheet13!E43) -> 0 | M43: =0.025*G43 -> 0 | N43: =0.025*H43 -> 0 | O43: =0.025*I43 -> 0 | P43: =0.025*J43 -> 0 | Q43: =0.025*K43 -> 0 | R43: =0.025*L43 -> 0 | Y43: =IF(S43="","0",Sheet1!$C$16-Sheet13!S43) -> 0 | Z43: =IF(T43="","0",Sheet1!$C$16-Sheet13!T43) -> 0 | AA43: =IF(U43="","0",Sheet1!$C$16-Sheet13!U43) -> 0 | AB43: =IF(V43="","0",Sheet1!$C$16-Sheet13!V43) -> 0 | AC43: =IF(W43="","0",Sheet1!$C$16-Sheet13!W43) -> 0 | AD43: =IF(X43="","0",Sheet1!$C$16-Sheet13!X43) -> 0 | AE43: =SQRT(Y43^2+Z43^2+AA43^2+AB43^2+AC43^2+AD43^2) -> 0 | AF43: =SQRT(AE43^2+F43^2) -> 0
A44: öáË³¹ñíáÕ ·áõÛùÇ (µ»éÝ»ñÇ) ³å³Ñáí³·ñáõÃÛáõÝ | D44: =1.2*MAX(B44,C44) -> 0 | F44: =IF(E44="","0",Sheet1!$C$16-Sheet13!E44) -> 0 | M44: =0.025*G44 -> 0 | N44: =0.025*H44 -> 0 | O44: =0.025*I44 -> 0 | P44: =0.025*J44 -> 0 | Q44: =0.025*K44 -> 0 | R44: =0.025*L44 -> 0 | Y44: =IF(S44="","0",Sheet1!$C$16-Sheet13!S44) -> 0 | Z44: =IF(T44="","0",Sheet1!$C$16-Sheet13!T44) -> 0 | AA44: =IF(U44="","0",Sheet1!$C$16-Sheet13!U44) -> 0 | AB44: =IF(V44="","0",Sheet1!$C$16-Sheet13!V44) -> 0 | AC44: =IF(W44="","0",Sheet1!$C$16-Sheet13!W44) -> 0 | AD44: =IF(X44="","0",Sheet1!$C$16-Sheet13!X44) -> 0 | AE44: =SQRT(Y44^2+Z44^2+AA44^2+AB44^2+AC44^2+AD44^2) -> 0 | AF44: =SQRT(AE44^2+F44^2) -> 0
A45: Ðñ¹»ÑÇó ¨ µÝ³Ï³Ý ³Õ»ïÝ»ñÇó ³å³Ñáí³·ñáõÃÛáõÝ | D45: =1.2*MAX(B45,C45) -> 0 | F45: =IF(E45="","0",Sheet1!$C$16-Sheet13!E45) -> 0 | M45: =0.025*G45 -> 0 | N45: =0.025*H45 -> 0 | O45: =0.025*I45 -> 0 | P45: =0.025*J45 -> 0 | Q45: =0.025*K45 -> 0 | R45: =0.025*L45 -> 0 | Y45: =IF(S45="","0",Sheet1!$C$16-Sheet13!S45) -> 0 | Z45: =IF(T45="","0",Sheet1!$C$16-Sheet13!T45) -> 0 | AA45: =IF(U45="","0",Sheet1!$C$16-Sheet13!U45) -> 0 | AB45: =IF(V45="","0",Sheet1!$C$16-Sheet13!V45) -> 0 | AC45: =IF(W45="","0",Sheet1!$C$16-Sheet13!W45) -> 0 | AD45: =IF(X45="","0",Sheet1!$C$16-Sheet13!X45) -> 0 | AE45: =SQRT(Y45^2+Z45^2+AA45^2+AB45^2+AC45^2+AD45^2) -> 0 | AF45: =SQRT(AE45^2+F45^2) -> 0
A46: ¶áõÛùÇÝ Ñ³ëóí³Í ³ÛÉ íÝ³ëÝ»ñÇó ³å³Ñáí³·ñáõÃÛáõÝ | D46: =1.2*MAX(B46,C46) -> 0 | F46: =IF(E46="","0",Sheet1!$C$16-Sheet13!E46) -> 0 | M46: =0.025*G46 -> 0 | N46: =0.025*H46 -> 0 | O46: =0.025*I46 -> 0 | P46: =0.025*J46 -> 0 | Q46: =0.025*K46 -> 0 | R46: =0.025*L46 -> 0 | Y46: =IF(S46="","0",Sheet1!$C$16-Sheet13!S46) -> 0 | Z46: =IF(T46="","0",Sheet1!$C$16-Sheet13!T46) -> 0 | AA46: =IF(U46="","0",Sheet1!$C$16-Sheet13!U46) -> 0 | AB46: =IF(V46="","0",Sheet1!$C$16-Sheet13!V46) -> 0 | AC46: =IF(W46="","0",Sheet1!$C$16-Sheet13!W46) -> 0 | AD46: =IF(X46="","0",Sheet1!$C$16-Sheet13!X46) -> 0 | AE46: =SQRT(Y46^2+Z46^2+AA46^2+AB46^2+AC46^2+AD46^2) -> 0 | AF46: =SQRT(AE46^2+F46^2) -> 0
AF47: =IFERROR(SUM(AF40:AF46),0) -> 0
K48: ²ÕÛáõë³Ï 17.4
K49: (Ñ³½³ñ ¹ñ³Ù)
A50: æñÑ»Õ»Õ | B50: ² (çñÑ»Õ»Õ, ³ÛÉ, Ü) | C50: ² (ç ñÑ»Õ»Õ, ³ÛÉ, ²) | D50: Î (çñÑ»Õ»Õ, ³ÛÉ) | E50: ÀÎ|Î (çñÑ»Õ»Õ, ³ÛÉ) | F50: äÎ (çñÑ»Õ»Õ, ³ÛÉ) | G50: ²ä çñÑ»Õ»Õj | H50: Î (çñÑ»Õ»Õ, ²¶) | I50: ÀÎ|Î (çñÑ»Õ»Õ, ²¶) | J50: äÎ (çñÑ»Õ»Õ, ÐÐ) | K50: äÎ çñÑ»Õ»Õ
A51: 1 | B51: 2 | C51: 3 | D51: 4 | E51: 5 | F51: 6 | G51: 7 | H51: 8 | I51: 9 | J51: 10 | K51: 11
A52: ò³Ù³ù³ÛÇÝ ïñ³ÝëåáñïÇ ³å³Ñáí³·ñáõÃÛáõÝ | D52: =1.1*MAX(B52,C52) -> 0 | F52: =IF(E52="","0",Sheet1!$C$16-Sheet13!E52) -> 0 | H52: =0.001*G52 -> 0 | J52: =IF(I52="","0",Sheet1!$C$16-Sheet13!I52) -> 0 | K52: =SQRT(J52^2+F52^2) -> 0
A53: ºñÏ³ÃáõÕ³ÛÇÝ ïñ³ÝëåáñïÇ ³å³Ñáí³·ñáõÃÛáõÝ | D53: =1.1*MAX(B53,C53) -> 0 | F53: =IF(E53="","0",Sheet1!$C$16-Sheet13!E53) -> 0 | H53: =0.001*G53 -> 0 | J53: =IF(I53="","0",Sheet1!$C$16-Sheet13!I53) -> 0 | K53: =SQRT(J53^2+F53^2) -> 0
A54: ú¹³Ý³í»ñÇ ³å³Ñáí³·ñáõÃÛáõÝ | D54: =1.1*MAX(B54,C54) -> 0 | F54: =IF(E54="","0",Sheet1!$C$16-Sheet13!E54) -> 0 | H54: =0.001*G54 -> 0 | J54: =IF(I54="","0",Sheet1!$C$16-Sheet13!I54) -> 0 | K54: =SQRT(J54^2+F54^2) -> 0
A55: æñ³ÛÇÝ ÷áË³¹ñ³ÙÇçáóÝ»ñÇ ³å³Ñáí³·ñáõÃÛáõÝ | D55: =1.1*MAX(B55,C55) -> 0 | F55: =IF(E55="","0",Sheet1!$C$16-Sheet13!E55) -> 0 | H55: =0.001*G55 -> 0 | J55: =IF(I55="","0",Sheet1!$C$16-Sheet13!I55) -> 0 | K55: =SQRT(J55^2+F55^2) -> 0
A56: öáË³¹ñíáÕ ·áõÛùÇ (µ»éÝ»ñÇ) ³å³Ñáí³·ñáõÃÛáõÝ | D56: =1.1*MAX(B56,C56) -> 0 | F56: =IF(E56="","0",Sheet1!$C$16-Sheet13!E56) -> 0 | H56: =0.001*G56 -> 0 | J56: =IF(I56="","0",Sheet1!$C$16-Sheet13!I56) -> 0 | K56: =SQRT(J56^2+F56^2) -> 0
A57: Ðñ¹»ÑÇó ¨ µÝ³Ï³Ý ³Õ»ïÝ»ñÇó ³å³Ñáí³·ñáõÃÛáõÝ | D57: =1.1*MAX(B57,C57) -> 0 | F57: =IF(E57="","0",Sheet1!$C$16-Sheet13!E57) -> 0 | H57: =0.001*G57 -> 0 | J57: =IF(I57="","0",Sheet1!$C$16-Sheet13!I57) -> 0 | K57: =SQRT(J57^2+F57^2) -> 0
A58: ¶áõÛùÇÝ Ñ³ëóí³Í ³ÛÉ íÝ³ëÝ»ñÇó ³å³Ñáí³·ñáõÃÛáõÝ | D58: =1.1*MAX(B58,C58) -> 0 | F58: =IF(E58="","0",Sheet1!$C$16-Sheet13!E58) -> 0 | H58: =0.001*G58 -> 0 | J58: =IF(I58="","0",Sheet1!$C$16-Sheet13!I58) -> 0 | K58: =SQRT(J58^2+F58^2) -> 0
K59: =IFERROR(SUM(K52:K58),0) -> 0
E60: ²ÕÛáõë³Ï 17.5
E61: (Ñ³½³ñ ¹ñ³Ù)
A62: êáÕ³Ýù | B62: ²ä ëáÕ³ÝùÛ | C62: Î ëáÕ³Ýùj | D62: ÀÎ|Î ëáÕ³Ýù | E62: äÎ ëáÕ³Ýù
A63: 1 | B63: 2 | C63: 3 | D63: 4 | E63: 5
A64: ò³Ù³ù³ÛÇÝ ïñ³ÝëåáñïÇ ³å³Ñáí³·ñáõÃÛáõÝ | C64: =0.0005*B64 -> 0 | E64: =IF(D64="","0",Sheet1!$C$16-Sheet13!D64) -> 0
A65: ºñÏ³ÃáõÕ³ÛÇÝ ïñ³ÝëåáñïÇ ³å³Ñáí³·ñáõÃÛáõÝ | C65: =0.0005*B65 -> 0 | E65: =IF(D65="","0",Sheet1!$C$16-Sheet13!D65) -> 0
A66: ú¹³Ý³í»ñÇ ³å³Ñáí³·ñáõÃÛáõÝ | C66: =0.0005*B66 -> 0 | E66: =IF(D66="","0",Sheet1!$C$16-Sheet13!D66) -> 0
A67: æñ³ÛÇÝ ÷áË³¹ñ³ÙÇçáóÝ»ñÇ ³å³Ñáí³·ñáõÃÛáõÝ | C67: =0.0005*B67 -> 0 | E67: =IF(D67="","0",Sheet1!$C$16-Sheet13!D67) -> 0
A68: öáË³¹ñíáÕ ·áõÛùÇ (µ»éÝ»ñÇ) ³å³Ñáí³·ñáõÃÛáõÝ | C68: =0.0005*B68 -> 0 | E68: =IF(D68="","0",Sheet1!$C$16-Sheet13!D68) -> 0
A69: Ðñ¹»ÑÇó ¨ µÝ³Ï³Ý ³Õ»ïÝ»ñÇó ³å³Ñáí³·ñáõÃÛáõÝ | C69: =0.0005*B69 -> 0 | E69: =IF(D69="","0",Sheet1!$C$16-Sheet13!D69) -> 0
A70: ¶áõÛùÇÝ Ñ³ëóí³Í ³ÛÉ íÝ³ëÝ»ñÇó ³å³Ñáí³·ñáõÃÛáõÝ | C70: =0.0005*B70 -> 0 | E70: =IF(D70="","0",Sheet1!$C$16-Sheet13!D70) -> 0
E71: =IFERROR(SUM(E64:E70),0) -> 0
C74: ²å³Ñáí³·ñ³Ï³Ý ÁÝÏ»ñáõÃÛ³Ý í³ñãáõÃÛ³Ý Ý³Ë³·³Ñª | D74: =Sheet1!F44 -> 0
C75: (¶áñÍ³¹Çñ ïÝûñ»Ý)
C77: ¶ÉË³íáñ Ñ³ßí³å³Ñª | D77: =Sheet1!F47 -> 0
C79: ä³ï³ëË³Ý³ïáõ ³Ïïáõ³ñª | D79: =Sheet1!F49 -> 0

Sheet Sheet14
A2: ԱՂՅՈՒՍԱԿ 18.ՄԱՐԴԱԾԻՆ ԱՂԵՏՆԵՐԻ ՌԻՍԿԻ ՀԱՄԱՐ ԿԱՊԻՏԱԼԻ ՊԱՀԱՆՋԻ ՀԱՇՎԱՐԿ ՈՉ ԿՅԱՆՔԻ ԱՆԴԵՐՌԱՅԹԻՆԳԻ ՌԻՍԿԻ ՀԱՄԱՐ
B5: ²å³Ñáí³·ñ³Ï³Ý ÁÝÏ»ñáõÃÛ³Ý ³Ýí³ÝáõÙª | C5: =Company -> 0
B7: ²Ùë³ÃÇíª | C7: =Date -> 0
A10: Ø³ñ¹³ÍÇÝ ³Õ»ïÝ»ñÇ éÇëÏÇ Ñ³Ù³ñ Ï³åÇï³ÉÇ å³Ñ³Ýç (äÎ Ù³ñ¹. ³Õ»ï) | B10: =IFERROR(SQRT(F17^2+F23^2+F29^2+L36^2+F41^2+F47^2),0) -> 0
F11: Աղյուսակ 18.1
F12: (Ñ³½³ñ ¹ñ³Ù)
A13: ²íÇ³óÇáÝ éÇëÏ | B13: ²äi | C13: ì»ñ ²äi | D13: Î ³íÇ³óÇ³ | E13: ÀÎ|Î ³íÇ³óÇ³ | F13: äÎ ³íÇ³óÇ³
A14: 1 | B14: 2 | C14: 3 | D14: 4 | E14: 5 | F14: 6
A15: ú¹³Ý³í»ñÇ ³å³Ñáí³·ñáõÃÛáõÝ | D15: =B15-C15 -> 0 | F15: =IF(D15=0,"0",Sheet1!$C$16-Sheet14!E15) -> 0
A16: ú¹³Ý³í»ñÇ (Ý³¨ µ»éÝ³÷áË³¹ñáÕ) û·ï³·áñÍáõÙÇó µËáÕ å³ï³ëË³Ý³ïíáõÃÛ³Ý ³å³Ñáí³·ñáõÃÛáõÝ | D16: =B16-C16 -> 0 | F16: =IF(D16=0,"0",Sheet1!$C$16-Sheet14!E16) -> 0
F17: =IFERROR(SUM(F15:F16),0) -> 0
F19: ²ÕÛáõë³Ï 18.2
F20: (Ñ³½³ñ ¹ñ³Ù)
A21: Ðñ¹»ÑÇ éÇëÏ | B21: ²ä | C21: ì»ñ ²ä | D21: Î Ññ¹»Ñ | E21: ÀÎ|Î Ññ¹»Ñ | F21: äÎ Ññ¹»Ñ
A22: 1 | B22: 2 | C22: 3 | D22: 4 | E22: 5 | F22: 6
A23: Ðñ¹»ÑÇó ¨ µÝ³Ï³Ý ³Õ»ïÝ»ñÇó ³å³Ñáí³·ñáõÃÛáõÝ | D23: =B23-C23 -> 0 | F23: =IF(D23=0,"0",Sheet1!$C$16-Sheet14!E23) -> 0
F25: ²ÕÛáõë³Ï 18.3
F26: (Ñ³½³ñ ¹ñ³Ù)
A27: ä³ï³ëË³Ý³ïíáõÃÛ³Ý éÇëÏ | B27: ² (å³ï , Ü) | C27: ² (å³ï , ²) | D27: Î å³ï | E27: ÀÎ|Î å³ï | F27: äÎ å³ï
A28: 1 | B28: 2 | C28: 3 | D28: 4 | E28: 5 | F28: 6
A29: ÀÝ¹Ñ³Ýáõñ å³ï³ëË³Ý³ïíáõÃÛ³Ý ³å³Ñáí³·ñáõÃÛáõÝ | D29: =1.3*MAX(B29,C29) -> 0 | F29: =IF(D29=0,"0",Sheet1!$C$16-Sheet14!E29) -> 0
L30: ²ÕÛáõë³Ï 18.4
L31: (Ñ³½³ñ ¹ñ³Ù)
A32: ì³ñÏÇ ¨ »ñ³ßËÇùÇ éÇëÏ | B32: ²åi | C32: ì»ñ ²åi | D32: Î ëÝ³ÝÏ | E32: ÀÎ|Î ëÝ³ÝÏ | F32: äÎ ëÝ³ÝÏ | G32: ² (³ÝÏáõÙ ,Ü) | H32: ² (³ÝÏáõÙ , ²) | I32: Î ³ÝÏáõÙ | J32: ÀÎ|Î ³ÝÏáõÙ | K32: äÎ ³ÝÏáõÙ | L32: äÎ í³ñÏ
A33: 1 | B33: 2 | C33: 3 | D33: 4 | E33: 5 | F33: 6 | G33: 7 | H33: 8 | I33: 9 | J33: 10 | K33: 11 | L33: 12
A34: ì³ñÏÇ ³å³Ñáí³·ñáõÃÛáõÝ | D34: =B34-C34 -> 0 | F34: =IF(D34=0,"0",Sheet1!$C$16-Sheet14!E34) -> 0 | I34: =MAX(G34,H34) -> 0 | K34: =IF(I34=0,"0",Sheet1!$C$16-Sheet14!J34) -> 0 | L34: =SQRT(K34^2+F34^2) -> 0
A35: ºñ³ßËÇùÇ ïñ³Ù³¹ñáõÙ | D35: =B35-C35 -> 0 | F35: =IF(D35=0,"0",Sheet1!$C$16-Sheet14!E35) -> 0 | I35: =MAX(G35,H35) -> 0 | K35: =IF(I35=0,"0",Sheet1!$C$16-Sheet14!J35) -> 0 | L35: =SQRT(K35^2+F35^2) -> 0
L36: =IFERROR(SUM(L34:L35),0) -> 0
F37: ²ÕÛáõë³Ï 18.5
F38: (Ñ³½³ñ ¹ñ³Ù)
A39: ´»éÇ éÇëÏ | B39: ² (µ»é, Ü) | C39: ² (µ»é, ²) | D39: Î µ»é | E39: ÀÎ|Î µ»é | F39: äÎ µ»é
A40: 1 | B40: 2 | C40: 3 | D40: 4 | E40: 5 | F40: 6
A41: ´»éÝ»ñÇ ³å³Ñáí³·ñáõÃÛáõÝ | D41: =MAX(B41,C41) -> 0 | F41: =IF(D41=0,"0",Sheet1!$C$16-Sheet14!E41) -> 0
F43: ²ÕÛáõë³Ï 18.6
F44: (Ñ³½³ñ ¹ñ³Ù)
A45: üÇÝ³Ýë³Ï³Ý íÝ³ëÇ éÇëÏ | B45: ² (ýÇÝ, Ü) | C45: ² (ýÇÝ, ²) | D45: Î ýÇÝ | E45: ÀÎ|Î ýÇÝ | F45: äÎ ýÇÝ
A46: 1 | B46: 2 | C46: 3 | D46: 4 | E46: 5 | F46: 6
A47: üÇÝ³Ýë³Ï³Ý íÝ³ëÝ»ñÇ ³å³Ñáí³·ñáõÃÛáõÝ | D47: =0.4*MAX(B47,C47) -> 0 | F47: =IF(D47=0,"0",Sheet1!$C$16-Sheet14!E47) -> 0
C51: ²å³Ñáí³·ñ³Ï³Ý ÁÝÏ»ñáõÃÛ³Ý í³ñãáõÃÛ³Ý Ý³Ë³·³Ñª | D51: =Sheet1!F44 -> 0
C52: (¶áñÍ³¹Çñ ïÝûñ»Ý)
C54: ¶ÉË³íáñ Ñ³ßí³å³Ñª | D54: =Sheet1!F47 -> 0
C56: ä³ï³ëË³Ý³ïáõ ³Ïïáõ³ñª | D56: =Sheet1!F49 -> 0

Sheet Sheet15
A2: ²ÔÚàôê²Î 19.²ä²Ðàì²¶ð²ìÖ²ðÜºðÆ ºì îºÊÜÆÎ²Î²Ü ä²ÐàôêîÆ èÆêÎÆ Ð²Ø²ð ä²Ð²ÜæìàÔ Î²äÆî²ÈÆ ØºÌàôÂÚ²Ü Ð²Þì²ðÎ ²èàÔæàôÂÚ²Ü ²Ü¸ºðè²ÚÂÆÜ¶Æ èÆêÎÆ Ð²Ø²ð
B5: ²å³Ñáí³·ñ³Ï³Ý ÁÝÏ»ñáõÃÛ³Ý ³Ýí³ÝáõÙª | C5: =Company -> 0
B7: ²Ùë³ÃÇíª | C7: =Date -> 0
A9: Ì³í³É³ÛÇÝ Ù»ÍáõÃÛáõÝ (Ì) | B9: =SUM(J15:J16) -> 0
A10: êï³Ý¹³ñï ß»ÕáõÙ (¶) | B10: =IFERROR(SQRT(SUM(Sheet25!K27:L28))/B9,0) -> 0
A11: ²å³Ñáí³·ñ³í×³ñÝ»ñÇ ¨ ï»ËÝÇÏ³Ï³Ý å³ÑáõëïÇ éÇëÏÇ Ñ³Ù³ñ å³Ñ³ÝçíáÕ Ï³åÇï³ÉÇ Ù»ÍáõÃÛáõÝÁ (äÎ ³å) | B11: =IFERROR(3*B10*B9,0) -> 0
L12: (Ñ³½³ñ ¹ñ³Ù)
A13: ²å³Ñáí³·ñáõÃÛ³Ý ¹³ë | B13: ²i | C13: ²Ýi | D13: ² ·áñÍáÕi | E13: ² ³å³·³i | F13: Ì ³åi | G13: Ì ïåi | H13: ¶ ³åi | I13: ¶ ïåi | J13: Ìi | K13: ¶i | L13: ¶i*Ìi
A14: 1 | B14: 2 | C14: 3 | D14: 4 | E14: 5 | F14: 6 | G14: 7 | H14: 8 | I14: 9 | J14: 10 | K14: 11 | L14: 12
A15: ²éáÕçáõÃÛ³Ý ³å³Ñáí³·ñáõÃÛáõÝ | F15: =MAX(B15,C15)+D15+E15 -> 0 | H15: 0.07 | I15: 0.1 | J15: =F15+G15 -> 0 | K15: =IFERROR(SQRT((H15*F15)^2+H15*F15*G15*I15+(I15*G15)^2)/(F15+G15),"") | L15: =IFERROR(J15*K15,0) -> 0
A16: ¸Åµ³Ëï å³ï³Ñ³ñÝ»ñÇó ³å³Ñáí³·ñáõÃÛáõÝ | F16: =MAX(B16,C16)+D16+E16 -> 0 | H16: 0.09 | I16: 0.13 | J16: =F16+G16 -> 0 | K16: =IFERROR(SQRT((H16*F16)^2+H16*F16*G16*I16+(I16*G16)^2)/(F16+G16),"") | L16: =IFERROR(J16*K16,0) -> 0
E19: ²å³Ñáí³·ñ³Ï³Ý ÁÝÏ»ñáõÃÛ³Ý í³ñãáõÃÛ³Ý Ý³Ë³·³Ñª | F19: =Sheet1!F44 -> 0
E20: (¶áñÍ³¹Çñ ïÝûñ»Ý)
E22: ¶ÉË³íáñ Ñ³ßí³å³Ñª | F22: =Sheet1!F47 -> 0
E24: ä³ï³ëË³Ý³ïáõ ³Ïïáõ³ñª | F24: =Sheet1!F49 -> 0

Sheet Sheet16
A2: ²ÔÚàôê²Î 20.²ÔºîÜºðÆ èÆêÎÆ Ð²Ø²ð Î²äÆî²ÈÆ ä²Ð²ÜæÆ Ð²Þì²ðÎ ²èàÔæàôÂÚ²Ü ¨ ¸Ä´²Êî ä²î²Ð²ðÜºðÆ ²ä²Ðàì²¶ðàôÂÚ²Ü ¶Ìàì
D4: ²å³Ñáí³·ñ³Ï³Ý ÁÝÏ»ñáõÃÛ³Ý ³Ýí³ÝáõÙª | E4: =Company -> 0
D6: ²Ùë³ÃÇíª | E6: =Date -> 0
A10: ²Õ»ïÝ»ñÇ éÇëÏÇ Ñ³Ù³ñ Ï³åÇï³ÉÇ å³Ñ³Ýç ³éáÕçáõÃÛ³Ý ¨ ¹Åµ³Ëï å³ï³Ñ³ñÝ»ñÇ ³å³Ñáí³·ñáõÃÛ³Ý ·Íáí (äÎ ³Õ»ï) | B10: =IFERROR(SQRT((F25+F15)^2+(J45+J35)^2+F55^2),0) -> 0
F11: ²ÕÛáõë³Ï 20.1.1
A12: ¼³Ý·í³Í³ÛÇÝ å³ï³Ñ³ñÝ»ñÇ éÇëÏ`¸Åµ³Ëï å³ï³Ñ³ñÝ»ñÇó ³å³Ñáí³·ñáõÃÛáõÝ | F12: (Ñ³½³ñ ¹ñ³Ù)
A13: i-ñ¹ ï»ë³ÏÇ íÝ³ë | B13: ¶i | C13: ²¶i | D13: Î ½Ý· | E13: ÀÎ|Î ½Ý· | F13: äÎ ½Ý·
A14: 1 | B14: 2 | C14: 3 | D14: 4 | E14: 5 | F14: 6
A15: Ø³Ñ | B15: 0.1 | D15: =0.0015*(B15*C15+B16*C16+B17*C17+B18*C18+B19*C19) -> 0 | F15: =IF(D15=0,"0",Sheet1!$C$16-E15) -> 0
A16: Øßï³Ï³Ý ³Ý³ßË³ïáõÝ³ÏáõÃÛáõÝ | B16: 0.015
A17: Ä³Ù³Ý³Ï³íáñ ³Ý³ßË³ïáõÝ³ÏáõÃÛáõÝ (1-10 ï³ñÇ) | B17: 0.05
A18: Ä³Ù³Ý³Ï³íáñ ³Ý³ßË³ïáõÝ³ÏáõÃÛáõÝ (ÙÇÝã¨ 1 ï³ñÇ) | B18: 0.135
A19: ´ÅßÏ³Ï³Ý û·ÝáõÃÛ³Ý ³ÝÑñ³Å»ßïáõÃÛáõÝ | B19: 0.3
F21: ²ÕÛáõë³Ï 20.1.2
A22: ¼³Ý·í³Í³ÛÇÝ å³ï³Ñ³ñÝ»ñÇ éÇëÏ`²éáÕçáõÃÛ³Ý ³å³Ñáí³·ñáõÃÛáõÝ | F22: (Ñ³½³ñ ¹ñ³Ù)
A23: i-ñ¹ ï»ë³ÏÇ íÝ³ë | B23: ¶i | C23: ²¶i | D23: Î ½Ý· | E23: ÀÎ|Î ½Ý· | F23: äÎ ½Ý·
A24: 1 | B24: 2 | C24: 3 | D24: 4 | E24: 5 | F24: 6
A25: Ø³Ñ | B25: 0.1 | D25: =0.0015*(B25*C25+B26*C26+B27*C27+B28*C28+B29*C29) -> 0 | F25: =IF(D25=0,"0",Sheet1!$C$16-E25) -> 0
A26: Øßï³Ï³Ý ³Ý³ßË³ïáõÝ³ÏáõÃÛáõÝ | B26: 0.015
A27: Ä³Ù³Ý³Ï³íáñ ³Ý³ßË³ïáõÝ³ÏáõÃÛáõÝ (1-10 ï³ñÇ) | B27: 0.05
A28: Ä³Ù³Ý³Ï³íáñ ³Ý³ßË³ïáõÝ³ÏáõÃÛáõÝ (ÙÇÝã¨ 1 ï³ñÇ) | B28: 0.135
A29: ´ÅßÏ³Ï³Ý û·ÝáõÃÛ³Ý ³ÝÑñ³Å»ßïáõÃÛáõÝ | B29: 0.3
J31: ²ÕÛáõë³Ï 20.2.1
A32: Î»ÝïñáÝ³óÙ³Ý éÇëÏ`¸Åµ³Ëï å³ï³Ñ³ñÝ»ñÇó ³å³Ñáí³·ñáõÃÛáõÝ | J32: (Ñ³½³ñ ¹ñ³Ù)
A33: i-ñ¹ ï»ë³ÏÇ íÝ³ë | B33: ¶i | C33: ²¶i | D33: ì»ñ ²¶i | E33: øi | F33: Ø²¶i | G33: ø ÏÝï | H33: Î ÏÝï | I33: ÀÎ|Î ÏÝï | J33: äÎ ÏÝï
A34: 1 | B34: 2 | C34: 3 | D34: 4 | E34: 5 | F34: 6 | G34: 7 | H34: 8 | I34: 9 | J34: 10
A35: Ø³Ñ | B35: 0.1 | F35: =IFERROR((C35-D35)/E35,"0") -> 0 | H35: =IFERROR(G35*(B35*F35+B36*F36+B37*F37+B38*F38+B39*F39),"0") -> 0 | J35: =IF(H35=0,"0",Sheet1!$C$16-I35) -> 0
A36: Øßï³Ï³Ý ³Ý³ßË³ïáõÝ³ÏáõÃÛáõÝ | B36: 0.015 | F36: =IFERROR((C36-D36)/E36,"0") -> 0
A37: Ä³Ù³Ý³Ï³íáñ ³Ý³ßË³ïáõÝ³ÏáõÃÛáõÝ (1-10 ï³ñÇ) | B37: 0.05 | F37: =IFERROR((C37-D37)/E37,"0") -> 0
A38: Ä³Ù³Ý³Ï³íáñ ³Ý³ßË³ïáõÝ³ÏáõÃÛáõÝ (ÙÇÝã¨ 1 ï³ñÇ) | B38: 0.135 | F38: =IFERROR((C38-D38)/E38,"0") -> 0
A39: ´ÅßÏ³Ï³Ý û·ÝáõÃÛ³Ý ³ÝÑñ³Å»ßïáõÃÛáõÝ | B39: 0.3 | F39: =IFERROR((C39-D39)/E39,"0") -> 0
J41: ²ÕÛáõë³Ï 20.2.2
A42: Î»ÝïñáÝ³óÙ³Ý éÇëÏ`²éáÕçáõÃÛ³Ý ³å³Ñáí³·ñáõÃÛáõÝ | J42: (Ñ³½³ñ ¹ñ³Ù)
A43: i-ñ¹ ï»ë³ÏÇ íÝ³ë | B43: ¶i | C43: ²¶i | D43: ì»ñ ²¶i | E43: øi | F43: Ø²¶i | G43: ø ÏÝï | H43: Î ÏÝï | I43: ÀÎ|Î ÏÝï | J43: äÎ ÏÝï
A44: 1 | B44: 2 | C44: 3 | D44: 4 | E44: 5 | F44: 6 | G44: 7 | H44: 8 | I44: 9 | J44: 10
A45: Ø³Ñ | B45: 0.1 | F45: =IFERROR((C45-D45)/E45,"0") -> 0 | H45: =IFERROR(G45*(B45*F45+B46*F46+B47*F47+B48*F48+B49*F49),"0") -> 0 | J45: =IF(H45=0,"0",Sheet1!$C$16-I45) -> 0
A46: Øßï³Ï³Ý ³Ý³ßË³ïáõÝ³ÏáõÃÛáõÝ | B46: 0.015 | F46: =IFERROR((C46-D46)/E46,"0") -> 0
A47: Ä³Ù³Ý³Ï³íáñ ³Ý³ßË³ïáõÝ³ÏáõÃÛáõÝ (1-10 ï³ñÇ) | B47: 0.05 | F47: =IFERROR((C47-D47)/E47,"0") -> 0
A48: Ä³Ù³Ý³Ï³íáñ ³Ý³ßË³ïáõÝ³ÏáõÃÛáõÝ (ÙÇÝã¨ 1 ï³ñÇ) | B48: 0.135 | F48: =IFERROR((C48-D48)/E48,"0") -> 0
A49: ´ÅßÏ³Ï³Ý û·ÝáõÃÛ³Ý ³ÝÑñ³Å»ßïáõÃÛáõÝ | B49: 0.3 | F49: =IFERROR((C49-D49)/E49,"0") -> 0
J50: =IFERROR(J45+J35,"") -> 0
F51: ²ÕÛáõë³Ï 20.3
F52: (Ñ³½³ñ ¹ñ³Ù)
A53: ä³Ý¹»ÙÇÏ éÇëÏ | B53: ²¶ ³ßËi | C53: ²¶ Í³Ëëi | D53: Î å³Ý¹»ÙÇÏ | E53: ÀÎ|Î å³Ý¹»ÙÇÏ | F53: äÎ å³Ý¹»ÙÇÏ
A54: 1 | B54: 2 | C54: 3 | D54: 4 | E54: 5 | F54: 6
A55: ²éáÕçáõÃÛ³Ý ³å³Ñáí³·ñáõÃÛáõÝ | D55: =0.000075*B55+0.4*C55 -> 0 | F55: =IF(D55=0,"0",Sheet1!$C$16-E55) -> 0
E58: ²å³Ñáí³·ñ³Ï³Ý ÁÝÏ»ñáõÃÛ³Ý í³ñãáõÃÛ³Ý Ý³Ë³·³Ñª | F58: =Sheet1!F44 -> 0
E59: (¶áñÍ³¹Çñ ïÝûñ»Ý)
E61: ¶ÉË³íáñ Ñ³ßí³å³Ñª | F61: =Sheet1!F47 -> 0
E63: ä³ï³ëË³Ý³ïáõ ³Ïïáõ³ñª | F63: =Sheet1!F49 -> 0

Sheet Sheet17
A2: ²ÔÚàôê²Î 21.ÎÚ²ÜøÆ ²Ü¸ºðè²ÚÂÆÜ¶Æ èÆêÎÆ Ð²Ø²ð ä²Ð²ÜæìàÔ Î²äÆî²ÈÆ ØºÌàôÂÚ²Ü Ð²Þì²ðÎ
A5: ²å³Ñáí³·ñ³Ï³Ý ÁÝÏ»ñáõÃÛ³Ý ³Ýí³ÝáõÙª | B5: =Company -> 0
A7: ²Ùë³ÃÇíª | B7: =Date -> 0
A10: ÎÛ³ÝùÇ ³Ý¹»ñé³ÛÃÇÝ·Ç éÇëÏÇ Ñ³Ù³ñ å³Ñ³ÝçíáÕ Ï³åÇï³ÉÇ Ù»ÍáõÃÛáõÝ (äÎ ÏÛ³Ýù) | B10: =IFERROR(B11+B12,0) -> 0
A11: ÎÛ³ÝùÇ ³å³Ñáí³·ñáõÃÛ³Ý ¹»åùáõÙ Ù³Ã»Ù³ïÇÏ³Ï³Ý å³ÑáõëïÇ Ù»Ãá¹áí Ñ³ßí³ñÏíáÕ Ù»ÍáõÃÛáõÝ | B11: =0.04*(B17*C17+B18*C18) -> 0
A12: ÎÛ³ÝùÇ ³å³Ñáí³·ñáõÃÛ³Ý ¹»åùáõÙ éÇëÏ³ÛÇÝ Ï³åÇï³ÉÇ Ù»Ãá¹áí Ñ³ßí³ñÏíáÕ Ù»ÍáõÃÛáõÝ | B12: =0.003*(D17*E17+D18*E18) -> 0
E14: (Ñ³½³ñ ¹ñ³Ù)
A15: ²å³Ñáí³·ñáõÃÛ³Ý ¹³ë | B15: Øä | C15: ¶ä | D15: èÎ | E15: ¶è
A16: 1 | B16: 2 | C16: 3 | D16: 4 | E16: 5
A17: ÎÛ³ÝùÇ ³å³Ñáí³·ñáõÃÛáõÝÁ, áñÁ Ý»ñ³éáõÙ ¿ Éñ³Ï»óáõÃÛ³Ý, Ù³Ñí³Ý, Éñ³Ï»óáõÃÛ³Ý ¨ ÙÇ³Å³Ù³Ý³Ï Ù³Ñí³Ý ³å³Ñáí³·ñáõÃÛáõÝÝ»ñÁ, ³ÝáõÇï»ïÁ
A18: ²ÙáõëÝáõÃÛ³Ý, ÍÝÝ¹Ç ³å³Ñáí³·ñáõÃÛáõÝ
B21: ²å³Ñáí³·ñ³Ï³Ý ÁÝÏ»ñáõÃÛ³Ý í³ñãáõÃÛ³Ý Ý³Ë³·³Ñª | C21: =Sheet1!F44 -> 0
B22: (¶áñÍ³¹Çñ ïÝûñ»Ý)
B24: ¶ÉË³íáñ Ñ³ßí³å³Ñª | C24: =Sheet1!F47 -> 0
B26: ä³ï³ëË³Ý³ïáõ ³Ïïáõ³ñª | C26: =Sheet1!F49 -> 0

Sheet Sheet18
B2: ²ÔÚàôê²Î 22. Æð²òìºÈÆàôÂÚ²Ü ÜàðØ²îÆìÆ Ð²Þì²ðÎàôØ ÀÜ¸¶ðÎìàÔ î²ððºðÆ ØºÌàôÂÚàôÜÜºðÆ Ð²Þì²ðÎ
D5: ²å³Ñáí³·ñ³Ï³Ý ÁÝÏ»ñáõÃÛ³Ý ³Ýí³ÝáõÙª | E5: =Company -> 0
G6: =WEEKDAY(E7,2) -> 6
D7: ²Ùë³ÃÇíª | E7: =Date -> 0
D9: (Ñ³½³ñ ¹ñ³Ù) | K9: (Ñ³½³ñ ¹ñ³Ù)
C10: Þ³µ³Ãí³ ûñ»ñ | D10: ´³ñÓñ Çñ³óí»ÉÇ ³ÏïÇíÝ»ñÇ Ù»ÍáõÃÛáõÝ | G10: Þ³µ³Ãí³ ûñ»ñ | H10: ²å³Ñáí³·ñ³Ï³Ý Ñ³ïáõóÙ³Ý Ñ»ï ã³éÝãíáÕ Ïñ»¹Çïáñ³Ï³Ý å³ñï³íáñáõÃÛáõÝÝ»ñ | I10: ²å³Ñáí³·ñ³Ï³Ý Ñ³ïáõóáõÙÝ»ñÇ ·Íáí Ïñ»¹Çïáñ³Ï³Ý å³ñï³íáñáõÃÛáõÝÝ»ñ | J10: Ü»ñÏ³Û³óí³Í, ë³Ï³ÛÝ ¹»é¨ë ãí×³ñí³Í å³Ñ³ÝçÝ»ñÇ å³ÑáõëïÇ Ù»ÍáõÃÛáõÝ | K10: ÀÝ¹³Ù»ÝÁ
C11: 1 | D11: 2 | G11: 3 | H11: 4 | I11: 5 | J11: 6 | K11: 7
B12: Ð³ßí»ïáõ ³Ùëí³ í»ñçÇÝ ß³µ³Ã | C12: =IF(ROW(C12)=11+$G$6,$E$7,$E$7+ROW(C12)-11-$G$6) -> -5 | F12: Ð³ßí»ïáõ ³Ùëí³ í»ñçÇÝ ß³µ³Ãí³Ý Ñ³çáñ¹áÕ 1-ÇÝ ß³µ³Ã | G12: =G13-1 -> 2 | I12: x | J12: x | K12: x
C13: =IF(ROW(C13)=11+$G$6,$E$7,$E$7+ROW(C13)-11-$G$6) -> -4 | G13: =G14-1 -> 3 | I13: x | J13: x | K13: x
C14: =IF(ROW(C14)=11+$G$6,$E$7,$E$7+ROW(C14)-11-$G$6) -> -3 | G14: =G15-1 -> 4 | I14: x | J14: x | K14: x
C15: =IF(ROW(C15)=11+$G$6,$E$7,$E$7+ROW(C15)-11-$G$6) -> -2 | G15: =G16-1 -> 5 | I15: x | J15: x | K15: x
C16: =IF(ROW(C16)=11+$G$6,$E$7,$E$7+ROW(C16)-11-$G$6) -> -1 | G16: =G17-1 -> 6 | I16: x | J16: x | K16: x
C17: =IF(ROW(C17)=11+$G$6,$E$7,$E$7+ROW(C17)-11-$G$6) -> 0 | G17: =G18-1 -> 7 | I17: x | J17: x | K17: x
C18: =IF(ROW(C18)=11+$G$6,$E$7,$E$7+ROW(C18)-11-$G$6) -> 1 | G18: =G26+7 -> 8 | I18: x | J18: x | K18: x
C19: ØÇçÇÝ | D19: =SUM(D12:D18)/7 -> 0 | G19: ÀÝ¹³Ù»ÝÁ | H19: =SUM(H12:H18) -> 0 | K19: =SUM(H19:J19) -> 0
B20: Ð³ßí»ïáõ ³Ùëí³ í»ñçÇÝ ß³µ³Ãí³Ý Ý³Ëáñ¹áÕ 1-ÇÝ ß³µ³Ã | C20: =C21-1 -> -12 | F20: Ð³ßí»ïáõ ³Ùëí³ í»ñçÇÝ ß³µ³Ã | G20: =IF(ROW(G20)=19+$G$6,TEXT($E$7,"dd/mm/yyy"),TEXT($E$7+ROW(G20)-19-$G$6,"dd/mm/yyyy")) -> #VALUE! | I20: x | J20: x | K20: x
C21: =C22-1 -> -11 | G21: =IF(ROW(G21)=19+$G$6,$E$7,$E$7+ROW(G21)-19-$G$6) -> -4 | I21: x | J21: x | K21: x
C22: =C23-1 -> -10 | G22: =IF(ROW(G22)=19+$G$6,$E$7,$E$7+ROW(G22)-19-$G$6) -> -3 | I22: x | J22: x | K22: x
C23: =C24-1 -> -9 | G23: =IF(ROW(G23)=19+$G$6,$E$7,$E$7+ROW(G23)-19-$G$6) -> -2 | I23: x | J23: x | K23: x
C24: =C25-1 -> -8 | G24: =IF(ROW(G24)=19+$G$6,$E$7,$E$7+ROW(G24)-19-$G$6) -> -1 | I24: x | J24: x | K24: x
C25: =C26-1 -> -7 | G25: =IF(ROW(G25)=19+$G$6,$E$7,$E$7+ROW(G25)-19-$G$6) -> 0 | I25: x | J25: x | K25: x
C26: =C18-7 -> -6 | G26: =IF(ROW(G26)=19+$G$6,$E$7,$E$7+ROW(G26)-19-$G$6) -> 1 | I26: x | J26: x | K26: x
C27: ØÇçÇÝ | D27: =SUM(D20:D26)/7 -> 0 | G27: ÀÝ¹³Ù»ÝÁ | H27: =SUM(H20:H26) -> 0 | K27: =SUM(H27:J27) -> 0
B28: Ð³ßí»ïáõ ³Ùëí³ í»ñçÇÝ ß³µ³Ãí³Ý Ý³Ëáñ¹áÕ 2-ñ¹ ß³µ³Ã | C28: =C29-1 -> -19 | F28: Ð³ßí»ïáõ ³Ùëí³ í»ñçÇÝ ß³µ³Ãí³Ý Ý³Ëáñ¹áÕ 1-ÇÝ ß³µ³Ã | G28: =TEXT(G29-1,"dd/mm/yyy") -> #VALUE! | I28: x | J28: x | K28: x
C29: =C30-1 -> -18 | G29: =G30-1 -> -11 | I29: x | J29: x | K29: x
C30: =C31-1 -> -17 | G30: =G31-1 -> -10 | I30: x | J30: x | K30: x
C31: =C32-1 -> -16 | G31: =G32-1 -> -9 | I31: x | J31: x | K31: x
C32: =C33-1 -> -15 | G32: =G33-1 -> -8 | I32: x | J32: x | K32: x
C33: =C34-1 -> -14 | G33: =G34-1 -> -7 | I33: x | J33: x | K33: x
C34: =C26-7 -> -13 | G34: =G26-7 -> -6 | I34: x | J34: x | K34: x
C35: ØÇçÇÝ | D35: =SUM(D28:D34)/7 -> 0 | G35: ÀÝ¹³Ù»ÝÁ | H35: =SUM(H28:H34) -> 0 | K35: =SUM(H35:J35) -> 0
B36: Ð³ßí»ïáõ ³Ùëí³ í»ñçÇÝ ß³µ³Ãí³Ý Ý³Ëáñ¹áÕ 3-ñ¹ ß³µ³Ã | C36: =C37-1 -> -26 | F36: Ð³ßí»ïáõ ³Ùëí³ í»ñçÇÝ ß³µ³Ãí³Ý Ý³Ëáñ¹áÕ 2-ñ¹ ß³µ³Ã | G36: =TEXT(G37-1,"dd/mm/yyy") -> #VALUE! | I36: x | J36: x | K36: x
C37: =C38-1 -> -25 | G37: =G38-1 -> -18 | I37: x | J37: x | K37: x
C38: =C39-1 -> -24 | G38: =G39-1 -> -17 | I38: x | J38: x | K38: x
C39: =C40-1 -> -23 | G39: =G40-1 -> -16 | I39: x | J39: x | K39: x
C40: =C41-1 -> -22 | G40: =G41-1 -> -15 | I40: x | J40: x | K40: x
C41: =C42-1 -> -21 | G41: =G42-1 -> -14 | I41: x | J41: x | K41: x
C42: =C34-7 -> -20 | G42: =G34-7 -> -13 | I42: x | J42: x | K42: x
C43: ØÇçÇÝ | D43: =SUM(D36:D42)/7 -> 0 | G43: ÀÝ¹³Ù»ÝÁ | H43: =SUM(H36:H42) -> 0 | K43: =SUM(H43:J43) -> 0
B44: Ð³ßí»ïáõ ³Ùëí³ í»ñçÇÝ ß³µ³Ãí³Ý Ý³Ëáñ¹áÕ 4-ñ¹ ß³µ³Ã | C44: =C45-1 -> -33 | F44: Ð³ßí»ïáõ ³Ùëí³ í»ñçÇÝ ß³µ³Ãí³Ý Ý³Ëáñ¹áÕ 3-ñ¹ ß³µ³Ã | G44: =TEXT(G45-1,"dd/mm/yyy") -> #VALUE! | I44: x | J44: x | K44: x
C45: =C46-1 -> -32 | G45: =G46-1 -> -25 | I45: x | J45: x | K45: x
C46: =C47-1 -> -31 | G46: =G47-1 -> -24 | I46: x | J46: x | K46: x
C47: =C48-1 -> -30 | G47: =G48-1 -> -23 | I47: x | J47: x | K47: x
C48: =C49-1 -> -29 | G48: =G49-1 -> -22 | I48: x | J48: x | K48: x
C49: =C50-1 -> -28 | G49: =G50-1 -> -21 | I49: x | J49: x | K49: x
C50: =C42-7 -> -27 | G50: =G42-7 -> -20 | I50: x | J50: x | K50: x
C51: ØÇçÇÝ | D51: =SUM(D44:D50)/7 -> 0 | G51: ÀÝ¹³Ù»ÝÁ | H51: =SUM(H44:H50) -> 0 | K51: =SUM(H51:J51) -> 0
D54: ²å³Ñáí³·ñ³Ï³Ý ÁÝÏ»ñáõÃÛ³Ý í³ñãáõÃÛ³Ý Ý³Ë³·³Ñª | E54: =Sheet1!F44 -> 0
D55: (¶áñÍ³¹Çñ ïÝûñ»Ý)
D57: ¶ÉË³íáñ Ñ³ßí³å³Ñª | E57: =Sheet1!F47 -> 0
D59: ä³ï³ëË³Ý³ïáõ ³Ïïáõ³ñª | E59: =Sheet1!F49 -> 0

Sheet Sheet19
E4: ²å³Ñáí³·ñ³Ï³Ý ÁÝÏ»ñáõÃÛ³Ý ³Ýí³ÝáõÙª | F4: =Company -> 0
E6: ²Ùë³ÃÇíª | F6: =Date -> 0
B9: ²ÔÚàôê²Î 23. êî²ÜÒÜ²Ì ²ä²Ðàì²¶ð²Î²Ü ØºÎ èÆêÎÆ ²è²ìºÈ²¶àôÚÜ â²öÆ ÜàðØ²îÆìÆ Ð²Þì²ðÎàôØ Üºð²èìàÔ î²ððºðÆ ìºð²´ºðÚ²È
B10: ²å³Ñáí³·ñáõÃÛ³Ý ûµÛ»ÏïÇ Ï³Ù ³å³Ñáí³·ñáõÃÛ³Ý ûµÛ»ÏïÇ Ñ»ï ÷áËÏ³å³Ïóí³Í ûµÛ»ÏïÇ Ñ³Ù³ñÁ | C10: ²å³Ñáí³·ñáõÃÛ³Ý ûµÛ»ÏïÇ ³Ýí³ÝáõÙ | D10: ²å³Ñáí³·ñáõÃÛ³Ý ûµÛ»ÏïÇ Ñ»ï ÷áËÏ³å³Ïóí³Í ûµÛ»ÏïÇ ³Ýí³ÝáõÙ | E10: ²å³Ñáí³·ñáõÃÛ³Ý ûµÛ»ÏïÇ ·Íáí ÏÝùí³Í å³ÛÙ³Ý³·ñ»ñÇ ù³Ý³Ï (Ñ³ï) | F10: ²å³Ñáí³·ñáõÃÛ³Ý ûµÛ»ÏïÇ Ñ»ï ÷áËÏ³å³Ïóí³Í ûµÛ»ÏïÝ»ñÇ ·Íáí ÏÝùí³Í å³ÛÙ³Ý³·ñ»ñÇ ù³Ý³Ï (Ñ³ï) | G10: ²å³Ñáí³·ñáõÃÛ³Ý ûµÛ»ÏïÁ Í³ÍÏáÕ ³å³Ñáí³·ñ³Ï³Ý ·áõÙ³ñÇ Ù»ÍáõÃÛáõÝ (Ñ³½³ñ ¹ñ³Ù) | H10: ²å³Ñáí³·ñáõÃÛ³Ý ûµÛ»ÏïÇ Ñ»ï ÷áËÏ³å³Ïóí³Í ûµÛ»ÏïÁ Í³ÍÏáÕ ³å³Ñáí³·ñ³Ï³Ý ·áõÙ³ñÇ Ù»ÍáõÃÛáõÝ (Ñ³½³ñ ¹ñ³Ù) | I10: ì»ñ³³å³Ñáí³·ñáÕÇ Ù³ëÝ³µ³ÅÇÝÝ ³å³Ñáí³·ñáõÃÛ³Ý ûµÛ»ÏïÁ Í³ÍÏáÕ ³å³Ñáí³·ñ³Ï³Ý ·áõÙ³ñÇ Ù»ÍáõÃÛ³Ý Ù»ç (Ñ³½³ñ ¹ñ³Ù) | J10: ì»ñ³³å³Ñáí³·ñáÕÇ Ù³ëÝ³µ³ÅÇÝÝ ³å³Ñáí³·ñáõÃÛ³Ý ûµÛ»ÏïÇ Ñ»ï ÷áËÏ³å³Ïóí³Í ûµÛ»ÏïÝ»ñÁ Í³ÍÏáÕ ³å³Ñáí³·ñ³Ï³Ý ·áõÙ³ñÇ Ù»ÍáõÃÛ³Ý Ù»ç (Ñ³½³ñ ¹ñ³Ù)
B11: 1 | C11: 2 | D11: 3 | E11: 4 | F11: 5 | G11: 6 | H11: 7 | I11: 8 | J11: 9
E2514: ²å³Ñáí³·ñ³Ï³Ý ÁÝÏ»ñáõÃÛ³Ý í³ñãáõÃÛ³Ý Ý³Ë³·³Ñª | F2514: =Sheet1!F44 -> 0
E2515: (¶áñÍ³¹Çñ ïÝûñ»Ý)
E2517: ¶ÉË³íáñ Ñ³ßí³å³Ñª | F2517: =Sheet1!F47 -> 0
E2519: ä³ï³ëË³Ý³ïáõ ³Ïïáõ³ñª | F2519: =Sheet1!F49 -> 0

Sheet Sheet19.1
B4: ²å³Ñáí³·ñ³Ï³Ý ÁÝÏ»ñáõÃÛ³Ý ³Ýí³ÝáõÙª | C4: =Company -> 0
B6: ²Ùë³ÃÇíª | C6: =Date -> 0
B9: ²ÔÚàôê²Î 23.1. êî²ÜÒÜ²Ì ²ä²Ðàì²¶ð²Î²Ü ØºÎ èÆêÎÆ ²è²ìºÈ²¶àôÚÜ â²öÆ ÜàðØ²îÆìÆ Ð²Þì²ðÎàôØ Üºð²èìàÔ î²ððºðÆ ìºð²´ºðÚ²È՝ ԵՐԿՐԱՇԱՐԺԻ ՌԻՍԿԻՑ ԱՊԱՀՈՎԱԳՐՎԱԾ ՕԲՅԵԿՏՆԵՐԻ ՀԱՄԱՐ
B10: î³ñ³Íù³ÛÇÝ ËáõÙµ | C10: ²å³Ñáí³·ñ³Ï³Ý ÁÝÏ»ñáõÃÛ³Ý å³ñï³íáñáõÃÛ³Ý ã³÷ (Ñ³½³ñ ¹ñ³Ù) | D10: ì»ñ³³å³Ñáí³·ñáÕÇ å³ñï³íáñáõÃÛ³Ý ã³÷ (Ñ³½³ñ ¹ñ³Ù)
B11: 1 | C11: 2 | D11: 3
B12: ÊáõÙµ 1
B13: ÊáõÙµ 2
B14: ÊáõÙµ 3
B15: ÊáõÙµ 4
B16: ÊáõÙµ 5
B17: ÊáõÙµ 6
B18: ÊáõÙµ 7
C21: ²å³Ñáí³·ñ³Ï³Ý ÁÝÏ»ñáõÃÛ³Ý í³ñãáõÃÛ³Ý Ý³Ë³·³Ñª | D21: =Sheet1!F44 -> 0
C22: (¶áñÍ³¹Çñ ïÝûñ»Ý)
C24: ¶ÉË³íáñ Ñ³ßí³å³Ñª | D24: =Sheet1!F47 -> 0
C26: ä³ï³ëË³Ý³ïáõ ³Ïïáõ³ñª | D26: =Sheet1!F49 -> 0

Sheet Sheet20
B3: ²ÔÚàôê²Î 24. îºÊÜÆÎ²Î²Ü ä²ÐàôêîÜºðÆÜ Ð²Ø²ðÄºø ´àÈàð ºì ²è²ÜÒÆÜ ìºðòì²Ì ²ÎîÆìÜºðÆ ÜàðØ²îÆìÆ Ð²Þì²ðÎàôØ ÀÜ¸¶ðÎìàÔ î²ððºðÆ ØºÌàôÂÚàôÜÜºðÆ Ð²Þì²ðÎÜª Àêî úðºðÆ
O6: ²å³Ñáí³·ñ³Ï³Ý ÁÝÏ»ñáõÃÛ³Ý ³Ýí³ÝáõÙª | P6: =Company -> 0
O8: ²Ùë³ÃÇíª | P8: =Date -> 0
B10: ²Ùëí³ ûñ»ñ | C10: Î³ÝËÇÏ ¹ñ³Ù³ñÏÕáõÙ (Ý»ñ³éÛ³Éª ×³Ý³å³ñÑÇÝ ·ïÝíáÕ ¹ñ³Ù³Ï³Ý ÙÇçáóÝ»ñ) | D10: Î³ÝËÇÏÇÝ Ñ³í³ë³ñ»óí³Í í×³ñ³ÛÇÝ ÷³ëï³ÃÕÃ»ñ | E10: ´³ÝÏ³ÛÇÝ áëÏÇ (Ý»ñ³éÛ³Éª ×³Ý³å³ñÑÇÝ ·ïÝíáÕ µ³ÝÏ³ÛÇÝ áëÏÇ) | F10: ÐÐ å»ï³Ï³Ý ³ñÅ»ÃÕÃ»ñª ÁÝÃ³óÇÏ (ßáõÏ³Û³Ï³Ý) ³ñÅ»ùáí | G10: ÐÐ Ï»ÝïñáÝ³Ï³Ý µ³ÝÏÇ ÏáÕÙÇó ÃáÕ³ñÏí³Í ³ñÅ»ÃÕÃ»ñª ÁÝÃ³óÇÏ (ßáõÏ³Û³Ï³Ý) ³ñÅ»ùáí | H10: Î»ÝïñáÝ³Ï³Ý µ³ÝÏáõÙ ³å³Ñáí³·ñ³Ï³Ý ÁÝÏ»ñáõÃÛ³Ý Ñ³ßíÇ ÙÝ³óáñ¹ ¨ Î»ÝïñáÝ³Ï³Ý µ³ÝÏáõÙ Ý»ñ¹ñí³Í ³í³Ý¹ | I10: Ð³Û³ëï³ÝÇ Ð³Ýñ³å»ïáõÃÛ³Ý ýÇÝ³ÝëÝ»ñÇ Ý³Ë³ñ³ñáõÃÛ³Ý ÏáÕÙÇó ÃáÕ³ñÏí³Í ÷áË³Ýó»ÉÇ ÙáõñÑ³ÏÝ»ñ* | J10: úï³ñ»ñÏñÛ³ å»ï³Ï³Ý ·³ÝÓ³å»ï³Ï³Ý å³ñï³ïáÙë»ñ` ÁÝÃ³óÇÏ (ßáõÏ³Û³Ï³Ý) ³ñÅ»ùáí | L10: úï³ñ»ñÏñÛ³ Ïáñåáñ³ïÇí ³ñÅ»ÃÕÃ»ñ` ÁÝÃ³óÇÏ (ßáõÏ³Û³Ï³Ý) ³ñÅ»ùáí , ØÇç³½·³ÛÇÝ Ï³½Ù³Ï»ñåáõÃÛáõÝÝ»ñÇ ÏáÕÙÇó ÃáÕ³ñÏí³Í áã å»ï³Ï³Ý å³ñï³ïáÙë»ñ` ÁÝÃ³óÇÏ (շուկայական) արժեքով | N10: úï³ñ»ñÏñÛ³ µ³ÝÏ»ñáõÙ µ³ÝÏ³ÛÇÝ Ñ³ßÇíÝ»ñ (³Û¹ ÃíáõÙ` ³ÝÏ³ÝËÇÏ áëÏáí) | P10: úï³ñ»ñÏñÛ³ µ³ÝÏ»ñáõÙ óå³Ñ³Ýç ³í³Ý¹Ý»ñ | R10: úï³ñ»ñÏñÛ³ µ³ÝÏ»ñáõÙ Å³ÙÏ»ï³ÛÇÝ ³í³Ý¹Ý»ñ | T10: ÐÐ Ï³½Ù³Ï»ñåáõÃÛáõÝÝ»ñÇ ³ñÅ»ÃÕÃ»ñ` ÁÝÃ³óÇÏ (ßáõÏ³Û³Ï³Ý) ³ñÅ»ùáí | V10: Ð³Û³ëï³ÝÇ Ð³Ýñ³å»ïáõÃÛ³Ý ï³ñ³ÍùáõÙ ·áñÍáÕ ýÇÝ³Ýë³Ï³Ý Ï³½Ù³Ï»ñåáõÃÛáõÝÝ»ñÇ ÏáÕÙÇó ÃáÕ³ñÏí³Í ³ñÅ»ÃÕÃ»ñ` ÁÝÃ³óÇÏ (ßáõÏ³Û³Ï³Ý) արժեքով | X10: ´³ÝÏ³ÛÇÝ Ñ³ßÇíÝ»ñ (³Û¹ ÃíáõÙ` ³ÝÏ³ÝËÇÏ áëÏáí) ÐÐ ï³ñ³ÍùáõÙ ·áñÍáÕ µ³ÝÏ»ñáõÙ | Z10: òå³Ñ³Ýç ³í³Ý¹Ý»ñ ÐÐ ï³ñ³ÍùáõÙ ·áñÍáÕ µ³ÝÏ»ñáõÙ | AB10: Ä³ÙÏ»ï³ÛÇÝ ³í³Ý¹Ý»ñ ÐÐ ï³ñ³ÍùáõÙ ·áñÍáÕ µ³ÝÏ»ñáõÙ | AD10: ÐÐ ï³ñ³ÍùáõÙ ·áñÍáÕ µ³ÝÏ»ñÇ ïñ³Ù³¹ñí³Í ÷áË³éáõÃÛáõÝÝ»ñ | AF10: ÐÐ ï³ñ³ÍùáõÙ ·áñÍáÕ ³å³Ñáí³·ñ³Ï³Ý ÁÝÏ»ñáõÃÛáõÝÝ»ñÇ ïñ³Ù³¹ñí³Í ÷áË³éáõÃÛáõÝÝ»ñ | AH10: ÐÐ ï³ñ³ÍùáõÙ ·áñÍáÕ Ý»ñ¹ñáõÙ³ÛÇÝ ÁÝÏ»ñáõÃÛáõÝÝ»ñÇ ïñ³Ù³¹ñí³Í ÷áË³éáõÃÛáõÝÝ»ñ | AJ10: ÐÐ ï³ñ³ÍùáõÙ ·áñÍáÕ í³ñÏ³ÛÇÝ Ï³½Ù³Ï»ñåáõÃÛáõÝÝ»ñÇÝ ïñ³Ù³¹ñí³Í ÷áË³éáõÃÛáõÝÝ»ñ | AL10: è»åá Ñ³Ù³Ó³ÛÝ³·ñ»ñáí Ó»éù µ»ñí³Í ³ñÅ»ÃÕÃ»ñ | AN10: Ü»ñ¹ñáõÙ³ÛÇÝ ýáÝ¹»ñÇ ÷³Û»ñ | AP10: î»ËÝÇÏ³Ï³Ý å³ÑáõëïÝ»ñÇ Ù»ÍáõÃÛáõÝ (Ýí³½»óñ³Í í»ñ³³å³Ñáí³·ñáÕÇ Ù³ëÝ³µ³ÅÝÇ ã³÷áí)
J11: (Ù»Ï ëáõµÛ»Ïïáí) | K11: (µáÉáñ ëáõµÛ»ÏïÝ»ñáí) | L11: (Ù»Ï ëáõµÛ»Ïïáí) | M11: (µáÉáñ ëáõµÛ»ÏïÝ»ñáí) | N11: (Ù»Ï ëáõµÛ»Ïïáí) | O11: (µáÉáñ ëáõµÛ»ÏïÝ»ñáí) | P11: (Ù»Ï ëáõµÛ»Ïïáí) | Q11: (µáÉáñ ëáõµÛ»ÏïÝ»ñáí) | R11: (Ù»Ï ëáõµÛ»Ïïáí) | S11: (µáÉáñ ëáõµÛ»ÏïÝ»ñáí) | T11: (Ù»Ï ëáõµÛ»Ïïáí) | U11: (µáÉáñ ëáõµÛ»ÏïÝ»ñáí) | V11: (Ù»Ï ëáõµÛ»Ïïáí) | W11: (µáÉáñ ëáõµÛ»ÏïÝ»ñáí) | X11: (Ù»Ï ëáõµÛ»Ïïáí) | Y11: (µáÉáñ ëáõµÛ»ÏïÝ»ñáí) | Z11: (Ù»Ï ëáõµÛ»Ïïáí) | AA11: (µáÉáñ ëáõµÛ»ÏïÝ»ñáí) | AB11: (Ù»Ï ëáõµÛ»Ïïáí) | AC11: (µáÉáñ ëáõµÛ»ÏïÝ»ñáí) | AD11: (Ù»Ï ëáõµÛ»Ïïáí) | AE11: (µáÉáñ ëáõµÛ»ÏïÝ»ñáí) | AF11: (Ù»Ï ëáõµÛ»Ïïáí) | AG11: (µáÉáñ ëáõµÛ»ÏïÝ»ñáí) | AH11: (Ù»Ï ëáõµÛ»Ïïáí) | AI11: (µáÉáñ ëáõµÛ»ÏïÝ»ñáí) | AJ11: (Ù»Ï ëáõµÛ»Ïïáí) | AK11: (µáÉáñ ëáõµÛ»ÏïÝ»ñáí) | AL11: (Ù»Ï ëáõµÛ»Ïïáí) | AM11: (µáÉáñ ëáõµÛ»ÏïÝ»ñáí) | AN11: (Ù»Ï ëáõµÛ»Ïïáí) | AO11: (µáÉáñ ëáõµÛ»ÏïÝ»ñáí)
C12: 1 | D12: 2 | E12: 3 | F12: 4 | G12: 5 | H12: 6 | I12: 7 | J12: 8 | K12: 9 | L12: 10 | M12: 11 | N12: 12 | O12: 13 | P12: 14 | Q12: 15 | R12: 16 | S12: 17 | T12: 18 | U12: 19 | V12: 20 | W12: 21 | X12: 22 | Y12: 23 | Z12: 24 | AA12: 25 | AB12: 26 | AC12: 27 | AD12: 28 | AE12: 29 | AF12: 30 | AG12: 31 | AH12: 32 | AI12: 33 | AJ12: 34 | AK12: 35 | AL12: 36 | AM12: 37 | AN12: 38 | AO12: 39 | AP12: 40
B13: 1
B14: 2
B15: 3
B16: 4
B17: 5
B18: 6
B19: 7
B20: 8
B21: 9
B22: 10
B23: 11
B24: 12
... B43: 31
B44: ²Ùëí³ ÁÝÃ³óùáõÙ ³é³í»É³·áõÛÝ Ñ³ñ³µ»ñ³ÏóáõÃÛáõÝ | C44: =MAX(C13:C43) -> 0 | D44: =MAX(D13:D43) -> 0 | E44: =MAX(E13:E43) -> 0 | F44: =MAX(F13:F43) -> 0 | G44: =MAX(G13:G43) -> 0 | H44: =MAX(H13:H43) -> 0 | I44: =MAX(I13:I43) -> 0 | J44: =MAX(J13:J43) -> 0 | ... AO44: =MAX(AO13:AO43) -> 0 | AP44: x
O46: ²å³Ñáí³·ñ³Ï³Ý ÁÝÏ»ñáõÃÛ³Ý í³ñãáõÃÛ³Ý Ý³Ë³·³Ñª | P46: =Sheet1!F44 -> 0
O47: (¶áñÍ³¹Çñ ïÝûñ»Ý)
O49: ¶ÉË³íáñ Ñ³ßí³å³Ñª | P49: =Sheet1!F47 -> 0

Sheet Sheet21
A4: ²ÔÚàôê²Î 25. Ü5 ÜàðØ²îÆìÆ Ð²Þì²ðÎÆ Øºæ ÀÜ¸¶ðÎìàÔ òàôò²ÜÆÞÜºðÆ Ð²Þì²ðÎ
E6: ²å³Ñáí³·ñ³Ï³Ý ÁÝÏ»ñáõÃÛ³Ý ³Ýí³ÝáõÙª | F6: =Company -> 0
E8: ²Ùë³ÃÇíª | F8: =Date -> 0
J9: (Ñ³½³ñ ¹ñ³Ù)
A10: Ð/Ð | B10: Î³½Ù³Ï»ñåáõÃÛ³Ý (÷áË³éáõÇ) ³Ýí³ÝáõÙÁ | C10: îñ³Ù³¹ñ³Í ÷áË³éáõÃÛáõÝÝ»ñ | D10: ²í³Ý¹Ý»ñ ¨ µ³ÝÏ³ÛÇÝ Ñ³ßÇíÝ»ñ | E10: ì³ñÏ³ÛÇÝ éÇëÏ å³ñáõÝ³ÏáÕ ³ñï³Ñ³ßí»Ïßé³ÛÇÝ Ñá¹í³ÍÝ»ñÇ ÙÝ³óáñ¹ | F10: è ï³ññÇ ³ÛÉ µ³Õ³¹ñÇãÝ»ñ | G10: îíÛ³É ÷áË³éáõÇ Ñ»ï ÷áËÏ³å³Ïóí³Í ³ÝÓ³Ýó ÁÝ¹h³Ýáõñ å³ñï³íáñáõÃÛáõÝÝ»ñÇ ·áõÙ³ñÁ | H10: ÀÝ¹³Ù»ÝÁ (2+3+4+5+6) | I10: ÐÝ³ñ³íáñ ÏáñáõëïÝ»ñÇ å³Ñáõëï | J10: Ü5 ÝáñÙ³ïÇíÇ Ñ³ßí³ñÏÙ³Ý Ù»ç ÁÝ¹·ñÏíáÕ Ù»ÍáõÃÛáõÝÁ (7-8)
B11: 1 | C11: 2 | D11: 3 | E11: 4 | F11: 5 | G11: 6 | H11: 7 | I11: 8 | J11: 9
A12: ÀÝ¹³Ù»ÝÁ | C12: =SUM(C13:C72) -> 0 | D12: =SUM(D13:D72) -> 0 | E12: =SUM(E13:E72) -> 0 | F12: =SUM(F13:F72) -> 0 | G12: =SUM(G13:G72) -> 0 | H12: =SUM(H13:H72) -> 0 | I12: =SUM(I13:I72) -> 0 | J12: =SUM(J13:J72) -> 0
A13: 1 | H13: =SUM(C13:G13) -> 0 | J13: =H13-I13 -> 0
A14: 2 | H14: =SUM(C14:G14) -> 0 | J14: =H14-I14 -> 0
A15: 3 | H15: =SUM(C15:G15) -> 0 | J15: =H15-I15 -> 0
A16: 4 | H16: =SUM(C16:G16) -> 0 | J16: =H16-I16 -> 0
A17: 5 | H17: =SUM(C17:G17) -> 0 | J17: =H17-I17 -> 0
A18: 6 | H18: =SUM(C18:G18) -> 0 | J18: =H18-I18 -> 0
A19: 7 | H19: =SUM(C19:G19) -> 0 | J19: =H19-I19 -> 0
A20: 8 | H20: =SUM(C20:G20) -> 0 | J20: =H20-I20 -> 0
A21: 9 | H21: =SUM(C21:G21) -> 0 | J21: =H21-I21 -> 0
A22: 10 | H22: =SUM(C22:G22) -> 0 | J22: =H22-I22 -> 0
A23: 11 | H23: =SUM(C23:G23) -> 0 | J23: =H23-I23 -> 0
A24: 12 | H24: =SUM(C24:G24) -> 0 | J24: =H24-I24 -> 0
... A72: 60 | H72: =SUM(C72:G72) -> 0 | J72: =H72-I72 -> 0
E75: ²å³Ñáí³·ñ³Ï³Ý ÁÝÏ»ñáõÃÛ³Ý í³ñãáõÃÛ³Ý Ý³Ë³·³Ñª
E76: (¶áñÍ³¹Çñ ïÝûñ»Ý) | F76: =Sheet1!F44 -> 0
E78: ¶ÉË³íáñ Ñ³ßí³å³Ñª | F78: =Sheet1!F47 -> 0
E80: ä³ï³ëË³Ý³ïáõ ³Ïïáõ³ñª | F80: =Sheet1!F49 -> 0

Sheet Sheet22
C2: ²ÔÚàôê²Î 26. ØºÎ öàÊ²èàôÆ Ðºî öàÊÎ²ä²Îòì²Ì ²ÜÒ²Üò ÜÎ²îØ²Ø´ àôÜºò²Ì ä²Ð²ÜæÜºð
E5: ²å³Ñáí³·ñ³Ï³Ý ÁÝÏ»ñáõÃÛ³Ý ³Ýí³ÝáõÙª | F5: =Company -> 0
E7: ²Ùë³ÃÇíª | F7: =Date -> 0
J9: (Ñ³½ար ¹ñ³Ù)
A10: Ð/Ð | B10: Î³½Ù³Ï»ñåáõÃÛ³Ý (÷áË³éáõÇ) ³Ýí³ÝáõÙÁ | C10: îíÛ³É ÷áË³éáõÇ Ñ»ï ÷áËÏ³å³Ïóí³Í ³ÝÓ³Ýó ³ÝáõÝÝ»ñÁ (³Ýí³ÝáõÙÝ»ñÁ) | D10: îñ³Ù³¹ñ³Í ÷áË³éáõÃÛáõÝÝ»ñ | E10: ²í³Ý¹Ý»ñ ¨ µ³ÝÏ³ÛÇÝ Ñ³ßÇíÝ»ñ | F10: ì³ñÏ³ÛÇÝ éÇëÏ å³ñáõÝ³ÏáÕ ³ñï³Ñ³ßí»Ïßé³ÛÇÝ Ñá¹í³ÍÝ»ñÇ ÙÝ³óáñ¹ | G10: è ï³ññÇ ³ÛÉ µ³Õ³¹ñÇãÝ»ñ | H10: ÀÝ¹³Ù»ÝÁ (3+4+5+6) | I10: ÐÝ³ñ³íáñ ÏáñáõëïÝ»ñÇ å³Ñáõëï | J10: ¶áõÙ³ñÁ (7-8)
B12: 1 | C12: 2 | D12: 3 | E12: 4 | F12: 5 | G12: 6 | H12: 7 | I12: 8 | J12: 9
A13: ÀÝ¹³Ù»ÝÁ | D13: =SUM(D14:D73) -> 0 | E13: =SUM(E14:E73) -> 0 | F13: =SUM(F14:F73) -> 0 | G13: =SUM(G14:G73) -> 0 | H13: =SUM(H14:H73) -> 0 | I13: =SUM(I14:I73) -> 0 | J13: =SUM(J14:J73) -> 0
A14: 1 | H14: =SUM(D14:G14) -> 0 | J14: =H14-I14 -> 0
A15: 2 | H15: =SUM(D15:G15) -> 0 | J15: =H15-I15 -> 0
A16: 3 | H16: =SUM(D16:G16) -> 0 | J16: =H16-I16 -> 0
A17: 4 | H17: =SUM(D17:G17) -> 0 | J17: =H17-I17 -> 0
A18: 5 | H18: =SUM(D18:G18) -> 0 | J18: =H18-I18 -> 0
A19: 6 | H19: =SUM(D19:G19) -> 0 | J19: =H19-I19 -> 0
A20: 7 | H20: =SUM(D20:G20) -> 0 | J20: =H20-I20 -> 0
A21: 8 | H21: =SUM(D21:G21) -> 0 | J21: =H21-I21 -> 0
A22: 9 | H22: =SUM(D22:G22) -> 0 | J22: =H22-I22 -> 0
A23: 10 | H23: =SUM(D23:G23) -> 0 | J23: =H23-I23 -> 0
A24: 11 | H24: =SUM(D24:G24) -> 0 | J24: =H24-I24 -> 0
A25: 12 | H25: =SUM(D25:G25) -> 0 | J25: =H25-I25 -> 0
... A73: 60 | H73: =SUM(D73:G73) -> 0 | J73: =H73-I73 -> 0
E77: ²å³Ñáí³·ñ³Ï³Ý ÁÝÏ»ñáõÃÛ³Ý í³ñãáõÃÛ³Ý Ý³Ë³·³Ñª | F77: =Sheet1!F44 -> 0
E78: (¶áñÍ³¹Çñ ïÝûñ»Ý)
E80: ¶ÉË³íáñ Ñ³ßí³å³Ñª | F80: =Sheet1!F47 -> 0
E82: ä³ï³ëË³Ý³ïáõ ³Ïïáõ³ñª | F82: =Sheet1!F49 -> 0
J89: ¿ç 2

Sheet Sheet23
B3: ²ñï³ñÅáõÛÃÇ ïÝûñÇÝÙ³Ý ÝáñÙ³ïÇíÇ Ñ³ßí³ñÏ
D6: ²å³Ñáí³·ñ³Ï³Ý ÁÝÏ»ñáõÃÛ³Ý ³Ýí³ÝáõÙÁ | E6: =Company -> 0
C8: ²Ùë³ÃÇíÁ | E8: Ã.-Çó ÙÇÝã¨
B12: ²ÕÛáõë³Ï 27. ²ñï³ñÅáõÃ³ÛÇÝ ¹ÇñùÇ ÝáñÙ³ïÇíÇ Ñ³ßí³ñÏ (²Í³ÝóÛ³É ·áñÍÇùÝ»ñáí) | G12: (Ñ³½. ¹ñ³Ù)
C14: ²ñï³ñÅáõÃ³ÛÇÝ ¹ÇñùÇ Ù»ÍáõÃÛáõÝÝ ûñí³ í»ñçÇ ¹ñáõÃÛ³Ùµ | F14: Ü6.1 ÝáñÙ³ïÇíÇ ë³ÑÙ³Ý³ã³÷ | G14: î³ñµ»ñáõÃÛáõÝÁ (+ / -) (4-5)
C15: I ³ñï³ñÅáõÃ³ÛÇÝ ËÙµÇ Ñ³Ù³Ë³éÝ ¹Çñù | D15: II ³ñï³ñÅáõÃ³ÛÇÝ ËÙµÇ Ñ³Ù³Ë³éÝ ¹Çñù | E15: ²ñï³ñÅáõÃ³ÛÇÝ Ñ³Ù³Ë³éÝ ¹Çñù
B17: 1 | C17: 2 | D17: 3 | E17: 4 | F17: 5 | G17: 6
B18: 1 | E18: =C18+D18 -> 0 | F18: =Sheet2!L12*10% -> 0 | G18: =E18-F18 -> 0
B19: 2 | E19: =C19+D19 -> 0 | F19: =Sheet2!L13*10% -> 0 | G19: =E19-F19 -> 0
B20: 3 | E20: =C20+D20 -> 0 | F20: =Sheet2!L14*10% -> 0 | G20: =E20-F20 -> 0
B21: 4 | E21: =C21+D21 -> 0 | F21: =Sheet2!L15*10% -> 0 | G21: =E21-F21 -> 0
B22: 5 | E22: =C22+D22 -> 0 | F22: =Sheet2!L16*10% -> 0 | G22: =E22-F22 -> 0
B23: 6 | E23: =C23+D23 -> 0 | F23: =Sheet2!L17*10% -> 0 | G23: =E23-F23 -> 0
B24: 7 | E24: =C24+D24 -> 0 | F24: =Sheet2!L18*10% -> 0 | G24: =E24-F24 -> 0
B25: 8 | E25: =C25+D25 -> 0 | F25: =Sheet2!L19*10% -> 0 | G25: =E25-F25 -> 0
B26: 9 | E26: =C26+D26 -> 0 | F26: =Sheet2!L20*10% -> 0 | G26: =E26-F26 -> 0
B27: 10 | E27: =C27+D27 -> 0 | F27: =Sheet2!L21*10% -> 0 | G27: =E27-F27 -> 0
B28: 11 | E28: =C28+D28 -> 0 | F28: =Sheet2!L22*10% -> 0 | G28: =E28-F28 -> 0
B29: 12 | E29: =C29+D29 -> 0 | F29: =Sheet2!L23*10% -> 0 | G29: =E29-F29 -> 0
... B48: 31 | E48: =C48+D48 -> 0 | F48: =Sheet2!L42*10% -> 0 | G48: =E48-F48 -> 0
B50: ²ÕÛáõë³Ï 28. ²ñï³ñÅáõÃ³ÛÇÝ ¹ÇñùÇ ÝáñÙ³ïÇíÇ Ñ³ßí³ñÏ (²é³Ýó ³Í³ÝóÛ³É ·áñÍÇùÝ»ñÇ)
C52: ²ñï³ñÅáõÃ³ÛÇÝ ¹ÇñùÇ Ù»ÍáõÃÛáõÝÝ ûñí³ í»ñçÇ ¹ñáõÃÛ³Ùµ | F52: Ü6.1 ÝáñÙ³ïÇíÇ ë³ÑÙ³Ý³ã³÷ | G52: î³ñµ»ñáõÃÛáõÝÁ (+ / -) (4-5)
C53: I ³ñï³ñÅáõÃ³ÛÇÝ ËÙµÇ Ñ³Ù³Ë³éÝ ¹Çñù | D53: II ³ñï³ñÅáõÃ³ÛÇÝ ËÙµÇ Ñ³Ù³Ë³éÝ ¹Çñù | E53: ²ñï³ñÅáõÃ³ÛÇÝ Ñ³Ù³Ë³éÝ ¹Çñù
B55: 1 | C55: 2 | D55: 3 | E55: 4 | F55: 5 | G55: 6
B56: 1 | E56: =C56+D56 -> 0 | F56: =Sheet2!L12*10% -> 0 | G56: =E56-F56 -> 0
B57: 2 | E57: =C57+D57 -> 0 | F57: =Sheet2!L13*10% -> 0 | G57: =E57-F57 -> 0
B58: 3 | E58: =C58+D58 -> 0 | F58: =Sheet2!L14*10% -> 0 | G58: =E58-F58 -> 0
B59: 4 | E59: =C59+D59 -> 0 | F59: =Sheet2!L15*10% -> 0 | G59: =E59-F59 -> 0
B60: 5 | E60: =C60+D60 -> 0 | F60: =Sheet2!L16*10% -> 0 | G60: =E60-F60 -> 0
B61: 6 | E61: =C61+D61 -> 0 | F61: =Sheet2!L17*10% -> 0 | G61: =E61-F61 -> 0
B62: 7 | E62: =C62+D62 -> 0 | F62: =Sheet2!L18*10% -> 0 | G62: =E62-F62 -> 0
B63: 8 | E63: =C63+D63 -> 0 | F63: =Sheet2!L19*10% -> 0 | G63: =E63-F63 -> 0
B64: 9 | E64: =C64+D64 -> 0 | F64: =Sheet2!L20*10% -> 0 | G64: =E64-F64 -> 0
B65: 10 | E65: =C65+D65 -> 0 | F65: =Sheet2!L21*10% -> 0 | G65: =E65-F65 -> 0
B66: 11 | E66: =C66+D66 -> 0 | F66: =Sheet2!L22*10% -> 0 | G66: =E66-F66 -> 0
B67: 12 | E67: =C67+D67 -> 0 | F67: =Sheet2!L23*10% -> 0 | G67: =E67-F67 -> 0
... B86: 31 | E86: =C86+D86 -> 0 | F86: =Sheet2!L42*10% -> 0 | G86: =E86-F86 -> 0
B88: ²ÕÛáõë³Ï 29. ²ñï³ñÅáõÃ³ÛÇÝ ¹ÇñùÇ ÝáñÙ³ïÇíÇ Ñ³ßí³ñÏ (Î³ÝáÝ³Ï³ñ· 3/02-Ç 45.3-ñ¹ Ï»ïáõÙ Ýßí³Í ³Í³ÝóÛ³É ·áñÍÇùÝ»ñáí)
C90: ²ñï³ñÅáõÃ³ÛÇÝ ¹ÇñùÇ Ù»ÍáõÃÛáõÝÝ ûñí³ í»ñçÇ ¹ñáõÃÛ³Ùµ | F90: Ü6.1 ÝáñÙ³ïÇíÇ ë³ÑÙ³Ý³ã³÷ | G90: î³ñµ»ñáõÃÛáõÝÁ (+ / -) (4-5)
C91: I ³ñï³ñÅáõÃ³ÛÇÝ ËÙµÇ Ñ³Ù³Ë³éÝ ¹Çñù | D91: II ³ñï³ñÅáõÃ³ÛÇÝ ËÙµÇ Ñ³Ù³Ë³éÝ ¹Çñù | E91: ²ñï³ñÅáõÃ³ÛÇÝ Ñ³Ù³Ë³éÝ ¹Çñù
B93: 1 | C93: 2 | D93: 3 | E93: 4 | F93: 5 | G93: 6
B94: 1 | E94: =C94+D94 -> 0 | F94: =Sheet2!L12*10% -> 0 | G94: =E94-F94 -> 0
B95: 2 | E95: =C95+D95 -> 0 | F95: =Sheet2!L13*10% -> 0 | G95: =E95-F95 -> 0
B96: 3 | E96: =C96+D96 -> 0 | F96: =Sheet2!L14*10% -> 0 | G96: =E96-F96 -> 0
B97: 4 | E97: =C97+D97 -> 0 | F97: =Sheet2!L15*10% -> 0 | G97: =E97-F97 -> 0
B98: 5 | E98: =C98+D98 -> 0 | F98: =Sheet2!L16*10% -> 0 | G98: =E98-F98 -> 0
B99: 6 | E99: =C99+D99 -> 0 | F99: =Sheet2!L17*10% -> 0 | G99: =E99-F99 -> 0
B100: 7 | E100: =C100+D100 -> 0 | F100: =Sheet2!L18*10% -> 0 | G100: =E100-F100 -> 0
B101: 8 | E101: =C101+D101 -> 0 | F101: =Sheet2!L19*10% -> 0 | G101: =E101-F101 -> 0
B102: 9 | E102: =C102+D102 -> 0 | F102: =Sheet2!L20*10% -> 0 | G102: =E102-F102 -> 0
B103: 10 | E103: =C103+D103 -> 0 | F103: =Sheet2!L21*10% -> 0 | G103: =E103-F103 -> 0
B104: 11 | E104: =C104+D104 -> 0 | F104: =Sheet2!L22*10% -> 0 | G104: =E104-F104 -> 0
B105: 12 | E105: =C105+D105 -> 0 | F105: =Sheet2!L23*10% -> 0 | G105: =E105-F105 -> 0
... B124: 31 | E124: =C124+D124 -> 0 | F124: =Sheet2!L42*10% -> 0 | G124: =E124-F124 -> 0
D128: ²å³Ñáí³·ñ³Ï³Ý ÁÝÏ»ñáõÃÛ³Ý í³ñãáõÃÛ³Ý Ý³Ë³·³Ñ` | E128: =Sheet1!F44 -> 0
D129: (¶áñÍ³¹Çñ ïÝûñ»Ý)
D131: ¶ÉË³íáñ Ñ³ßí³å³Ñ` | E131: =Sheet1!F47 -> 0
D133: ä³ï³ëË³Ý³ïáõ ³Ïïáõ³ñª | E133: =Sheet1!F49 -> 0

Sheet Sheet24
B2: ²ÕÛáõë³Ï 30.Àëï ³é³ÝÓÇÝ ³ñï³ñÅáõÃ³ÛÇÝ ¹ÇñùÇ ÝáñÙ³ïÇíÇ Ñ³ßí³ñÏ (²Í³ÝóÛ³É ·áñÍÇùÝ»ñáí)
D3: ²ØÜ ¹áÉ³ñ | E3: ²Ý·ÉÇ³Ï³Ý ýáõÝï ëï»éÉÇÝ· | F3: ºìðà | G3: èáõë³ëï³ÝÛ³Ý éáõµÉÇ | H3: ê¸è | I3: ´³ÝÏ³ÛÇÝ áëÏÇ | J3: Î³Ý³¹³Ï³Ý ¹áÉ³ñ | K3: ²íëïñ³ÉÇ³Ï³Ý ¹áÉ³ñ | L3: Þí»Ûó³ñ³Ï³Ý ýñ³ÝÏ | M3: ¸³ÝÇ³Ï³Ý ÏñáÝ | N3: Æñ³Ý³Ï³Ý éÇ³É | O3: Ö³åáÝ³Ï³Ý Ç»Ý | P3: ´áõÉÕ³ñ³Ï³Ý É»í | Q3: àõÏñ³ÇÝ³Ï³Ý ·ñÇíÝÛ³ | R3: àõ½µ»Ï³Ï³Ý ëáõÙ | S3: ´»Éáéáõë³Ï³Ý éáõµÉÇ | T3: î³çÇÏ³Ï³Ý ëáÙáÝÇ | U3: ÂáõñùÙ»Ý³Ï³Ý Ù³Ý³Ã | V3: ìñ³ó³Ï³Ý É³ñÇ | W3: ²ñ·»ÝïÇÝ³Ï³Ý å»ëá | X3: º·Çåï³Ï³Ý ýáõÝï | Y3: Âáõñù³Ï³Ý ÉÇñ³ | Z3: Æëñ³Û»É³Ï³Ý ß»ù»É | AA3: È»Ñ³Ï³Ý ½ÉáïÇ | AB3: ÈÇµ³Ý³ÝÛ³Ý ýáõÝï | AC3: ÐÝ¹Ï³Ï³Ý éáõ÷Ç | AD3: ÐáõÝ·³ñ³Ï³Ý ýáñÇÝï | AE3: Üáñí»·³Ï³Ý ÏñáÝ | AF3: Þí»¹³Ï³Ý ÏñáÝ | AG3: â»Ë³Ï³Ý ÏñáÝ³ | AH3: âÇÝ³Ï³Ý Ûáõ³Ý | AI3: êÇÝ·³åáõñÛ³Ý ¹áÉ³ñ | AJ3: êÉáí³ÏÛ³Ý ÏñáÝ³ | AK3: Ð³ñ³íÏáñ»³Ï³Ý íáÝ | AL3: ´ñ³½ÇÉ³Ï³Ý é»³É | AM3: Ø»ùëÇÏ³Ï³Ý å»ëá | AN3: ê³áõ¹. ²ñ³µ³Ï³Ý éÇ³É | AO3: êÇñÇ³Ï³Ý ýáõÝï | AP3: Ø²¾ ¹ÇñË³Ù | AQ3: øáõí»ÛÃÛ³Ý ¹ÇÝ³ñ | AR3: èáõÙÇÝ³Ï³Ý É»Û | AS3: ÆëÉ³Ý¹³Ï³Ý ÏñáÝ | AT3: ¾ëïáÝ³Ï³Ý ÏñáÝ | AU3: È³ïíÇ³Ï³Ý É³ï | AV3: ÈÇïí³Ï³Ý ÉÇï | AW3: ÔñÕñ½³Ï³Ý ëáÙ | AX3: Ô³½³Ë³Ï³Ý ï»Ý·» | AY3: ØáÉ¹áí³Ï³Ý É»Û | AZ3: äÉ³ïÇÝ» µ³ÝÏ³ÛÇÝ ëï³Ý¹³ñï³óí³Í ÓáõÉ³ÏïáñÝ»ñ | BA3: ²ñÍ³Ã» µ³ÝÏ³ÛÇÝ ëï³Ý¹³ñï³óí³Í ÓáõÉ³ÏïáñÝ»ñ | BB3: ²ÛÉ ³ñï³ñÅáõÛÃ 1 | BC3: ²ÛÉ ³ñï³ñÅáõÛÃ 2 | BD3: ²ÛÉ ³ñï³ñÅáõÛÃ 3
B4: 1 | C4: ²ñï³ñÅáõÃ³ÛÇÝ ¹ÇñùÇ Ù»ÍáõÃÛáõÝÝ ûñí³ í»ñçÇ ¹ñáõÃÛ³Ùµ
C5: Ü6.2 ÝáñÙ³ïÇíÇ ë³ÑÙ³Ý³ã³÷ | D5: =IF(D4="","",Sheet2!$L$12*7%) | E5: =IF(E4="","",Sheet2!$L$12*7%) | F5: =IF(F4="","",Sheet2!$L$12*7%) | G5: =IF(G4="","",Sheet2!$L$12*7%) | H5: =IF(H4="","",Sheet2!$L$12*7%) | I5: =IF(I4="","",Sheet2!$L$12*7%) | J5: =IF(J4="","",Sheet2!$L$12*7%) | K5: =IF(K4="","",Sheet2!$L$12*7%) | ... AS5: =IF(AS4="","",Sheet2!$L$12*7%) | AU5: =IF(AU4="","",Sheet2!$L$12*7%) | AV5: =IF(AV4="","",Sheet2!$L$12*7%) | AW5: =IF(AW4="","",Sheet2!$L$12*7%) | AX5: =IF(AX4="","",Sheet2!$L$12*7%) | AY5: =IF(AY4="","",Sheet2!$L$12*7%) | AZ5: =IF(AZ4="","",Sheet2!$L$12*7%) | BA5: =IF(BA4="","",Sheet2!$L$12*7%) | BB5: =IF(BB4="","",Sheet2!$L$12*7%) | ... BD5: =IF(BD4="","",Sheet2!$L$12*7%)
C6: î³ñµ»ñáõÃÛáõÝÁ (+ / -) | D6: =IF(D4="","",ABS(D4)-ABS(D5)) | E6: =IF(E4="","",ABS(E4)-ABS(E5)) | F6: =IF(F4="","",ABS(F4)-ABS(F5)) | G6: =IF(G4="","",ABS(G4)-ABS(G5)) | H6: =IF(H4="","",ABS(H4)-ABS(H5)) | I6: =IF(I4="","",ABS(I4)-ABS(I5)) | J6: =IF(J4="","",ABS(J4)-ABS(J5)) | K6: =IF(K4="","",ABS(K4)-ABS(K5)) | ... AS6: =IF(AS4="","",ABS(AS4)-ABS(AS5)) | AU6: =IF(AU4="","",ABS(AU4)-ABS(AU5)) | AV6: =IF(AV4="","",ABS(AV4)-ABS(AV5)) | AW6: =IF(AW4="","",ABS(AW4)-ABS(AW5)) | AX6: =IF(AX4="","",ABS(AX4)-ABS(AX5)) | AY6: =IF(AY4="","",ABS(AY4)-ABS(AY5)) | AZ6: =IF(AZ4="","",ABS(AZ4)-ABS(AZ5)) | BA6: =IF(BA4="","",ABS(BA4)-ABS(BA5)) | BB6: =IF(BB4="","",ABS(BB4)-ABS(BB5)) | ... BD6: =IF(BD4="","",ABS(BD4)-ABS(BD5))
B7: 2 | C7: ²ñï³ñÅáõÃ³ÛÇÝ ¹ÇñùÇ Ù»ÍáõÃÛáõÝÝ ûñí³ í»ñçÇ ¹ñáõÃÛ³Ùµ
C8: Ü6.2 ÝáñÙ³ïÇíÇ ë³ÑÙ³Ý³ã³÷ | D8: =IF(D7="","",Sheet2!$L$13*7%) | E8: =IF(E7="","",Sheet2!$L$13*7%) | F8: =IF(F7="","",Sheet2!$L$13*7%) | G8: =IF(G7="","",Sheet2!$L$13*7%) | H8: =IF(H7="","",Sheet2!$L$13*7%) | I8: =IF(I7="","",Sheet2!$L$13*7%) | J8: =IF(J7="","",Sheet2!$L$13*7%) | K8: =IF(K7="","",Sheet2!$L$13*7%) | ... AS8: =IF(AS7="","",Sheet2!$L$13*7%) | AU8: =IF(AU7="","",Sheet2!$L$13*7%) | AV8: =IF(AV7="","",Sheet2!$L$13*7%) | AW8: =IF(AW7="","",Sheet2!$L$13*7%) | AX8: =IF(AX7="","",Sheet2!$L$13*7%) | AY8: =IF(AY7="","",Sheet2!$L$13*7%) | AZ8: =IF(AZ7="","",Sheet2!$L$13*7%) | BA8: =IF(BA7="","",Sheet2!$L$13*7%) | BB8: =IF(BB7="","",Sheet2!$L$13*7%) | ... BD8: =IF(BD7="","",Sheet2!$L$13*7%)
C9: î³ñµ»ñáõÃÛáõÝÁ (+ / -) | D9: =IF(D7="","",ABS(D7)-ABS(D8)) | E9: =IF(E7="","",ABS(E7)-ABS(E8)) | F9: =IF(F7="","",ABS(F7)-ABS(F8)) | G9: =IF(G7="","",ABS(G7)-ABS(G8)) | H9: =IF(H7="","",ABS(H7)-ABS(H8)) | I9: =IF(I7="","",ABS(I7)-ABS(I8)) | J9: =IF(J7="","",ABS(J7)-ABS(J8)) | K9: =IF(K7="","",ABS(K7)-ABS(K8)) | ... AS9: =IF(AS7="","",ABS(AS7)-ABS(AS8)) | AU9: =IF(AU7="","",ABS(AU7)-ABS(AU8)) | AV9: =IF(AV7="","",ABS(AV7)-ABS(AV8)) | AW9: =IF(AW7="","",ABS(AW7)-ABS(AW8)) | AX9: =IF(AX7="","",ABS(AX7)-ABS(AX8)) | AY9: =IF(AY7="","",ABS(AY7)-ABS(AY8)) | AZ9: =IF(AZ7="","",ABS(AZ7)-ABS(AZ8)) | BA9: =IF(BA7="","",ABS(BA7)-ABS(BA8)) | BB9: =IF(BB7="","",ABS(BB7)-ABS(BB8)) | ... BD9: =IF(BD7="","",ABS(BD7)-ABS(BD8))
B10: 3 | C10: ²ñï³ñÅáõÃ³ÛÇÝ ¹ÇñùÇ Ù»ÍáõÃÛáõÝÝ ûñí³ í»ñçÇ ¹ñáõÃÛ³Ùµ
C11: Ü6.2 ÝáñÙ³ïÇíÇ ë³ÑÙ³Ý³ã³÷ | D11: =IF(D10="","",Sheet2!$L$14*7%) | E11: =IF(E10="","",Sheet2!$L$14*7%) | F11: =IF(F10="","",Sheet2!$L$14*7%) | G11: =IF(G10="","",Sheet2!$L$14*7%) | H11: =IF(H10="","",Sheet2!$L$14*7%) | I11: =IF(I10="","",Sheet2!$L$14*7%) | J11: =IF(J10="","",Sheet2!$L$14*7%) | K11: =IF(K10="","",Sheet2!$L$14*7%) | ... AS11: =IF(AS10="","",Sheet2!$L$14*7%) | AU11: =IF(AU10="","",Sheet2!$L$14*7%) | AV11: =IF(AV10="","",Sheet2!$L$14*7%) | AW11: =IF(AW10="","",Sheet2!$L$14*7%) | AX11: =IF(AX10="","",Sheet2!$L$14*7%) | AY11: =IF(AY10="","",Sheet2!$L$14*7%) | AZ11: =IF(AZ10="","",Sheet2!$L$14*7%) | BA11: =IF(BA10="","",Sheet2!$L$14*7%) | BB11: =IF(BB10="","",Sheet2!$L$14*7%) | ... BD11: =IF(BD10="","",Sheet2!$L$14*7%)
C12: î³ñµ»ñáõÃÛáõÝÁ (+ / -) | D12: =IF(D10="","",ABS(D10)-ABS(D11)) | E12: =IF(E10="","",ABS(E10)-ABS(E11)) | F12: =IF(F10="","",ABS(F10)-ABS(F11)) | G12: =IF(G10="","",ABS(G10)-ABS(G11)) | H12: =IF(H10="","",ABS(H10)-ABS(H11)) | I12: =IF(I10="","",ABS(I10)-ABS(I11)) | J12: =IF(J10="","",ABS(J10)-ABS(J11)) | K12: =IF(K10="","",ABS(K10)-ABS(K11)) | ... AS12: =IF(AS10="","",ABS(AS10)-ABS(AS11)) | AU12: =IF(AU10="","",ABS(AU10)-ABS(AU11)) | AV12: =IF(AV10="","",ABS(AV10)-ABS(AV11)) | AW12: =IF(AW10="","",ABS(AW10)-ABS(AW11)) | AX12: =IF(AX10="","",ABS(AX10)-ABS(AX11)) | AY12: =IF(AY10="","",ABS(AY10)-ABS(AY11)) | AZ12: =IF(AZ10="","",ABS(AZ10)-ABS(AZ11)) | BA12: =IF(BA10="","",ABS(BA10)-ABS(BA11)) | BB12: =IF(BB10="","",ABS(BB10)-ABS(BB11)) | ... BD12: =IF(BD10="","",ABS(BD10)-ABS(BD11))
B13: 4 | C13: ²ñï³ñÅáõÃ³ÛÇÝ ¹ÇñùÇ Ù»ÍáõÃÛáõÝÝ ûñí³ í»ñçÇ ¹ñáõÃÛ³Ùµ
C14: Ü6.2 ÝáñÙ³ïÇíÇ ë³ÑÙ³Ý³ã³÷ | D14: =IF(D13="","",Sheet2!$L$15*7%) | E14: =IF(E13="","",Sheet2!$L$15*7%) | F14: =IF(F13="","",Sheet2!$L$15*7%) | G14: =IF(G13="","",Sheet2!$L$15*7%) | H14: =IF(H13="","",Sheet2!$L$15*7%) | I14: =IF(I13="","",Sheet2!$L$15*7%) | J14: =IF(J13="","",Sheet2!$L$15*7%) | K14: =IF(K13="","",Sheet2!$L$15*7%) | ... AS14: =IF(AS13="","",Sheet2!$L$15*7%) | AU14: =IF(AU13="","",Sheet2!$L$15*7%) | AV14: =IF(AV13="","",Sheet2!$L$15*7%) | AW14: =IF(AW13="","",Sheet2!$L$15*7%) | AX14: =IF(AX13="","",Sheet2!$L$15*7%) | AY14: =IF(AY13="","",Sheet2!$L$15*7%) | AZ14: =IF(AZ13="","",Sheet2!$L$15*7%) | BA14: =IF(BA13="","",Sheet2!$L$15*7%) | BB14: =IF(BB13="","",Sheet2!$L$15*7%) | ... BD14: =IF(BD13="","",Sheet2!$L$15*7%)
C15: î³ñµ»ñáõÃÛáõÝÁ (+ / -) | D15: =IF(D13="","",ABS(D13)-ABS(D14)) | E15: =IF(E13="","",ABS(E13)-ABS(E14)) | F15: =IF(F13="","",ABS(F13)-ABS(F14)) | G15: =IF(G13="","",ABS(G13)-ABS(G14)) | H15: =IF(H13="","",ABS(H13)-ABS(H14)) | I15: =IF(I13="","",ABS(I13)-ABS(I14)) | J15: =IF(J13="","",ABS(J13)-ABS(J14)) | K15: =IF(K13="","",ABS(K13)-ABS(K14)) | ... AS15: =IF(AS13="","",ABS(AS13)-ABS(AS14)) | AU15: =IF(AU13="","",ABS(AU13)-ABS(AU14)) | AV15: =IF(AV13="","",ABS(AV13)-ABS(AV14)) | AW15: =IF(AW13="","",ABS(AW13)-ABS(AW14)) | AX15: =IF(AX13="","",ABS(AX13)-ABS(AX14)) | AY15: =IF(AY13="","",ABS(AY13)-ABS(AY14)) | AZ15: =IF(AZ13="","",ABS(AZ13)-ABS(AZ14)) | BA15: =IF(BA13="","",ABS(BA13)-ABS(BA14)) | BB15: =IF(BB13="","",ABS(BB13)-ABS(BB14)) | ... BD15: =IF(BD13="","",ABS(BD13)-ABS(BD14))
B16: 5 | C16: ²ñï³ñÅáõÃ³ÛÇÝ ¹ÇñùÇ Ù»ÍáõÃÛáõÝÝ ûñí³ í»ñçÇ ¹ñáõÃÛ³Ùµ
C17: Ü6.2 ÝáñÙ³ïÇíÇ ë³ÑÙ³Ý³ã³÷ | D17: =IF(D16="","",Sheet2!$L$16*7%) | E17: =IF(E16="","",Sheet2!$L$16*7%) | F17: =IF(F16="","",Sheet2!$L$16*7%) | G17: =IF(G16="","",Sheet2!$L$16*7%) | H17: =IF(H16="","",Sheet2!$L$16*7%) | I17: =IF(I16="","",Sheet2!$L$16*7%) | J17: =IF(J16="","",Sheet2!$L$16*7%) | K17: =IF(K16="","",Sheet2!$L$16*7%) | ... AS17: =IF(AS16="","",Sheet2!$L$16*7%) | AU17: =IF(AU16="","",Sheet2!$L$16*7%) | AV17: =IF(AV16="","",Sheet2!$L$16*7%) | AW17: =IF(AW16="","",Sheet2!$L$16*7%) | AX17: =IF(AX16="","",Sheet2!$L$16*7%) | AY17: =IF(AY16="","",Sheet2!$L$16*7%) | AZ17: =IF(AZ16="","",Sheet2!$L$16*7%) | BA17: =IF(BA16="","",Sheet2!$L$16*7%) | BB17: =IF(BB16="","",Sheet2!$L$16*7%) | ... BD17: =IF(BD16="","",Sheet2!$L$16*7%)
C18: î³ñµ»ñáõÃÛáõÝÁ (+ / -) | D18: =IF(D16="","",ABS(D16)-ABS(D17)) | E18: =IF(E16="","",ABS(E16)-ABS(E17)) | F18: =IF(F16="","",ABS(F16)-ABS(F17)) | G18: =IF(G16="","",ABS(G16)-ABS(G17)) | H18: =IF(H16="","",ABS(H16)-ABS(H17)) | I18: =IF(I16="","",ABS(I16)-ABS(I17)) | J18: =IF(J16="","",ABS(J16)-ABS(J17)) | K18: =IF(K16="","",ABS(K16)-ABS(K17)) | ... AS18: =IF(AS16="","",ABS(AS16)-ABS(AS17)) | AU18: =IF(AU16="","",ABS(AU16)-ABS(AU17)) | AV18: =IF(AV16="","",ABS(AV16)-ABS(AV17)) | AW18: =IF(AW16="","",ABS(AW16)-ABS(AW17)) | AX18: =IF(AX16="","",ABS(AX16)-ABS(AX17)) | AY18: =IF(AY16="","",ABS(AY16)-ABS(AY17)) | AZ18: =IF(AZ16="","",ABS(AZ16)-ABS(AZ17)) | BA18: =IF(BA16="","",ABS(BA16)-ABS(BA17)) | BB18: =IF(BB16="","",ABS(BB16)-ABS(BB17)) | ... BD18: =IF(BD16="","",ABS(BD16)-ABS(BD17))
B19: 6 | C19: ²ñï³ñÅáõÃ³ÛÇÝ ¹ÇñùÇ Ù»ÍáõÃÛáõÝÝ ûñí³ í»ñçÇ ¹ñáõÃÛ³Ùµ
C20: Ü6.2 ÝáñÙ³ïÇíÇ ë³ÑÙ³Ý³ã³÷ | D20: =IF(D19="","",Sheet2!$L$17*7%) | E20: =IF(E19="","",Sheet2!$L$17*7%) | F20: =IF(F19="","",Sheet2!$L$17*7%) | G20: =IF(G19="","",Sheet2!$L$17*7%) | H20: =IF(H19="","",Sheet2!$L$17*7%) | I20: =IF(I19="","",Sheet2!$L$17*7%) | J20: =IF(J19="","",Sheet2!$L$17*7%) | K20: =IF(K19="","",Sheet2!$L$17*7%) | ... AS20: =IF(AS19="","",Sheet2!$L$17*7%) | AU20: =IF(AU19="","",Sheet2!$L$17*7%) | AV20: =IF(AV19="","",Sheet2!$L$17*7%) | AW20: =IF(AW19="","",Sheet2!$L$17*7%) | AX20: =IF(AX19="","",Sheet2!$L$17*7%) | AY20: =IF(AY19="","",Sheet2!$L$17*7%) | AZ20: =IF(AZ19="","",Sheet2!$L$17*7%) | BA20: =IF(BA19="","",Sheet2!$L$17*7%) | BB20: =IF(BB19="","",Sheet2!$L$17*7%) | ... BD20: =IF(BD19="","",Sheet2!$L$17*7%)
C21: î³ñµ»ñáõÃÛáõÝÁ (+ / -) | D21: =IF(D19="","",ABS(D19)-ABS(D20)) | E21: =IF(E19="","",ABS(E19)-ABS(E20)) | F21: =IF(F19="","",ABS(F19)-ABS(F20)) | G21: =IF(G19="","",ABS(G19)-ABS(G20)) | H21: =IF(H19="","",ABS(H19)-ABS(H20)) | I21: =IF(I19="","",ABS(I19)-ABS(I20)) | J21: =IF(J19="","",ABS(J19)-ABS(J20)) | K21: =IF(K19="","",ABS(K19)-ABS(K20)) | ... AS21: =IF(AS19="","",ABS(AS19)-ABS(AS20)) | AU21: =IF(AU19="","",ABS(AU19)-ABS(AU20)) | AV21: =IF(AV19="","",ABS(AV19)-ABS(AV20)) | AW21: =IF(AW19="","",ABS(AW19)-ABS(AW20)) | AX21: =IF(AX19="","",ABS(AX19)-ABS(AX20)) | AY21: =IF(AY19="","",ABS(AY19)-ABS(AY20)) | AZ21: =IF(AZ19="","",ABS(AZ19)-ABS(AZ20)) | BA21: =IF(BA19="","",ABS(BA19)-ABS(BA20)) | BB21: =IF(BB19="","",ABS(BB19)-ABS(BB20)) | ... BD21: =IF(BD19="","",ABS(BD19)-ABS(BD20))
B22: 7 | C22: ²ñï³ñÅáõÃ³ÛÇÝ ¹ÇñùÇ Ù»ÍáõÃÛáõÝÝ ûñí³ í»ñçÇ ¹ñáõÃÛ³Ùµ
C23: Ü6.2 ÝáñÙ³ïÇíÇ ë³ÑÙ³Ý³ã³÷ | D23: =IF(D22="","",Sheet2!$L$18*7%) | E23: =IF(E22="","",Sheet2!$L$18*7%) | F23: =IF(F22="","",Sheet2!$L$18*7%) | G23: =IF(G22="","",Sheet2!$L$18*7%) | H23: =IF(H22="","",Sheet2!$L$18*7%) | I23: =IF(I22="","",Sheet2!$L$18*7%) | J23: =IF(J22="","",Sheet2!$L$18*7%) | K23: =IF(K22="","",Sheet2!$L$18*7%) | ... AS23: =IF(AS22="","",Sheet2!$L$18*7%) | AU23: =IF(AU22="","",Sheet2!$L$18*7%) | AV23: =IF(AV22="","",Sheet2!$L$18*7%) | AW23: =IF(AW22="","",Sheet2!$L$18*7%) | AX23: =IF(AX22="","",Sheet2!$L$18*7%) | AY23: =IF(AY22="","",Sheet2!$L$18*7%) | AZ23: =IF(AZ22="","",Sheet2!$L$18*7%) | BA23: =IF(BA22="","",Sheet2!$L$18*7%) | BB23: =IF(BB22="","",Sheet2!$L$18*7%) | ... BD23: =IF(BD22="","",Sheet2!$L$18*7%)
C24: î³ñµ»ñáõÃÛáõÝÁ (+ / -) | D24: =IF(D22="","",ABS(D22)-ABS(D23)) | E24: =IF(E22="","",ABS(E22)-ABS(E23)) | F24: =IF(F22="","",ABS(F22)-ABS(F23)) | G24: =IF(G22="","",ABS(G22)-ABS(G23)) | H24: =IF(H22="","",ABS(H22)-ABS(H23)) | I24: =IF(I22="","",ABS(I22)-ABS(I23)) | J24: =IF(J22="","",ABS(J22)-ABS(J23)) | K24: =IF(K22="","",ABS(K22)-ABS(K23)) | ... AS24: =IF(AS22="","",ABS(AS22)-ABS(AS23)) | AU24: =IF(AU22="","",ABS(AU22)-ABS(AU23)) | AV24: =IF(AV22="","",ABS(AV22)-ABS(AV23)) | AW24: =IF(AW22="","",ABS(AW22)-ABS(AW23)) | AX24: =IF(AX22="","",ABS(AX22)-ABS(AX23)) | AY24: =IF(AY22="","",ABS(AY22)-ABS(AY23)) | AZ24: =IF(AZ22="","",ABS(AZ22)-ABS(AZ23)) | BA24: =IF(BA22="","",ABS(BA22)-ABS(BA23)) | BB24: =IF(BB22="","",ABS(BB22)-ABS(BB23)) | ... BD24: =IF(BD22="","",ABS(BD22)-ABS(BD23))
B25: 8 | C25: ²ñï³ñÅáõÃ³ÛÇÝ ¹ÇñùÇ Ù»ÍáõÃÛáõÝÝ ûñí³ í»ñçÇ ¹ñáõÃÛ³Ùµ
C26: Ü6.2 ÝáñÙ³ïÇíÇ ë³ÑÙ³Ý³ã³÷ | D26: =IF(D25="","",Sheet2!$L$19*7%) | E26: =IF(E25="","",Sheet2!$L$19*7%) | F26: =IF(F25="","",Sheet2!$L$19*7%) | G26: =IF(G25="","",Sheet2!$L$19*7%) | H26: =IF(H25="","",Sheet2!$L$19*7%) | I26: =IF(I25="","",Sheet2!$L$19*7%) | J26: =IF(J25="","",Sheet2!$L$19*7%) | K26: =IF(K25="","",Sheet2!$L$19*7%) | ... AS26: =IF(AS25="","",Sheet2!$L$19*7%) | AU26: =IF(AU25="","",Sheet2!$L$19*7%) | AV26: =IF(AV25="","",Sheet2!$L$19*7%) | AW26: =IF(AW25="","",Sheet2!$L$19*7%) | AX26: =IF(AX25="","",Sheet2!$L$19*7%) | AY26: =IF(AY25="","",Sheet2!$L$19*7%) | AZ26: =IF(AZ25="","",Sheet2!$L$19*7%) | BA26: =IF(BA25="","",Sheet2!$L$19*7%) | BB26: =IF(BB25="","",Sheet2!$L$19*7%) | ... BD26: =IF(BD25="","",Sheet2!$L$19*7%)
C27: î³ñµ»ñáõÃÛáõÝÁ (+ / -) | D27: =IF(D25="","",ABS(D25)-ABS(D26)) | E27: =IF(E25="","",ABS(E25)-ABS(E26)) | F27: =IF(F25="","",ABS(F25)-ABS(F26)) | G27: =IF(G25="","",ABS(G25)-ABS(G26)) | H27: =IF(H25="","",ABS(H25)-ABS(H26)) | I27: =IF(I25="","",ABS(I25)-ABS(I26)) | J27: =IF(J25="","",ABS(J25)-ABS(J26)) | K27: =IF(K25="","",ABS(K25)-ABS(K26)) | ... AS27: =IF(AS25="","",ABS(AS25)-ABS(AS26)) | AU27: =IF(AU25="","",ABS(AU25)-ABS(AU26)) | AV27: =IF(AV25="","",ABS(AV25)-ABS(AV26)) | AW27: =IF(AW25="","",ABS(AW25)-ABS(AW26)) | AX27: =IF(AX25="","",ABS(AX25)-ABS(AX26)) | AY27: =IF(AY25="","",ABS(AY25)-ABS(AY26)) | AZ27: =IF(AZ25="","",ABS(AZ25)-ABS(AZ26)) | BA27: =IF(BA25="","",ABS(BA25)-ABS(BA26)) | BB27: =IF(BB25="","",ABS(BB25)-ABS(BB26)) | ... BD27: =IF(BD25="","",ABS(BD25)-ABS(BD26))
B28: 9 | C28: ²ñï³ñÅáõÃ³ÛÇÝ ¹ÇñùÇ Ù»ÍáõÃÛáõÝÝ ûñí³ í»ñçÇ ¹ñáõÃÛ³Ùµ
C29: Ü6.2 ÝáñÙ³ïÇíÇ ë³ÑÙ³Ý³ã³÷ | D29: =IF(D28="","",Sheet2!$L$20*7%) | E29: =IF(E28="","",Sheet2!$L$20*7%) | F29: =IF(F28="","",Sheet2!$L$20*7%) | G29: =IF(G28="","",Sheet2!$L$20*7%) | H29: =IF(H28="","",Sheet2!$L$20*7%) | I29: =IF(I28="","",Sheet2!$L$20*7%) | J29: =IF(J28="","",Sheet2!$L$20*7%) | K29: =IF(K28="","",Sheet2!$L$20*7%) | ... AS29: =IF(AS28="","",Sheet2!$L$20*7%) | AU29: =IF(AU28="","",Sheet2!$L$20*7%) | AV29: =IF(AV28="","",Sheet2!$L$20*7%) | AW29: =IF(AW28="","",Sheet2!$L$20*7%) | AX29: =IF(AX28="","",Sheet2!$L$20*7%) | AY29: =IF(AY28="","",Sheet2!$L$20*7%) | AZ29: =IF(AZ28="","",Sheet2!$L$20*7%) | BA29: =IF(BA28="","",Sheet2!$L$20*7%) | BB29: =IF(BB28="","",Sheet2!$L$20*7%) | ... BD29: =IF(BD28="","",Sheet2!$L$20*7%)
C30: î³ñµ»ñáõÃÛáõÝÁ (+ / -) | D30: =IF(D28="","",ABS(D28)-ABS(D29)) | E30: =IF(E28="","",ABS(E28)-ABS(E29)) | F30: =IF(F28="","",ABS(F28)-ABS(F29)) | G30: =IF(G28="","",ABS(G28)-ABS(G29)) | H30: =IF(H28="","",ABS(H28)-ABS(H29)) | I30: =IF(I28="","",ABS(I28)-ABS(I29)) | J30: =IF(J28="","",ABS(J28)-ABS(J29)) | K30: =IF(K28="","",ABS(K28)-ABS(K29)) | ... AS30: =IF(AS28="","",ABS(AS28)-ABS(AS29)) | AU30: =IF(AU28="","",ABS(AU28)-ABS(AU29)) | AV30: =IF(AV28="","",ABS(AV28)-ABS(AV29)) | AW30: =IF(AW28="","",ABS(AW28)-ABS(AW29)) | AX30: =IF(AX28="","",ABS(AX28)-ABS(AX29)) | AY30: =IF(AY28="","",ABS(AY28)-ABS(AY29)) | AZ30: =IF(AZ28="","",ABS(AZ28)-ABS(AZ29)) | BA30: =IF(BA28="","",ABS(BA28)-ABS(BA29)) | BB30: =IF(BB28="","",ABS(BB28)-ABS(BB29)) | ... BD30: =IF(BD28="","",ABS(BD28)-ABS(BD29))
B31: 10 | C31: ²ñï³ñÅáõÃ³ÛÇÝ ¹ÇñùÇ Ù»ÍáõÃÛáõÝÝ ûñí³ í»ñçÇ ¹ñáõÃÛ³Ùµ
C32: Ü6.2 ÝáñÙ³ïÇíÇ ë³ÑÙ³Ý³ã³÷ | D32: =IF(D31="","",Sheet2!$L$21*7%) | E32: =IF(E31="","",Sheet2!$L$21*7%) | F32: =IF(F31="","",Sheet2!$L$21*7%) | G32: =IF(G31="","",Sheet2!$L$21*7%) | H32: =IF(H31="","",Sheet2!$L$21*7%) | I32: =IF(I31="","",Sheet2!$L$21*7%) | J32: =IF(J31="","",Sheet2!$L$21*7%) | K32: =IF(K31="","",Sheet2!$L$21*7%) | ... AS32: =IF(AS31="","",Sheet2!$L$21*7%) | AU32: =IF(AU31="","",Sheet2!$L$21*7%) | AV32: =IF(AV31="","",Sheet2!$L$21*7%) | AW32: =IF(AW31="","",Sheet2!$L$21*7%) | AX32: =IF(AX31="","",Sheet2!$L$21*7%) | AY32: =IF(AY31="","",Sheet2!$L$21*7%) | AZ32: =IF(AZ31="","",Sheet2!$L$21*7%) | BA32: =IF(BA31="","",Sheet2!$L$21*7%) | BB32: =IF(BB31="","",Sheet2!$L$21*7%) | ... BD32: =IF(BD31="","",Sheet2!$L$21*7%)
C33: î³ñµ»ñáõÃÛáõÝÁ (+ / -) | D33: =IF(D31="","",ABS(D31)-ABS(D32)) | E33: =IF(E31="","",ABS(E31)-ABS(E32)) | F33: =IF(F31="","",ABS(F31)-ABS(F32)) | G33: =IF(G31="","",ABS(G31)-ABS(G32)) | H33: =IF(H31="","",ABS(H31)-ABS(H32)) | I33: =IF(I31="","",ABS(I31)-ABS(I32)) | J33: =IF(J31="","",ABS(J31)-ABS(J32)) | K33: =IF(K31="","",ABS(K31)-ABS(K32)) | ... AS33: =IF(AS31="","",ABS(AS31)-ABS(AS32)) | AU33: =IF(AU31="","",ABS(AU31)-ABS(AU32)) | AV33: =IF(AV31="","",ABS(AV31)-ABS(AV32)) | AW33: =IF(AW31="","",ABS(AW31)-ABS(AW32)) | AX33: =IF(AX31="","",ABS(AX31)-ABS(AX32)) | AY33: =IF(AY31="","",ABS(AY31)-ABS(AY32)) | AZ33: =IF(AZ31="","",ABS(AZ31)-ABS(AZ32)) | BA33: =IF(BA31="","",ABS(BA31)-ABS(BA32)) | BB33: =IF(BB31="","",ABS(BB31)-ABS(BB32)) | ... BD33: =IF(BD31="","",ABS(BD31)-ABS(BD32))
B34: 11 | C34: ²ñï³ñÅáõÃ³ÛÇÝ ¹ÇñùÇ Ù»ÍáõÃÛáõÝÝ ûñí³ í»ñçÇ ¹ñáõÃÛ³Ùµ
C35: Ü6.2 ÝáñÙ³ïÇíÇ ë³ÑÙ³Ý³ã³÷ | D35: =IF(D34="","",Sheet2!$L$22*7%) | E35: =IF(E34="","",Sheet2!$L$22*7%) | F35: =IF(F34="","",Sheet2!$L$22*7%) | G35: =IF(G34="","",Sheet2!$L$22*7%) | H35: =IF(H34="","",Sheet2!$L$22*7%) | I35: =IF(I34="","",Sheet2!$L$22*7%) | J35: =IF(J34="","",Sheet2!$L$22*7%) | K35: =IF(K34="","",Sheet2!$L$22*7%) | ... AS35: =IF(AS34="","",Sheet2!$L$22*7%) | AU35: =IF(AU34="","",Sheet2!$L$22*7%) | AV35: =IF(AV34="","",Sheet2!$L$22*7%) | AW35: =IF(AW34="","",Sheet2!$L$22*7%) | AX35: =IF(AX34="","",Sheet2!$L$22*7%) | AY35: =IF(AY34="","",Sheet2!$L$22*7%) | AZ35: =IF(AZ34="","",Sheet2!$L$22*7%) | BA35: =IF(BA34="","",Sheet2!$L$22*7%) | BB35: =IF(BB34="","",Sheet2!$L$22*7%) | ... BD35: =IF(BD34="","",Sheet2!$L$22*7%)
C36: î³ñµ»ñáõÃÛáõÝÁ (+ / -) | D36: =IF(D34="","",ABS(D34)-ABS(D35)) | E36: =IF(E34="","",ABS(E34)-ABS(E35)) | F36: =IF(F34="","",ABS(F34)-ABS(F35)) | G36: =IF(G34="","",ABS(G34)-ABS(G35)) | H36: =IF(H34="","",ABS(H34)-ABS(H35)) | I36: =IF(I34="","",ABS(I34)-ABS(I35)) | J36: =IF(J34="","",ABS(J34)-ABS(J35)) | K36: =IF(K34="","",ABS(K34)-ABS(K35)) | ... AS36: =IF(AS34="","",ABS(AS34)-ABS(AS35)) | AU36: =IF(AU34="","",ABS(AU34)-ABS(AU35)) | AV36: =IF(AV34="","",ABS(AV34)-ABS(AV35)) | AW36: =IF(AW34="","",ABS(AW34)-ABS(AW35)) | AX36: =IF(AX34="","",ABS(AX34)-ABS(AX35)) | AY36: =IF(AY34="","",ABS(AY34)-ABS(AY35)) | AZ36: =IF(AZ34="","",ABS(AZ34)-ABS(AZ35)) | BA36: =IF(BA34="","",ABS(BA34)-ABS(BA35)) | BB36: =IF(BB34="","",ABS(BB34)-ABS(BB35)) | ... BD36: =IF(BD34="","",ABS(BD34)-ABS(BD35))
B37: 12 | C37: ²ñï³ñÅáõÃ³ÛÇÝ ¹ÇñùÇ Ù»ÍáõÃÛáõÝÝ ûñí³ í»ñçÇ ¹ñáõÃÛ³Ùµ
C38: Ü6.2 ÝáñÙ³ïÇíÇ ë³ÑÙ³Ý³ã³÷ | D38: =IF(D37="","",Sheet2!$L$23*7%) | E38: =IF(E37="","",Sheet2!$L$23*7%) | F38: =IF(F37="","",Sheet2!$L$23*7%) | G38: =IF(G37="","",Sheet2!$L$23*7%) | H38: =IF(H37="","",Sheet2!$L$23*7%) | I38: =IF(I37="","",Sheet2!$L$23*7%) | J38: =IF(J37="","",Sheet2!$L$23*7%) | K38: =IF(K37="","",Sheet2!$L$23*7%) | ... AS38: =IF(AS37="","",Sheet2!$L$23*7%) | AU38: =IF(AU37="","",Sheet2!$L$23*7%) | AV38: =IF(AV37="","",Sheet2!$L$23*7%) | AW38: =IF(AW37="","",Sheet2!$L$23*7%) | AX38: =IF(AX37="","",Sheet2!$L$23*7%) | AY38: =IF(AY37="","",Sheet2!$L$23*7%) | AZ38: =IF(AZ37="","",Sheet2!$L$23*7%) | BA38: =IF(BA37="","",Sheet2!$L$23*7%) | BB38: =IF(BB37="","",Sheet2!$L$23*7%) | ... BD38: =IF(BD37="","",Sheet2!$L$23*7%)
C39: î³ñµ»ñáõÃÛáõÝÁ (+ / -) | D39: =IF(D37="","",ABS(D37)-ABS(D38)) | E39: =IF(E37="","",ABS(E37)-ABS(E38)) | F39: =IF(F37="","",ABS(F37)-ABS(F38)) | G39: =IF(G37="","",ABS(G37)-ABS(G38)) | H39: =IF(H37="","",ABS(H37)-ABS(H38)) | I39: =IF(I37="","",ABS(I37)-ABS(I38)) | J39: =IF(J37="","",ABS(J37)-ABS(J38)) | K39: =IF(K37="","",ABS(K37)-ABS(K38)) | ... AS39: =IF(AS37="","",ABS(AS37)-ABS(AS38)) | AU39: =IF(AU37="","",ABS(AU37)-ABS(AU38)) | AV39: =IF(AV37="","",ABS(AV37)-ABS(AV38)) | AW39: =IF(AW37="","",ABS(AW37)-ABS(AW38)) | AX39: =IF(AX37="","",ABS(AX37)-ABS(AX38)) | AY39: =IF(AY37="","",ABS(AY37)-ABS(AY38)) | AZ39: =IF(AZ37="","",ABS(AZ37)-ABS(AZ38)) | BA39: =IF(BA37="","",ABS(BA37)-ABS(BA38)) | BB39: =IF(BB37="","",ABS(BB37)-ABS(BB38)) | ... BD39: =IF(BD37="","",ABS(BD37)-ABS(BD38))
B40: 13 | C40: ²ñï³ñÅáõÃ³ÛÇÝ ¹ÇñùÇ Ù»ÍáõÃÛáõÝÝ ûñí³ í»ñçÇ ¹ñáõÃÛ³Ùµ
C41: Ü6.2 ÝáñÙ³ïÇíÇ ë³ÑÙ³Ý³ã³÷ | D41: =IF(D40="","",Sheet2!$L$24*7%) | E41: =IF(E40="","",Sheet2!$L$24*7%) | F41: =IF(F40="","",Sheet2!$L$24*7%) | G41: =IF(G40="","",Sheet2!$L$24*7%) | H41: =IF(H40="","",Sheet2!$L$24*7%) | I41: =IF(I40="","",Sheet2!$L$24*7%) | J41: =IF(J40="","",Sheet2!$L$24*7%) | K41: =IF(K40="","",Sheet2!$L$24*7%) | ... AS41: =IF(AS40="","",Sheet2!$L$24*7%) | AU41: =IF(AU40="","",Sheet2!$L$24*7%) | AV41: =IF(AV40="","",Sheet2!$L$24*7%) | AW41: =IF(AW40="","",Sheet2!$L$24*7%) | AX41: =IF(AX40="","",Sheet2!$L$24*7%) | AY41: =IF(AY40="","",Sheet2!$L$24*7%) | AZ41: =IF(AZ40="","",Sheet2!$L$24*7%) | BA41: =IF(BA40="","",Sheet2!$L$24*7%) | BB41: =IF(BB40="","",Sheet2!$L$24*7%) | ... BD41: =IF(BD40="","",Sheet2!$L$24*7%)
C42: î³ñµ»ñáõÃÛáõÝÁ (+ / -) | D42: =IF(D40="","",ABS(D40)-ABS(D41)) | E42: =IF(E40="","",ABS(E40)-ABS(E41)) | F42: =IF(F40="","",ABS(F40)-ABS(F41)) | G42: =IF(G40="","",ABS(G40)-ABS(G41)) | H42: =IF(H40="","",ABS(H40)-ABS(H41)) | I42: =IF(I40="","",ABS(I40)-ABS(I41)) | J42: =IF(J40="","",ABS(J40)-ABS(J41)) | K42: =IF(K40="","",ABS(K40)-ABS(K41)) | ... AS42: =IF(AS40="","",ABS(AS40)-ABS(AS41)) | AU42: =IF(AU40="","",ABS(AU40)-ABS(AU41)) | AV42: =IF(AV40="","",ABS(AV40)-ABS(AV41)) | AW42: =IF(AW40="","",ABS(AW40)-ABS(AW41)) | AX42: =IF(AX40="","",ABS(AX40)-ABS(AX41)) | AY42: =IF(AY40="","",ABS(AY40)-ABS(AY41)) | AZ42: =IF(AZ40="","",ABS(AZ40)-ABS(AZ41)) | BA42: =IF(BA40="","",ABS(BA40)-ABS(BA41)) | BB42: =IF(BB40="","",ABS(BB40)-ABS(BB41)) | ... BD42: =IF(BD40="","",ABS(BD40)-ABS(BD41))
B43: 14 | C43: ²ñï³ñÅáõÃ³ÛÇÝ ¹ÇñùÇ Ù»ÍáõÃÛáõÝÝ ûñí³ í»ñçÇ ¹ñáõÃÛ³Ùµ
C44: Ü6.2 ÝáñÙ³ïÇíÇ ë³ÑÙ³Ý³ã³÷ | D44: =IF(D43="","",Sheet2!$L$25*7%) | E44: =IF(E43="","",Sheet2!$L$25*7%) | F44: =IF(F43="","",Sheet2!$L$25*7%) | G44: =IF(G43="","",Sheet2!$L$25*7%) | H44: =IF(H43="","",Sheet2!$L$25*7%) | I44: =IF(I43="","",Sheet2!$L$25*7%) | J44: =IF(J43="","",Sheet2!$L$25*7%) | K44: =IF(K43="","",Sheet2!$L$25*7%) | ... AS44: =IF(AS43="","",Sheet2!$L$25*7%) | AU44: =IF(AU43="","",Sheet2!$L$25*7%) | AV44: =IF(AV43="","",Sheet2!$L$25*7%) | AW44: =IF(AW43="","",Sheet2!$L$25*7%) | AX44: =IF(AX43="","",Sheet2!$L$25*7%) | AY44: =IF(AY43="","",Sheet2!$L$25*7%) | AZ44: =IF(AZ43="","",Sheet2!$L$25*7%) | BA44: =IF(BA43="","",Sheet2!$L$25*7%) | BB44: =IF(BB43="","",Sheet2!$L$25*7%) | ... BD44: =IF(BD43="","",Sheet2!$L$25*7%)
C45: î³ñµ»ñáõÃÛáõÝÁ (+ / -) | D45: =IF(D43="","",ABS(D43)-ABS(D44)) | E45: =IF(E43="","",ABS(E43)-ABS(E44)) | F45: =IF(F43="","",ABS(F43)-ABS(F44)) | G45: =IF(G43="","",ABS(G43)-ABS(G44)) | H45: =IF(H43="","",ABS(H43)-ABS(H44)) | I45: =IF(I43="","",ABS(I43)-ABS(I44)) | J45: =IF(J43="","",ABS(J43)-ABS(J44)) | K45: =IF(K43="","",ABS(K43)-ABS(K44)) | ... AS45: =IF(AS43="","",ABS(AS43)-ABS(AS44)) | AU45: =IF(AU43="","",ABS(AU43)-ABS(AU44)) | AV45: =IF(AV43="","",ABS(AV43)-ABS(AV44)) | AW45: =IF(AW43="","",ABS(AW43)-ABS(AW44)) | AX45: =IF(AX43="","",ABS(AX43)-ABS(AX44)) | AY45: =IF(AY43="","",ABS(AY43)-ABS(AY44)) | AZ45: =IF(AZ43="","",ABS(AZ43)-ABS(AZ44)) | BA45: =IF(BA43="","",ABS(BA43)-ABS(BA44)) | BB45: =IF(BB43="","",ABS(BB43)-ABS(BB44)) | ... BD45: =IF(BD43="","",ABS(BD43)-ABS(BD44))
B46: 15 | C46: ²ñï³ñÅáõÃ³ÛÇÝ ¹ÇñùÇ Ù»ÍáõÃÛáõÝÝ ûñí³ í»ñçÇ ¹ñáõÃÛ³Ùµ
C47: Ü6.2 ÝáñÙ³ïÇíÇ ë³ÑÙ³Ý³ã³÷ | D47: =IF(D46="","",Sheet2!$L$26*7%) | E47: =IF(E46="","",Sheet2!$L$26*7%) | F47: =IF(F46="","",Sheet2!$L$26*7%) | G47: =IF(G46="","",Sheet2!$L$26*7%) | H47: =IF(H46="","",Sheet2!$L$26*7%) | I47: =IF(I46="","",Sheet2!$L$26*7%) | J47: =IF(J46="","",Sheet2!$L$26*7%) | K47: =IF(K46="","",Sheet2!$L$26*7%) | ... AS47: =IF(AS46="","",Sheet2!$L$26*7%) | AU47: =IF(AU46="","",Sheet2!$L$26*7%) | AV47: =IF(AV46="","",Sheet2!$L$26*7%) | AW47: =IF(AW46="","",Sheet2!$L$26*7%) | AX47: =IF(AX46="","",Sheet2!$L$26*7%) | AY47: =IF(AY46="","",Sheet2!$L$26*7%) | AZ47: =IF(AZ46="","",Sheet2!$L$26*7%) | BA47: =IF(BA46="","",Sheet2!$L$26*7%) | BB47: =IF(BB46="","",Sheet2!$L$26*7%) | ... BD47: =IF(BD46="","",Sheet2!$L$26*7%)
C48: î³ñµ»ñáõÃÛáõÝÁ (+ / -) | D48: =IF(D46="","",ABS(D46)-ABS(D47)) | E48: =IF(E46="","",ABS(E46)-ABS(E47)) | F48: =IF(F46="","",ABS(F46)-ABS(F47)) | G48: =IF(G46="","",ABS(G46)-ABS(G47)) | H48: =IF(H46="","",ABS(H46)-ABS(H47)) | I48: =IF(I46="","",ABS(I46)-ABS(I47)) | J48: =IF(J46="","",ABS(J46)-ABS(J47)) | K48: =IF(K46="","",ABS(K46)-ABS(K47)) | ... AS48: =IF(AS46="","",ABS(AS46)-ABS(AS47)) | AU48: =IF(AU46="","",ABS(AU46)-ABS(AU47)) | AV48: =IF(AV46="","",ABS(AV46)-ABS(AV47)) | AW48: =IF(AW46="","",ABS(AW46)-ABS(AW47)) | AX48: =IF(AX46="","",ABS(AX46)-ABS(AX47)) | AY48: =IF(AY46="","",ABS(AY46)-ABS(AY47)) | AZ48: =IF(AZ46="","",ABS(AZ46)-ABS(AZ47)) | BA48: =IF(BA46="","",ABS(BA46)-ABS(BA47)) | BB48: =IF(BB46="","",ABS(BB46)-ABS(BB47)) | ... BD48: =IF(BD46="","",ABS(BD46)-ABS(BD47))
B49: 16 | C49: ²ñï³ñÅáõÃ³ÛÇÝ ¹ÇñùÇ Ù»ÍáõÃÛáõÝÝ ûñí³ í»ñçÇ ¹ñáõÃÛ³Ùµ
C50: Ü6.2 ÝáñÙ³ïÇíÇ ë³ÑÙ³Ý³ã³÷ | D50: =IF(D49="","",Sheet2!$L$27*7%) | E50: =IF(E49="","",Sheet2!$L$27*7%) | F50: =IF(F49="","",Sheet2!$L$27*7%) | G50: =IF(G49="","",Sheet2!$L$27*7%) | H50: =IF(H49="","",Sheet2!$L$27*7%) | I50: =IF(I49="","",Sheet2!$L$27*7%) | J50: =IF(J49="","",Sheet2!$L$27*7%) | K50: =IF(K49="","",Sheet2!$L$27*7%) | ... AS50: =IF(AS49="","",Sheet2!$L$27*7%) | AU50: =IF(AU49="","",Sheet2!$L$27*7%) | AV50: =IF(AV49="","",Sheet2!$L$27*7%) | AW50: =IF(AW49="","",Sheet2!$L$27*7%) | AX50: =IF(AX49="","",Sheet2!$L$27*7%) | AY50: =IF(AY49="","",Sheet2!$L$27*7%) | AZ50: =IF(AZ49="","",Sheet2!$L$27*7%) | BA50: =IF(BA49="","",Sheet2!$L$27*7%) | BB50: =IF(BB49="","",Sheet2!$L$27*7%) | ... BD50: =IF(BD49="","",Sheet2!$L$27*7%)
C51: î³ñµ»ñáõÃÛáõÝÁ (+ / -) | D51: =IF(D49="","",ABS(D49)-ABS(D50)) | E51: =IF(E49="","",ABS(E49)-ABS(E50)) | F51: =IF(F49="","",ABS(F49)-ABS(F50)) | G51: =IF(G49="","",ABS(G49)-ABS(G50)) | H51: =IF(H49="","",ABS(H49)-ABS(H50)) | I51: =IF(I49="","",ABS(I49)-ABS(I50)) | J51: =IF(J49="","",ABS(J49)-ABS(J50)) | K51: =IF(K49="","",ABS(K49)-ABS(K50)) | ... AS51: =IF(AS49="","",ABS(AS49)-ABS(AS50)) | AU51: =IF(AU49="","",ABS(AU49)-ABS(AU50)) | AV51: =IF(AV49="","",ABS(AV49)-ABS(AV50)) | AW51: =IF(AW49="","",ABS(AW49)-ABS(AW50)) | AX51: =IF(AX49="","",ABS(AX49)-ABS(AX50)) | AY51: =IF(AY49="","",ABS(AY49)-ABS(AY50)) | AZ51: =IF(AZ49="","",ABS(AZ49)-ABS(AZ50)) | BA51: =IF(BA49="","",ABS(BA49)-ABS(BA50)) | BB51: =IF(BB49="","",ABS(BB49)-ABS(BB50)) | ... BD51: =IF(BD49="","",ABS(BD49)-ABS(BD50))
B52: 17 | C52: ²ñï³ñÅáõÃ³ÛÇÝ ¹ÇñùÇ Ù»ÍáõÃÛáõÝÝ ûñí³ í»ñçÇ ¹ñáõÃÛ³Ùµ
C53: Ü6.2 ÝáñÙ³ïÇíÇ ë³ÑÙ³Ý³ã³÷ | D53: =IF(D52="","",Sheet2!$L$28*7%) | E53: =IF(E52="","",Sheet2!$L$28*7%) | F53: =IF(F52="","",Sheet2!$L$28*7%) | G53: =IF(G52="","",Sheet2!$L$28*7%) | H53: =IF(H52="","",Sheet2!$L$28*7%) | I53: =IF(I52="","",Sheet2!$L$28*7%) | J53: =IF(J52="","",Sheet2!$L$28*7%) | K53: =IF(K52="","",Sheet2!$L$28*7%) | ... AS53: =IF(AS52="","",Sheet2!$L$28*7%) | AU53: =IF(AU52="","",Sheet2!$L$28*7%) | AV53: =IF(AV52="","",Sheet2!$L$28*7%) | AW53: =IF(AW52="","",Sheet2!$L$28*7%) | AX53: =IF(AX52="","",Sheet2!$L$28*7%) | AY53: =IF(AY52="","",Sheet2!$L$28*7%) | AZ53: =IF(AZ52="","",Sheet2!$L$28*7%) | BA53: =IF(BA52="","",Sheet2!$L$28*7%) | BB53: =IF(BB52="","",Sheet2!$L$28*7%) | ... BD53: =IF(BD52="","",Sheet2!$L$28*7%)
C54: î³ñµ»ñáõÃÛáõÝÁ (+ / -) | D54: =IF(D52="","",ABS(D52)-ABS(D53)) | E54: =IF(E52="","",ABS(E52)-ABS(E53)) | F54: =IF(F52="","",ABS(F52)-ABS(F53)) | G54: =IF(G52="","",ABS(G52)-ABS(G53)) | H54: =IF(H52="","",ABS(H52)-ABS(H53)) | I54: =IF(I52="","",ABS(I52)-ABS(I53)) | J54: =IF(J52="","",ABS(J52)-ABS(J53)) | K54: =IF(K52="","",ABS(K52)-ABS(K53)) | ... AS54: =IF(AS52="","",ABS(AS52)-ABS(AS53)) | AU54: =IF(AU52="","",ABS(AU52)-ABS(AU53)) | AV54: =IF(AV52="","",ABS(AV52)-ABS(AV53)) | AW54: =IF(AW52="","",ABS(AW52)-ABS(AW53)) | AX54: =IF(AX52="","",ABS(AX52)-ABS(AX53)) | AY54: =IF(AY52="","",ABS(AY52)-ABS(AY53)) | AZ54: =IF(AZ52="","",ABS(AZ52)-ABS(AZ53)) | BA54: =IF(BA52="","",ABS(BA52)-ABS(BA53)) | BB54: =IF(BB52="","",ABS(BB52)-ABS(BB53)) | ... BD54: =IF(BD52="","",ABS(BD52)-ABS(BD53))
B55: 18 | C55: ²ñï³ñÅáõÃ³ÛÇÝ ¹ÇñùÇ Ù»ÍáõÃÛáõÝÝ ûñí³ í»ñçÇ ¹ñáõÃÛ³Ùµ
C56: Ü6.2 ÝáñÙ³ïÇíÇ ë³ÑÙ³Ý³ã³÷ | D56: =IF(D55="","",Sheet2!$L$29*7%) | E56: =IF(E55="","",Sheet2!$L$29*7%) | F56: =IF(F55="","",Sheet2!$L$29*7%) | G56: =IF(G55="","",Sheet2!$L$29*7%) | H56: =IF(H55="","",Sheet2!$L$29*7%) | I56: =IF(I55="","",Sheet2!$L$29*7%) | J56: =IF(J55="","",Sheet2!$L$29*7%) | K56: =IF(K55="","",Sheet2!$L$29*7%) | ... AS56: =IF(AS55="","",Sheet2!$L$29*7%) | AU56: =IF(AU55="","",Sheet2!$L$29*7%) | AV56: =IF(AV55="","",Sheet2!$L$29*7%) | AW56: =IF(AW55="","",Sheet2!$L$29*7%) | AX56: =IF(AX55="","",Sheet2!$L$29*7%) | AY56: =IF(AY55="","",Sheet2!$L$29*7%) | AZ56: =IF(AZ55="","",Sheet2!$L$29*7%) | BA56: =IF(BA55="","",Sheet2!$L$29*7%) | BB56: =IF(BB55="","",Sheet2!$L$29*7%) | ... BD56: =IF(BD55="","",Sheet2!$L$29*7%)
C57: î³ñµ»ñáõÃÛáõÝÁ (+ / -) | D57: =IF(D55="","",ABS(D55)-ABS(D56)) | E57: =IF(E55="","",ABS(E55)-ABS(E56)) | F57: =IF(F55="","",ABS(F55)-ABS(F56)) | G57: =IF(G55="","",ABS(G55)-ABS(G56)) | H57: =IF(H55="","",ABS(H55)-ABS(H56)) | I57: =IF(I55="","",ABS(I55)-ABS(I56)) | J57: =IF(J55="","",ABS(J55)-ABS(J56)) | K57: =IF(K55="","",ABS(K55)-ABS(K56)) | ... AS57: =IF(AS55="","",ABS(AS55)-ABS(AS56)) | AU57: =IF(AU55="","",ABS(AU55)-ABS(AU56)) | AV57: =IF(AV55="","",ABS(AV55)-ABS(AV56)) | AW57: =IF(AW55="","",ABS(AW55)-ABS(AW56)) | AX57: =IF(AX55="","",ABS(AX55)-ABS(AX56)) | AY57: =IF(AY55="","",ABS(AY55)-ABS(AY56)) | AZ57: =IF(AZ55="","",ABS(AZ55)-ABS(AZ56)) | BA57: =IF(BA55="","",ABS(BA55)-ABS(BA56)) | BB57: =IF(BB55="","",ABS(BB55)-ABS(BB56)) | ... BD57: =IF(BD55="","",ABS(BD55)-ABS(BD56))
B58: 19 | C58: ²ñï³ñÅáõÃ³ÛÇÝ ¹ÇñùÇ Ù»ÍáõÃÛáõÝÝ ûñí³ í»ñçÇ ¹ñáõÃÛ³Ùµ
C59: Ü6.2 ÝáñÙ³ïÇíÇ ë³ÑÙ³Ý³ã³÷ | D59: =IF(D58="","",Sheet2!$L$30*7%) | E59: =IF(E58="","",Sheet2!$L$30*7%) | F59: =IF(F58="","",Sheet2!$L$30*7%) | G59: =IF(G58="","",Sheet2!$L$30*7%) | H59: =IF(H58="","",Sheet2!$L$30*7%) | I59: =IF(I58="","",Sheet2!$L$30*7%) | J59: =IF(J58="","",Sheet2!$L$30*7%) | K59: =IF(K58="","",Sheet2!$L$30*7%) | ... AS59: =IF(AS58="","",Sheet2!$L$30*7%) | AU59: =IF(AU58="","",Sheet2!$L$30*7%) | AV59: =IF(AV58="","",Sheet2!$L$30*7%) | AW59: =IF(AW58="","",Sheet2!$L$30*7%) | AX59: =IF(AX58="","",Sheet2!$L$30*7%) | AY59: =IF(AY58="","",Sheet2!$L$30*7%) | AZ59: =IF(AZ58="","",Sheet2!$L$30*7%) | BA59: =IF(BA58="","",Sheet2!$L$30*7%) | BB59: =IF(BB58="","",Sheet2!$L$30*7%) | ... BD59: =IF(BD58="","",Sheet2!$L$30*7%)
C60: î³ñµ»ñáõÃÛáõÝÁ (+ / -) | D60: =IF(D58="","",ABS(D58)-ABS(D59)) | E60: =IF(E58="","",ABS(E58)-ABS(E59)) | F60: =IF(F58="","",ABS(F58)-ABS(F59)) | G60: =IF(G58="","",ABS(G58)-ABS(G59)) | H60: =IF(H58="","",ABS(H58)-ABS(H59)) | I60: =IF(I58="","",ABS(I58)-ABS(I59)) | J60: =IF(J58="","",ABS(J58)-ABS(J59)) | K60: =IF(K58="","",ABS(K58)-ABS(K59)) | ... AS60: =IF(AS58="","",ABS(AS58)-ABS(AS59)) | AU60: =IF(AU58="","",ABS(AU58)-ABS(AU59)) | AV60: =IF(AV58="","",ABS(AV58)-ABS(AV59)) | AW60: =IF(AW58="","",ABS(AW58)-ABS(AW59)) | AX60: =IF(AX58="","",ABS(AX58)-ABS(AX59)) | AY60: =IF(AY58="","",ABS(AY58)-ABS(AY59)) | AZ60: =IF(AZ58="","",ABS(AZ58)-ABS(AZ59)) | BA60: =IF(BA58="","",ABS(BA58)-ABS(BA59)) | BB60: =IF(BB58="","",ABS(BB58)-ABS(BB59)) | ... BD60: =IF(BD58="","",ABS(BD58)-ABS(BD59))
B61: 20 | C61: ²ñï³ñÅáõÃ³ÛÇÝ ¹ÇñùÇ Ù»ÍáõÃÛáõÝÝ ûñí³ í»ñçÇ ¹ñáõÃÛ³Ùµ
C62: Ü6.2 ÝáñÙ³ïÇíÇ ë³ÑÙ³Ý³ã³÷ | D62: =IF(D61="","",Sheet2!$L$31*7%) | E62: =IF(E61="","",Sheet2!$L$31*7%) | F62: =IF(F61="","",Sheet2!$L$31*7%) | G62: =IF(G61="","",Sheet2!$L$31*7%) | H62: =IF(H61="","",Sheet2!$L$31*7%) | I62: =IF(I61="","",Sheet2!$L$31*7%) | J62: =IF(J61="","",Sheet2!$L$31*7%) | K62: =IF(K61="","",Sheet2!$L$31*7%) | ... AS62: =IF(AS61="","",Sheet2!$L$31*7%) | AU62: =IF(AU61="","",Sheet2!$L$31*7%) | AV62: =IF(AV61="","",Sheet2!$L$31*7%) | AW62: =IF(AW61="","",Sheet2!$L$31*7%) | AX62: =IF(AX61="","",Sheet2!$L$31*7%) | AY62: =IF(AY61="","",Sheet2!$L$31*7%) | AZ62: =IF(AZ61="","",Sheet2!$L$31*7%) | BA62: =IF(BA61="","",Sheet2!$L$31*7%) | BB62: =IF(BB61="","",Sheet2!$L$31*7%) | ... BD62: =IF(BD61="","",Sheet2!$L$31*7%)
C63: î³ñµ»ñáõÃÛáõÝÁ (+ / -) | D63: =IF(D61="","",ABS(D61)-ABS(D62)) | E63: =IF(E61="","",ABS(E61)-ABS(E62)) | F63: =IF(F61="","",ABS(F61)-ABS(F62)) | G63: =IF(G61="","",ABS(G61)-ABS(G62)) | H63: =IF(H61="","",ABS(H61)-ABS(H62)) | I63: =IF(I61="","",ABS(I61)-ABS(I62)) | J63: =IF(J61="","",ABS(J61)-ABS(J62)) | K63: =IF(K61="","",ABS(K61)-ABS(K62)) | ... AS63: =IF(AS61="","",ABS(AS61)-ABS(AS62)) | AU63: =IF(AU61="","",ABS(AU61)-ABS(AU62)) | AV63: =IF(AV61="","",ABS(AV61)-ABS(AV62)) | AW63: =IF(AW61="","",ABS(AW61)-ABS(AW62)) | AX63: =IF(AX61="","",ABS(AX61)-ABS(AX62)) | AY63: =IF(AY61="","",ABS(AY61)-ABS(AY62)) | AZ63: =IF(AZ61="","",ABS(AZ61)-ABS(AZ62)) | BA63: =IF(BA61="","",ABS(BA61)-ABS(BA62)) | BB63: =IF(BB61="","",ABS(BB61)-ABS(BB62)) | ... BD63: =IF(BD61="","",ABS(BD61)-ABS(BD62))
B64: 21 | C64: ²ñï³ñÅáõÃ³ÛÇÝ ¹ÇñùÇ Ù»ÍáõÃÛáõÝÝ ûñí³ í»ñçÇ ¹ñáõÃÛ³Ùµ
C65: Ü6.2 ÝáñÙ³ïÇíÇ ë³ÑÙ³Ý³ã³÷ | D65: =IF(D64="","",Sheet2!$L$32*7%) | E65: =IF(E64="","",Sheet2!$L$32*7%) | F65: =IF(F64="","",Sheet2!$L$32*7%) | G65: =IF(G64="","",Sheet2!$L$32*7%) | H65: =IF(H64="","",Sheet2!$L$32*7%) | I65: =IF(I64="","",Sheet2!$L$32*7%) | J65: =IF(J64="","",Sheet2!$L$32*7%) | K65: =IF(K64="","",Sheet2!$L$32*7%) | ... AS65: =IF(AS64="","",Sheet2!$L$32*7%) | AU65: =IF(AU64="","",Sheet2!$L$32*7%) | AV65: =IF(AV64="","",Sheet2!$L$32*7%) | AW65: =IF(AW64="","",Sheet2!$L$32*7%) | AX65: =IF(AX64="","",Sheet2!$L$32*7%) | AY65: =IF(AY64="","",Sheet2!$L$32*7%) | AZ65: =IF(AZ64="","",Sheet2!$L$32*7%) | BA65: =IF(BA64="","",Sheet2!$L$32*7%) | BB65: =IF(BB64="","",Sheet2!$L$32*7%) | ... BD65: =IF(BD64="","",Sheet2!$L$32*7%)
C66: î³ñµ»ñáõÃÛáõÝÁ (+ / -) | D66: =IF(D64="","",ABS(D64)-ABS(D65)) | E66: =IF(E64="","",ABS(E64)-ABS(E65)) | F66: =IF(F64="","",ABS(F64)-ABS(F65)) | G66: =IF(G64="","",ABS(G64)-ABS(G65)) | H66: =IF(H64="","",ABS(H64)-ABS(H65)) | I66: =IF(I64="","",ABS(I64)-ABS(I65)) | J66: =IF(J64="","",ABS(J64)-ABS(J65)) | K66: =IF(K64="","",ABS(K64)-ABS(K65)) | ... AS66: =IF(AS64="","",ABS(AS64)-ABS(AS65)) | AU66: =IF(AU64="","",ABS(AU64)-ABS(AU65)) | AV66: =IF(AV64="","",ABS(AV64)-ABS(AV65)) | AW66: =IF(AW64="","",ABS(AW64)-ABS(AW65)) | AX66: =IF(AX64="","",ABS(AX64)-ABS(AX65)) | AY66: =IF(AY64="","",ABS(AY64)-ABS(AY65)) | AZ66: =IF(AZ64="","",ABS(AZ64)-ABS(AZ65)) | BA66: =IF(BA64="","",ABS(BA64)-ABS(BA65)) | BB66: =IF(BB64="","",ABS(BB64)-ABS(BB65)) | ... BD66: =IF(BD64="","",ABS(BD64)-ABS(BD65))
B67: 22 | C67: ²ñï³ñÅáõÃ³ÛÇÝ ¹ÇñùÇ Ù»ÍáõÃÛáõÝÝ ûñí³ í»ñçÇ ¹ñáõÃÛ³Ùµ
C68: Ü6.2 ÝáñÙ³ïÇíÇ ë³ÑÙ³Ý³ã³÷ | D68: =IF(D67="","",Sheet2!$L$33*7%) | E68: =IF(E67="","",Sheet2!$L$33*7%) | F68: =IF(F67="","",Sheet2!$L$33*7%) | G68: =IF(G67="","",Sheet2!$L$33*7%) | H68: =IF(H67="","",Sheet2!$L$33*7%) | I68: =IF(I67="","",Sheet2!$L$33*7%) | J68: =IF(J67="","",Sheet2!$L$33*7%) | K68: =IF(K67="","",Sheet2!$L$33*7%) | ... AS68: =IF(AS67="","",Sheet2!$L$33*7%) | AU68: =IF(AU67="","",Sheet2!$L$33*7%) | AV68: =IF(AV67="","",Sheet2!$L$33*7%) | AW68: =IF(AW67="","",Sheet2!$L$33*7%) | AX68: =IF(AX67="","",Sheet2!$L$33*7%) | AY68: =IF(AY67="","",Sheet2!$L$33*7%) | AZ68: =IF(AZ67="","",Sheet2!$L$33*7%) | BA68: =IF(BA67="","",Sheet2!$L$33*7%) | BB68: =IF(BB67="","",Sheet2!$L$33*7%) | ... BD68: =IF(BD67="","",Sheet2!$L$33*7%)
C69: î³ñµ»ñáõÃÛáõÝÁ (+ / -) | D69: =IF(D67="","",ABS(D67)-ABS(D68)) | E69: =IF(E67="","",ABS(E67)-ABS(E68)) | F69: =IF(F67="","",ABS(F67)-ABS(F68)) | G69: =IF(G67="","",ABS(G67)-ABS(G68)) | H69: =IF(H67="","",ABS(H67)-ABS(H68)) | I69: =IF(I67="","",ABS(I67)-ABS(I68)) | J69: =IF(J67="","",ABS(J67)-ABS(J68)) | K69: =IF(K67="","",ABS(K67)-ABS(K68)) | ... AS69: =IF(AS67="","",ABS(AS67)-ABS(AS68)) | AU69: =IF(AU67="","",ABS(AU67)-ABS(AU68)) | AV69: =IF(AV67="","",ABS(AV67)-ABS(AV68)) | AW69: =IF(AW67="","",ABS(AW67)-ABS(AW68)) | AX69: =IF(AX67="","",ABS(AX67)-ABS(AX68)) | AY69: =IF(AY67="","",ABS(AY67)-ABS(AY68)) | AZ69: =IF(AZ67="","",ABS(AZ67)-ABS(AZ68)) | BA69: =IF(BA67="","",ABS(BA67)-ABS(BA68)) | BB69: =IF(BB67="","",ABS(BB67)-ABS(BB68)) | ... BD69: =IF(BD67="","",ABS(BD67)-ABS(BD68))
B70: 23 | C70: ²ñï³ñÅáõÃ³ÛÇÝ ¹ÇñùÇ Ù»ÍáõÃÛáõÝÝ ûñí³ í»ñçÇ ¹ñáõÃÛ³Ùµ
C71: Ü6.2 ÝáñÙ³ïÇíÇ ë³ÑÙ³Ý³ã³÷ | D71: =IF(D70="","",Sheet2!$L$34*7%) | E71: =IF(E70="","",Sheet2!$L$34*7%) | F71: =IF(F70="","",Sheet2!$L$34*7%) | G71: =IF(G70="","",Sheet2!$L$34*7%) | H71: =IF(H70="","",Sheet2!$L$34*7%) | I71: =IF(I70="","",Sheet2!$L$34*7%) | J71: =IF(J70="","",Sheet2!$L$34*7%) | K71: =IF(K70="","",Sheet2!$L$34*7%) | ... AS71: =IF(AS70="","",Sheet2!$L$34*7%) | AU71: =IF(AU70="","",Sheet2!$L$34*7%) | AV71: =IF(AV70="","",Sheet2!$L$34*7%) | AW71: =IF(AW70="","",Sheet2!$L$34*7%) | AX71: =IF(AX70="","",Sheet2!$L$34*7%) | AY71: =IF(AY70="","",Sheet2!$L$34*7%) | AZ71: =IF(AZ70="","",Sheet2!$L$34*7%) | BA71: =IF(BA70="","",Sheet2!$L$34*7%) | BB71: =IF(BB70="","",Sheet2!$L$34*7%) | ... BD71: =IF(BD70="","",Sheet2!$L$34*7%)
C72: î³ñµ»ñáõÃÛáõÝÁ (+ / -) | D72: =IF(D70="","",ABS(D70)-ABS(D71)) | E72: =IF(E70="","",ABS(E70)-ABS(E71)) | F72: =IF(F70="","",ABS(F70)-ABS(F71)) | G72: =IF(G70="","",ABS(G70)-ABS(G71)) | H72: =IF(H70="","",ABS(H70)-ABS(H71)) | I72: =IF(I70="","",ABS(I70)-ABS(I71)) | J72: =IF(J70="","",ABS(J70)-ABS(J71)) | K72: =IF(K70="","",ABS(K70)-ABS(K71)) | ... AS72: =IF(AS70="","",ABS(AS70)-ABS(AS71)) | AU72: =IF(AU70="","",ABS(AU70)-ABS(AU71)) | AV72: =IF(AV70="","",ABS(AV70)-ABS(AV71)) | AW72: =IF(AW70="","",ABS(AW70)-ABS(AW71)) | AX72: =IF(AX70="","",ABS(AX70)-ABS(AX71)) | AY72: =IF(AY70="","",ABS(AY70)-ABS(AY71)) | AZ72: =IF(AZ70="","",ABS(AZ70)-ABS(AZ71)) | BA72: =IF(BA70="","",ABS(BA70)-ABS(BA71)) | BB72: =IF(BB70="","",ABS(BB70)-ABS(BB71)) | ... BD72: =IF(BD70="","",ABS(BD70)-ABS(BD71))
B73: 24 | C73: ²ñï³ñÅáõÃ³ÛÇÝ ¹ÇñùÇ Ù»ÍáõÃÛáõÝÝ ûñí³ í»ñçÇ ¹ñáõÃÛ³Ùµ
C74: Ü6.2 ÝáñÙ³ïÇíÇ ë³ÑÙ³Ý³ã³÷ | D74: =IF(D73="","",Sheet2!$L$35*7%) | E74: =IF(E73="","",Sheet2!$L$35*7%) | F74: =IF(F73="","",Sheet2!$L$35*7%) | G74: =IF(G73="","",Sheet2!$L$35*7%) | H74: =IF(H73="","",Sheet2!$L$35*7%) | I74: =IF(I73="","",Sheet2!$L$35*7%) | J74: =IF(J73="","",Sheet2!$L$35*7%) | K74: =IF(K73="","",Sheet2!$L$35*7%) | ... AS74: =IF(AS73="","",Sheet2!$L$35*7%) | AU74: =IF(AU73="","",Sheet2!$L$35*7%) | AV74: =IF(AV73="","",Sheet2!$L$35*7%) | AW74: =IF(AW73="","",Sheet2!$L$35*7%) | AX74: =IF(AX73="","",Sheet2!$L$35*7%) | AY74: =IF(AY73="","",Sheet2!$L$35*7%) | AZ74: =IF(AZ73="","",Sheet2!$L$35*7%) | BA74: =IF(BA73="","",Sheet2!$L$35*7%) | BB74: =IF(BB73="","",Sheet2!$L$35*7%) | ... BD74: =IF(BD73="","",Sheet2!$L$35*7%)
C75: î³ñµ»ñáõÃÛáõÝÁ (+ / -) | D75: =IF(D73="","",ABS(D73)-ABS(D74)) | E75: =IF(E73="","",ABS(E73)-ABS(E74)) | F75: =IF(F73="","",ABS(F73)-ABS(F74)) | G75: =IF(G73="","",ABS(G73)-ABS(G74)) | H75: =IF(H73="","",ABS(H73)-ABS(H74)) | I75: =IF(I73="","",ABS(I73)-ABS(I74)) | J75: =IF(J73="","",ABS(J73)-ABS(J74)) | K75: =IF(K73="","",ABS(K73)-ABS(K74)) | ... AS75: =IF(AS73="","",ABS(AS73)-ABS(AS74)) | AU75: =IF(AU73="","",ABS(AU73)-ABS(AU74)) | AV75: =IF(AV73="","",ABS(AV73)-ABS(AV74)) | AW75: =IF(AW73="","",ABS(AW73)-ABS(AW74)) | AX75: =IF(AX73="","",ABS(AX73)-ABS(AX74)) | AY75: =IF(AY73="","",ABS(AY73)-ABS(AY74)) | AZ75: =IF(AZ73="","",ABS(AZ73)-ABS(AZ74)) | BA75: =IF(BA73="","",ABS(BA73)-ABS(BA74)) | BB75: =IF(BB73="","",ABS(BB73)-ABS(BB74)) | ... BD75: =IF(BD73="","",ABS(BD73)-ABS(BD74))
B76: 25 | C76: ²ñï³ñÅáõÃ³ÛÇÝ ¹ÇñùÇ Ù»ÍáõÃÛáõÝÝ ûñí³ í»ñçÇ ¹ñáõÃÛ³Ùµ
C77: Ü6.2 ÝáñÙ³ïÇíÇ ë³ÑÙ³Ý³ã³÷ | D77: =IF(D76="","",Sheet2!$L$36*7%) | E77: =IF(E76="","",Sheet2!$L$36*7%) | F77: =IF(F76="","",Sheet2!$L$36*7%) | G77: =IF(G76="","",Sheet2!$L$36*7%) | H77: =IF(H76="","",Sheet2!$L$36*7%) | I77: =IF(I76="","",Sheet2!$L$36*7%) | J77: =IF(J76="","",Sheet2!$L$36*7%) | K77: =IF(K76="","",Sheet2!$L$36*7%) | ... AS77: =IF(AS76="","",Sheet2!$L$36*7%) | AU77: =IF(AU76="","",Sheet2!$L$36*7%) | AV77: =IF(AV76="","",Sheet2!$L$36*7%) | AW77: =IF(AW76="","",Sheet2!$L$36*7%) | AX77: =IF(AX76="","",Sheet2!$L$36*7%) | AY77: =IF(AY76="","",Sheet2!$L$36*7%) | AZ77: =IF(AZ76="","",Sheet2!$L$36*7%) | BA77: =IF(BA76="","",Sheet2!$L$36*7%) | BB77: =IF(BB76="","",Sheet2!$L$36*7%) | ... BD77: =IF(BD76="","",Sheet2!$L$36*7%)
C78: î³ñµ»ñáõÃÛáõÝÁ (+ / -) | D78: =IF(D76="","",ABS(D76)-ABS(D77)) | E78: =IF(E76="","",ABS(E76)-ABS(E77)) | F78: =IF(F76="","",ABS(F76)-ABS(F77)) | G78: =IF(G76="","",ABS(G76)-ABS(G77)) | H78: =IF(H76="","",ABS(H76)-ABS(H77)) | I78: =IF(I76="","",ABS(I76)-ABS(I77)) | J78: =IF(J76="","",ABS(J76)-ABS(J77)) | K78: =IF(K76="","",ABS(K76)-ABS(K77)) | ... AS78: =IF(AS76="","",ABS(AS76)-ABS(AS77)) | AU78: =IF(AU76="","",ABS(AU76)-ABS(AU77)) | AV78: =IF(AV76="","",ABS(AV76)-ABS(AV77)) | AW78: =IF(AW76="","",ABS(AW76)-ABS(AW77)) | AX78: =IF(AX76="","",ABS(AX76)-ABS(AX77)) | AY78: =IF(AY76="","",ABS(AY76)-ABS(AY77)) | AZ78: =IF(AZ76="","",ABS(AZ76)-ABS(AZ77)) | BA78: =IF(BA76="","",ABS(BA76)-ABS(BA77)) | BB78: =IF(BB76="","",ABS(BB76)-ABS(BB77)) | ... BD78: =IF(BD76="","",ABS(BD76)-ABS(BD77))
B79: 26 | C79: ²ñï³ñÅáõÃ³ÛÇÝ ¹ÇñùÇ Ù»ÍáõÃÛáõÝÝ ûñí³ í»ñçÇ ¹ñáõÃÛ³Ùµ
C80: Ü6.2 ÝáñÙ³ïÇíÇ ë³ÑÙ³Ý³ã³÷ | D80: =IF(D79="","",Sheet2!$L$37*7%) | E80: =IF(E79="","",Sheet2!$L$37*7%) | F80: =IF(F79="","",Sheet2!$L$37*7%) | G80: =IF(G79="","",Sheet2!$L$37*7%) | H80: =IF(H79="","",Sheet2!$L$37*7%) | I80: =IF(I79="","",Sheet2!$L$37*7%) | J80: =IF(J79="","",Sheet2!$L$37*7%) | K80: =IF(K79="","",Sheet2!$L$37*7%) | ... AS80: =IF(AS79="","",Sheet2!$L$37*7%) | AU80: =IF(AU79="","",Sheet2!$L$37*7%) | AV80: =IF(AV79="","",Sheet2!$L$37*7%) | AW80: =IF(AW79="","",Sheet2!$L$37*7%) | AX80: =IF(AX79="","",Sheet2!$L$37*7%) | AY80: =IF(AY79="","",Sheet2!$L$37*7%) | AZ80: =IF(AZ79="","",Sheet2!$L$37*7%) | BA80: =IF(BA79="","",Sheet2!$L$37*7%) | BB80: =IF(BB79="","",Sheet2!$L$37*7%) | ... BD80: =IF(BD79="","",Sheet2!$L$37*7%)
C81: î³ñµ»ñáõÃÛáõÝÁ (+ / -) | D81: =IF(D79="","",ABS(D79)-ABS(D80)) | E81: =IF(E79="","",ABS(E79)-ABS(E80)) | F81: =IF(F79="","",ABS(F79)-ABS(F80)) | G81: =IF(G79="","",ABS(G79)-ABS(G80)) | H81: =IF(H79="","",ABS(H79)-ABS(H80)) | I81: =IF(I79="","",ABS(I79)-ABS(I80)) | J81: =IF(J79="","",ABS(J79)-ABS(J80)) | K81: =IF(K79="","",ABS(K79)-ABS(K80)) | ... AS81: =IF(AS79="","",ABS(AS79)-ABS(AS80)) | AU81: =IF(AU79="","",ABS(AU79)-ABS(AU80)) | AV81: =IF(AV79="","",ABS(AV79)-ABS(AV80)) | AW81: =IF(AW79="","",ABS(AW79)-ABS(AW80)) | AX81: =IF(AX79="","",ABS(AX79)-ABS(AX80)) | AY81: =IF(AY79="","",ABS(AY79)-ABS(AY80)) | AZ81: =IF(AZ79="","",ABS(AZ79)-ABS(AZ80)) | BA81: =IF(BA79="","",ABS(BA79)-ABS(BA80)) | BB81: =IF(BB79="","",ABS(BB79)-ABS(BB80)) | ... BD81: =IF(BD79="","",ABS(BD79)-ABS(BD80))
B82: 27 | C82: ²ñï³ñÅáõÃ³ÛÇÝ ¹ÇñùÇ Ù»ÍáõÃÛáõÝÝ ûñí³ í»ñçÇ ¹ñáõÃÛ³Ùµ
C83: Ü6.2 ÝáñÙ³ïÇíÇ ë³ÑÙ³Ý³ã³÷ | D83: =IF(D82="","",Sheet2!$L$38*7%) | E83: =IF(E82="","",Sheet2!$L$38*7%) | F83: =IF(F82="","",Sheet2!$L$38*7%) | G83: =IF(G82="","",Sheet2!$L$38*7%) | H83: =IF(H82="","",Sheet2!$L$38*7%) | I83: =IF(I82="","",Sheet2!$L$38*7%) | J83: =IF(J82="","",Sheet2!$L$38*7%) | K83: =IF(K82="","",Sheet2!$L$38*7%) | ... AS83: =IF(AS82="","",Sheet2!$L$38*7%) | AU83: =IF(AU82="","",Sheet2!$L$38*7%) | AV83: =IF(AV82="","",Sheet2!$L$38*7%) | AW83: =IF(AW82="","",Sheet2!$L$38*7%) | AX83: =IF(AX82="","",Sheet2!$L$38*7%) | AY83: =IF(AY82="","",Sheet2!$L$38*7%) | AZ83: =IF(AZ82="","",Sheet2!$L$38*7%) | BA83: =IF(BA82="","",Sheet2!$L$38*7%) | BB83: =IF(BB82="","",Sheet2!$L$38*7%) | ... BD83: =IF(BD82="","",Sheet2!$L$38*7%)
C84: î³ñµ»ñáõÃÛáõÝÁ (+ / -) | D84: =IF(D82="","",ABS(D82)-ABS(D83)) | E84: =IF(E82="","",ABS(E82)-ABS(E83)) | F84: =IF(F82="","",ABS(F82)-ABS(F83)) | G84: =IF(G82="","",ABS(G82)-ABS(G83)) | H84: =IF(H82="","",ABS(H82)-ABS(H83)) | I84: =IF(I82="","",ABS(I82)-ABS(I83)) | J84: =IF(J82="","",ABS(J82)-ABS(J83)) | K84: =IF(K82="","",ABS(K82)-ABS(K83)) | ... AS84: =IF(AS82="","",ABS(AS82)-ABS(AS83)) | AU84: =IF(AU82="","",ABS(AU82)-ABS(AU83)) | AV84: =IF(AV82="","",ABS(AV82)-ABS(AV83)) | AW84: =IF(AW82="","",ABS(AW82)-ABS(AW83)) | AX84: =IF(AX82="","",ABS(AX82)-ABS(AX83)) | AY84: =IF(AY82="","",ABS(AY82)-ABS(AY83)) | AZ84: =IF(AZ82="","",ABS(AZ82)-ABS(AZ83)) | BA84: =IF(BA82="","",ABS(BA82)-ABS(BA83)) | BB84: =IF(BB82="","",ABS(BB82)-ABS(BB83)) | ... BD84: =IF(BD82="","",ABS(BD82)-ABS(BD83))
B85: 28 | C85: ²ñï³ñÅáõÃ³ÛÇÝ ¹ÇñùÇ Ù»ÍáõÃÛáõÝÝ ûñí³ í»ñçÇ ¹ñáõÃÛ³Ùµ
C86: Ü6.2 ÝáñÙ³ïÇíÇ ë³ÑÙ³Ý³ã³÷ | D86: =IF(D85="","",Sheet2!$L$39*7%) | E86: =IF(E85="","",Sheet2!$L$39*7%) | F86: =IF(F85="","",Sheet2!$L$39*7%) | G86: =IF(G85="","",Sheet2!$L$39*7%) | H86: =IF(H85="","",Sheet2!$L$39*7%) | I86: =IF(I85="","",Sheet2!$L$39*7%) | J86: =IF(J85="","",Sheet2!$L$39*7%) | K86: =IF(K85="","",Sheet2!$L$39*7%) | ... AS86: =IF(AS85="","",Sheet2!$L$39*7%) | AU86: =IF(AU85="","",Sheet2!$L$39*7%) | AV86: =IF(AV85="","",Sheet2!$L$39*7%) | AW86: =IF(AW85="","",Sheet2!$L$39*7%) | AX86: =IF(AX85="","",Sheet2!$L$39*7%) | AY86: =IF(AY85="","",Sheet2!$L$39*7%) | AZ86: =IF(AZ85="","",Sheet2!$L$39*7%) | BA86: =IF(BA85="","",Sheet2!$L$39*7%) | BB86: =IF(BB85="","",Sheet2!$L$39*7%) | ... BD86: =IF(BD85="","",Sheet2!$L$39*7%)
C87: î³ñµ»ñáõÃÛáõÝÁ (+ / -) | D87: =IF(D85="","",ABS(D85)-ABS(D86)) | E87: =IF(E85="","",ABS(E85)-ABS(E86)) | F87: =IF(F85="","",ABS(F85)-ABS(F86)) | G87: =IF(G85="","",ABS(G85)-ABS(G86)) | H87: =IF(H85="","",ABS(H85)-ABS(H86)) | I87: =IF(I85="","",ABS(I85)-ABS(I86)) | J87: =IF(J85="","",ABS(J85)-ABS(J86)) | K87: =IF(K85="","",ABS(K85)-ABS(K86)) | ... AS87: =IF(AS85="","",ABS(AS85)-ABS(AS86)) | AU87: =IF(AU85="","",ABS(AU85)-ABS(AU86)) | AV87: =IF(AV85="","",ABS(AV85)-ABS(AV86)) | AW87: =IF(AW85="","",ABS(AW85)-ABS(AW86)) | AX87: =IF(AX85="","",ABS(AX85)-ABS(AX86)) | AY87: =IF(AY85="","",ABS(AY85)-ABS(AY86)) | AZ87: =IF(AZ85="","",ABS(AZ85)-ABS(AZ86)) | BA87: =IF(BA85="","",ABS(BA85)-ABS(BA86)) | BB87: =IF(BB85="","",ABS(BB85)-ABS(BB86)) | ... BD87: =IF(BD85="","",ABS(BD85)-ABS(BD86))
B88: 29 | C88: ²ñï³ñÅáõÃ³ÛÇÝ ¹ÇñùÇ Ù»ÍáõÃÛáõÝÝ ûñí³ í»ñçÇ ¹ñáõÃÛ³Ùµ
C89: Ü6.2 ÝáñÙ³ïÇíÇ ë³ÑÙ³Ý³ã³÷ | D89: =IF(D88="","",Sheet2!$L$40*7%) | E89: =IF(E88="","",Sheet2!$L$40*7%) | F89: =IF(F88="","",Sheet2!$L$40*7%) | G89: =IF(G88="","",Sheet2!$L$40*7%) | H89: =IF(H88="","",Sheet2!$L$40*7%) | I89: =IF(I88="","",Sheet2!$L$40*7%) | J89: =IF(J88="","",Sheet2!$L$40*7%) | K89: =IF(K88="","",Sheet2!$L$40*7%) | ... AS89: =IF(AS88="","",Sheet2!$L$40*7%) | AU89: =IF(AU88="","",Sheet2!$L$40*7%) | AV89: =IF(AV88="","",Sheet2!$L$40*7%) | AW89: =IF(AW88="","",Sheet2!$L$40*7%) | AX89: =IF(AX88="","",Sheet2!$L$40*7%) | AY89: =IF(AY88="","",Sheet2!$L$40*7%) | AZ89: =IF(AZ88="","",Sheet2!$L$40*7%) | BA89: =IF(BA88="","",Sheet2!$L$40*7%) | BB89: =IF(BB88="","",Sheet2!$L$40*7%) | ... BD89: =IF(BD88="","",Sheet2!$L$40*7%)
C90: î³ñµ»ñáõÃÛáõÝÁ (+ / -) | D90: =IF(D88="","",ABS(D88)-ABS(D89)) | E90: =IF(E88="","",ABS(E88)-ABS(E89)) | F90: =IF(F88="","",ABS(F88)-ABS(F89)) | G90: =IF(G88="","",ABS(G88)-ABS(G89)) | H90: =IF(H88="","",ABS(H88)-ABS(H89)) | I90: =IF(I88="","",ABS(I88)-ABS(I89)) | J90: =IF(J88="","",ABS(J88)-ABS(J89)) | K90: =IF(K88="","",ABS(K88)-ABS(K89)) | ... AS90: =IF(AS88="","",ABS(AS88)-ABS(AS89)) | AU90: =IF(AU88="","",ABS(AU88)-ABS(AU89)) | AV90: =IF(AV88="","",ABS(AV88)-ABS(AV89)) | AW90: =IF(AW88="","",ABS(AW88)-ABS(AW89)) | AX90: =IF(AX88="","",ABS(AX88)-ABS(AX89)) | AY90: =IF(AY88="","",ABS(AY88)-ABS(AY89)) | AZ90: =IF(AZ88="","",ABS(AZ88)-ABS(AZ89)) | BA90: =IF(BA88="","",ABS(BA88)-ABS(BA89)) | BB90: =IF(BB88="","",ABS(BB88)-ABS(BB89)) | ... BD90: =IF(BD88="","",ABS(BD88)-ABS(BD89))
B91: 30 | C91: ²ñï³ñÅáõÃ³ÛÇÝ ¹ÇñùÇ Ù»ÍáõÃÛáõÝÝ ûñí³ í»ñçÇ ¹ñáõÃÛ³Ùµ
C92: Ü6.2 ÝáñÙ³ïÇíÇ ë³ÑÙ³Ý³ã³÷ | D92: =IF(D91="","",Sheet2!$L$41*7%) | E92: =IF(E91="","",Sheet2!$L$41*7%) | F92: =IF(F91="","",Sheet2!$L$41*7%) | G92: =IF(G91="","",Sheet2!$L$41*7%) | H92: =IF(H91="","",Sheet2!$L$41*7%) | I92: =IF(I91="","",Sheet2!$L$41*7%) | J92: =IF(J91="","",Sheet2!$L$41*7%) | K92: =IF(K91="","",Sheet2!$L$41*7%) | ... AS92: =IF(AS91="","",Sheet2!$L$41*7%) | AU92: =IF(AU91="","",Sheet2!$L$41*7%) | AV92: =IF(AV91="","",Sheet2!$L$41*7%) | AW92: =IF(AW91="","",Sheet2!$L$41*7%) | AX92: =IF(AX91="","",Sheet2!$L$41*7%) | AY92: =IF(AY91="","",Sheet2!$L$41*7%) | AZ92: =IF(AZ91="","",Sheet2!$L$41*7%) | BA92: =IF(BA91="","",Sheet2!$L$41*7%) | BB92: =IF(BB91="","",Sheet2!$L$41*7%) | ... BD92: =IF(BD91="","",Sheet2!$L$41*7%)
C93: î³ñµ»ñáõÃÛáõÝÁ (+ / -) | D93: =IF(D91="","",ABS(D91)-ABS(D92)) | E93: =IF(E91="","",ABS(E91)-ABS(E92)) | F93: =IF(F91="","",ABS(F91)-ABS(F92)) | G93: =IF(G91="","",ABS(G91)-ABS(G92)) | H93: =IF(H91="","",ABS(H91)-ABS(H92)) | I93: =IF(I91="","",ABS(I91)-ABS(I92)) | J93: =IF(J91="","",ABS(J91)-ABS(J92)) | K93: =IF(K91="","",ABS(K91)-ABS(K92)) | ... AS93: =IF(AS91="","",ABS(AS91)-ABS(AS92)) | AU93: =IF(AU91="","",ABS(AU91)-ABS(AU92)) | AV93: =IF(AV91="","",ABS(AV91)-ABS(AV92)) | AW93: =IF(AW91="","",ABS(AW91)-ABS(AW92)) | AX93: =IF(AX91="","",ABS(AX91)-ABS(AX92)) | AY93: =IF(AY91="","",ABS(AY91)-ABS(AY92)) | AZ93: =IF(AZ91="","",ABS(AZ91)-ABS(AZ92)) | BA93: =IF(BA91="","",ABS(BA91)-ABS(BA92)) | BB93: =IF(BB91="","",ABS(BB91)-ABS(BB92)) | ... BD93: =IF(BD91="","",ABS(BD91)-ABS(BD92))
B94: 31 | C94: ²ñï³ñÅáõÃ³ÛÇÝ ¹ÇñùÇ Ù»ÍáõÃÛáõÝÝ ûñí³ í»ñçÇ ¹ñáõÃÛ³Ùµ
C95: Ü6.2 ÝáñÙ³ïÇíÇ ë³ÑÙ³Ý³ã³÷ | D95: =IF(D94="","",Sheet2!$L$42*7%) | E95: =IF(E94="","",Sheet2!$L$42*7%) | F95: =IF(F94="","",Sheet2!$L$42*7%) | G95: =IF(G94="","",Sheet2!$L$42*7%) | H95: =IF(H94="","",Sheet2!$L$42*7%) | I95: =IF(I94="","",Sheet2!$L$42*7%) | J95: =IF(J94="","",Sheet2!$L$42*7%) | K95: =IF(K94="","",Sheet2!$L$42*7%) | ... AS95: =IF(AS94="","",Sheet2!$L$42*7%) | AU95: =IF(AU94="","",Sheet2!$L$42*7%) | AV95: =IF(AV94="","",Sheet2!$L$42*7%) | AW95: =IF(AW94="","",Sheet2!$L$42*7%) | AX95: =IF(AX94="","",Sheet2!$L$42*7%) | AY95: =IF(AY94="","",Sheet2!$L$42*7%) | AZ95: =IF(AZ94="","",Sheet2!$L$42*7%) | BA95: =IF(BA94="","",Sheet2!$L$42*7%) | BB95: =IF(BB94="","",Sheet2!$L$42*7%) | ... BD95: =IF(BD94="","",Sheet2!$L$42*7%)
C96: î³ñµ»ñáõÃÛáõÝÁ (+ / -) | D96: =IF(D94="","",ABS(D94)-ABS(D95)) | E96: =IF(E94="","",ABS(E94)-ABS(E95)) | F96: =IF(F94="","",ABS(F94)-ABS(F95)) | G96: =IF(G94="","",ABS(G94)-ABS(G95)) | H96: =IF(H94="","",ABS(H94)-ABS(H95)) | I96: =IF(I94="","",ABS(I94)-ABS(I95)) | J96: =IF(J94="","",ABS(J94)-ABS(J95)) | K96: =IF(K94="","",ABS(K94)-ABS(K95)) | ... AS96: =IF(AS94="","",ABS(AS94)-ABS(AS95)) | AU96: =IF(AU94="","",ABS(AU94)-ABS(AU95)) | AV96: =IF(AV94="","",ABS(AV94)-ABS(AV95)) | AW96: =IF(AW94="","",ABS(AW94)-ABS(AW95)) | AX96: =IF(AX94="","",ABS(AX94)-ABS(AX95)) | AY96: =IF(AY94="","",ABS(AY94)-ABS(AY95)) | AZ96: =IF(AZ94="","",ABS(AZ94)-ABS(AZ95)) | BA96: =IF(BA94="","",ABS(BA94)-ABS(BA95)) | BB96: =IF(BB94="","",ABS(BB94)-ABS(BB95)) | ... BD96: =IF(BD94="","",ABS(BD94)-ABS(BD95))
B100: ²ÕÛáõë³Ï 31. Àëï ³é³ÝÓÇÝ ³ñï³ñÅáõÃ³ÛÇÝ ¹ÇñùÇ ÝáñÙ³ïÇíÇ Ñ³ßí³ñÏ (²é³Ýó ³Í³ÝóÛ³É ·áñÍÇùÝ»ñÇ)
D101: ²ØÜ ¹áÉ³ñ | E101: ²Ý·ÉÇ³Ï³Ý ýáõÝï ëï»éÉÇÝ· | F101: ºìðà | G101: èáõë³ëï³ÝÛ³Ý éáõµÉÇ | H101: ê¸è | I101: ´³ÝÏ³ÛÇÝ áëÏÇ | J101: Î³Ý³¹³Ï³Ý ¹áÉ³ñ | K101: ²íëïñ³ÉÇ³Ï³Ý ¹áÉ³ñ | L101: Þí»Ûó³ñ³Ï³Ý ýñ³ÝÏ | M101: ¸³ÝÇ³Ï³Ý ÏñáÝ | N101: Æñ³Ý³Ï³Ý éÇ³É | O101: Ö³åáÝ³Ï³Ý Ç»Ý | P101: ´áõÉÕ³ñ³Ï³Ý É»í | Q101: àõÏñ³ÇÝ³Ï³Ý ·ñÇíÝÛ³ | R101: àõ½µ»Ï³Ï³Ý ëáõÙ | S101: ´»Éáéáõë³Ï³Ý éáõµÉÇ | T101: î³çÇÏ³Ï³Ý ëáÙáÝÇ | U101: ÂáõñùÙ»Ý³Ï³Ý Ù³Ý³Ã | V101: ìñ³ó³Ï³Ý É³ñÇ | W101: ²ñ·»ÝïÇÝ³Ï³Ý å»ëá | X101: º·Çåï³Ï³Ý ýáõÝï | Y101: Âáõñù³Ï³Ý ÉÇñ³ | Z101: Æëñ³Û»É³Ï³Ý ß»ù»É | AA101: È»Ñ³Ï³Ý ½ÉáïÇ | AB101: ÈÇµ³Ý³ÝÛ³Ý ýáõÝï | AC101: ÐÝ¹Ï³Ï³Ý éáõ÷Ç | AD101: ÐáõÝ·³ñ³Ï³Ý ýáñÇÝï | AE101: Üáñí»·³Ï³Ý ÏñáÝ | AF101: Þí»¹³Ï³Ý ÏñáÝ | AG101: â»Ë³Ï³Ý ÏñáÝ³ | AH101: âÇÝ³Ï³Ý Ûáõ³Ý | AI101: êÇÝ·³åáõñÛ³Ý ¹áÉ³ñ | AJ101: êÉáí³ÏÛ³Ý ÏñáÝ³ | AK101: Ð³ñ³íÏáñ»³Ï³Ý íáÝ | AL101: ´ñ³½ÇÉ³Ï³Ý é»³É | AM101: Ø»ùëÇÏ³Ï³Ý å»ëá | AN101: ê³áõ¹. ²ñ³µ³Ï³Ý éÇ³É | AO101: êÇñÇ³Ï³Ý ýáõÝï | AP101: Ø²¾ ¹ÇñË³Ù | AQ101: øáõí»ÛÃÛ³Ý ¹ÇÝ³ñ | AR101: èáõÙÇÝ³Ï³Ý É»Û | AS101: ÆëÉ³Ý¹³Ï³Ý ÏñáÝ | AU101: È³ïíÇ³Ï³Ý É³ï | AV101: ÈÇïí³Ï³Ý ÉÇï | AW101: ÔñÕñ½³Ï³Ý ëáÙ | AX101: Ô³½³Ë³Ï³Ý ï»Ý·» | AY101: ØáÉ¹áí³Ï³Ý É»Û | AZ101: äÉ³ïÇÝ» µ³ÝÏ³ÛÇÝ ëï³Ý¹³ñï³óí³Í ÓáõÉ³ÏïáñÝ»ñ | BA101: ²ñÍ³Ã» µ³ÝÏ³ÛÇÝ ëï³Ý¹³ñï³óí³Í ÓáõÉ³ÏïáñÝ»ñ | BB101: ²ÛÉ ³ñï³ñÅáõÛÃ 1 | BC101: ²ÛÉ ³ñï³ñÅáõÛÃ 2 | BD101: ²ÛÉ ³ñï³ñÅáõÛÃ 3
B102: 1 | C102: ²ñï³ñÅáõÃ³ÛÇÝ ¹ÇñùÇ Ù»ÍáõÃÛáõÝÝ ûñí³ í»ñçÇ ¹ñáõÃÛ³Ùµ
C103: Ü6.2 ÝáñÙ³ïÇíÇ ë³ÑÙ³Ý³ã³÷ | D103: =IF(D102="","",Sheet2!$L$12*7%) | E103: =IF(E102="","",Sheet2!$L$12*7%) | F103: =IF(F102="","",Sheet2!$L$12*7%) | G103: =IF(G102="","",Sheet2!$L$12*7%) | H103: =IF(H102="","",Sheet2!$L$12*7%) | I103: =IF(I102="","",Sheet2!$L$12*7%) | J103: =IF(J102="","",Sheet2!$L$12*7%) | K103: =IF(K102="","",Sheet2!$L$12*7%) | ... AS103: =IF(AS102="","",Sheet2!$L$12*7%) | AU103: =IF(AU102="","",Sheet2!$L$12*7%) | AV103: =IF(AV102="","",Sheet2!$L$12*7%) | AW103: =IF(AW102="","",Sheet2!$L$12*7%) | AX103: =IF(AX102="","",Sheet2!$L$12*7%) | AY103: =IF(AY102="","",Sheet2!$L$12*7%) | AZ103: =IF(AZ102="","",Sheet2!$L$12*7%) | BA103: =IF(BA102="","",Sheet2!$L$12*7%) | BB103: =IF(BB102="","",Sheet2!$L$12*7%) | ... BD103: =IF(BD102="","",Sheet2!$L$12*7%)
C104: î³ñµ»ñáõÃÛáõÝÁ (+ / -) | D104: =IF(D102="","",ABS(D102)-ABS(D103)) | E104: =IF(E102="","",ABS(E102)-ABS(E103)) | F104: =IF(F102="","",ABS(F102)-ABS(F103)) | G104: =IF(G102="","",ABS(G102)-ABS(G103)) | H104: =IF(H102="","",ABS(H102)-ABS(H103)) | I104: =IF(I102="","",ABS(I102)-ABS(I103)) | J104: =IF(J102="","",ABS(J102)-ABS(J103)) | K104: =IF(K102="","",ABS(K102)-ABS(K103)) | ... AS104: =IF(AS102="","",ABS(AS102)-ABS(AS103)) | AU104: =IF(AU102="","",ABS(AU102)-ABS(AU103)) | AV104: =IF(AV102="","",ABS(AV102)-ABS(AV103)) | AW104: =IF(AW102="","",ABS(AW102)-ABS(AW103)) | AX104: =IF(AX102="","",ABS(AX102)-ABS(AX103)) | AY104: =IF(AY102="","",ABS(AY102)-ABS(AY103)) | AZ104: =IF(AZ102="","",ABS(AZ102)-ABS(AZ103)) | BA104: =IF(BA102="","",ABS(BA102)-ABS(BA103)) | BB104: =IF(BB102="","",ABS(BB102)-ABS(BB103)) | ... BD104: =IF(BD102="","",ABS(BD102)-ABS(BD103))
...

Sheet Sheet25
A1: CorrS | B1: 1 | C1: 2 | D1: 3 | E1: 4 | F1: 5 | G1: 6 | H1: 7 | I1: 8 | J1: 9 | K1: 10 | L1: 11
A2: ²å³Ñáí³·ñáõÃÛ³Ý ¹³ë»ñÇ Ñ»ñÃ³Ï³Ý Ñ³Ù³ñÝ»ñ
A3: 1 | B3: 1
A4: 2 | B4: 0.5 | C4: 1
A5: 3 | B5: 0.5 | C5: 0.25 | D5: 1
A6: 4 | B6: 0.25 | C6: 0.25 | D6: 0.25 | E6: 1
A7: 5 | B7: 0.5 | C7: 0.25 | D7: 0.25 | E7: 0.25 | F7: 1
A8: 6 | B8: 0.25 | C8: 0.25 | D8: 0.25 | E8: 0.25 | F8: 0.5 | G8: 1
A9: 7 | B9: 0.5 | C9: 0.5 | D9: 0.25 | E9: 0.25 | F9: 0.5 | G9: 0.5 | H9: 1
A10: 8 | B10: 0.25 | C10: 0.5 | D10: 0.5 | E10: 0.5 | F10: 0.25 | G10: 0.25 | H10: 0.25 | I10: 1
A11: 9 | B11: 0.5 | C11: 0.5 | D11: 0.5 | E11: 0.5 | F11: 0.5 | G11: 0.5 | H11: 0.5 | I11: 0.5 | J11: 1
A12: 10 | B12: 0 | C12: 0 | D12: 0 | E12: 0 | F12: 0 | G12: 0 | H12: 0 | I12: 0 | J12: 0 | K12: 1
A13: 11 | B13: 0 | C13: 0 | D13: 0 | E13: 0 | F13: 0 | G13: 0 | H13: 0 | I13: 0 | J13: 0 | K13: 0.5 | L13: 1
A16: CorrS*¶i*Ìi | B16: =A18 -> 0 | C16: =A19 -> 0 | D16: =A20 -> 0 | E16: =A21 -> 0 | F16: =A22 -> 0 | G16: =A23 -> 0 | H16: =A24 -> 0 | I16: =A25 -> 0 | J16: =A26 -> 0 | K16: =A27 -> 0 | L16: =A28 -> 0
A18: =Sheet12!L15 -> 0 | B18: =A18*B16*B3 -> 0
A19: =Sheet12!L16 -> 0 | B19: =A19*B16*B4 -> 0 | C19: =A19*C16*C4 -> 0
A20: =Sheet12!L17 -> 0 | B20: =$A$20*B16*B5 -> 0 | C20: =$A$20*C16*C5 -> 0 | D20: =$A$20*D16*D5 -> 0
A21: =Sheet12!L18 -> 0 | B21: =$A$21*B16*B6 -> 0 | C21: =$A$21*C16*C6 -> 0 | D21: =$A$21*D16*D6 -> 0 | E21: =$A$21*E16*E6 -> 0
A22: =Sheet12!L19 -> 0 | B22: =$A$22*B7*B16 -> 0 | C22: =$A$22*C7*C16 -> 0 | D22: =$A$22*D7*D16 -> 0 | E22: =$A$22*E7*E16 -> 0 | F22: =$A$22*F7*F16 -> 0
A23: =Sheet12!L20 -> 0 | B23: =$A$23*B8*B16 -> 0 | C23: =$A$23*C8*C16 -> 0 | D23: =$A$23*D8*D16 -> 0 | E23: =$A$23*E8*E16 -> 0 | F23: =$A$23*F8*F16 -> 0 | G23: =$A$23*G8*G16 -> 0
A24: =Sheet12!L21 -> 0 | B24: =$A$24*B9*B16 -> 0 | C24: =$A$24*C9*C16 -> 0 | D24: =$A$24*D9*D16 -> 0 | E24: =$A$24*E9*E16 -> 0 | F24: =$A$24*F9*F16 -> 0 | G24: =$A$24*G9*G16 -> 0 | H24: =$A$24*H9*H16 -> 0
A25: =Sheet12!L22 -> 0 | B25: =$A$25*B10*B16 -> 0 | C25: =$A$25*C10*C16 -> 0 | D25: =$A$25*D10*D16 -> 0 | E25: =$A$25*E10*E16 -> 0 | F25: =$A$25*F10*F16 -> 0 | G25: =$A$25*G10*G16 -> 0 | H25: =$A$25*H10*H16 -> 0 | I25: =$A$25*I10*I16 -> 0
A26: =Sheet12!L23 -> 0 | B26: =$A$26*B11*B16 -> 0 | C26: =$A$26*C11*C16 -> 0 | D26: =$A$26*D11*D16 -> 0 | E26: =$A$26*E11*E16 -> 0 | F26: =$A$26*F11*F16 -> 0 | G26: =$A$26*G11*G16 -> 0 | H26: =$A$26*H11*H16 -> 0 | I26: =$A$26*I11*I16 -> 0 | J26: =$A$26*J11*J16 -> 0
A27: =Sheet15!L15 -> 0 | B27: =$A$27*B12*B16 -> 0 | C27: =$A$27*C12*C16 -> 0 | D27: =$A$27*D12*D16 -> 0 | E27: =$A$27*E12*E16 -> 0 | F27: =$A$27*F12*F16 -> 0 | G27: =$A$27*G12*G16 -> 0 | H27: =$A$27*H12*H16 -> 0 | I27: =$A$27*I12*I16 -> 0 | ... K27: =$A$27*K12*K16 -> 0
A28: =Sheet15!L16 -> 0 | B28: =$A$28*B13*B16 -> 0 | C28: =$A$28*C13*C16 -> 0 | D28: =$A$28*D13*D16 -> 0 | E28: =$A$28*E13*E16 -> 0 | F28: =$A$28*F13*F16 -> 0 | G28: =$A$28*G13*G16 -> 0 | H28: =$A$28*H13*H16 -> 0 | I28: =$A$28*I13*I16 -> 0 | ... L28: =$A$28*L13*L16 -> 0

Sheet Sheet26
C1: äÎáã ÏÛ³Ýù | D1: äÎ³éáÕç | E1: äÎÏÛ³Ýù | F1: äÎí³ñÏ³ÛÇÝ | G1: äÎ³ñï
B2: äÎáã ÏÛ³Ýù | C2: 1
B3: äÎ³éáÕç | C3: 0 | D3: 1
B4: äÎÏÛ³Ýù | C4: 0 | D4: 0.25 | E4: 1
B5: äÎí³ñÏ³ÛÇÝ | C5: 0.5 | D5: 0.25 | E5: 0.25 | F5: 1
B6: äÎ³ñï | C6: 0.25 | D6: 0.25 | E6: 0.25 | F6: 0.25 | G6: 1
C8: äÎáã ÏÛ³Ýù | D8: äÎ³éáÕç | E8: äÎÏÛ³Ýù | F8: äÎí³ñÏ³ÛÇÝ | G8: äÎ³ñï
C9: =B10 -> 0 | D9: =B11 -> 0 | E9: =B12 -> 0 | F9: =B13 -> 0 | G9: =B14 -> 0
A10: äÎáã ÏÛ³Ýù | B10: =Sheet1!I16 -> 0 | C10: =IFERROR(B10*C9*C2,0) -> 0
A11: äÎ³éáÕç | B11: =Sheet1!J16 -> 0 | C11: =IFERROR(B11*C9*C3,"0") -> 0 | D11: =IFERROR(B11*D9*D3,"0") -> 0
A12: äÎÏÛ³Ýù | B12: =Sheet1!K16 -> 0 | C12: =IFERROR(B12*C9*C4,0) -> 0 | D12: =IFERROR(B12*D9*D4,0) -> 0 | E12: =IFERROR(B12*E9*E4,0) -> 0
A13: äÎí³ñÏ³ÛÇÝ | B13: =Sheet1!H16 -> 0 | C13: =IFERROR(B13*C9*C5,0) -> 0 | D13: =IFERROR(B13*D9*D5,0) -> 0 | E13: =IFERROR(B13*E9*E5,0) -> 0 | F13: =IFERROR(B13*F9*F5,0) -> 0
A14: äÎ³ñï | B14: =Sheet1!G16 -> 0 | C14: =IFERROR(B14*C9*C6,0) -> 0 | D14: =IFERROR(B14*D9*D6,0) -> 0 | E14: =IFERROR(B14*E9*E6,0) -> 0 | F14: =IFERROR(B14*F9*F6,0) -> 0 | G14: =IFERROR(B14*G9*G6,0) -> 0
A17: √∑ij Îáñij äÎi äÎj | B17: =SQRT(SUM(Sheet26!C10:G14)) -> 0 | G17: >>:
