Workbook
Name Company: Report!$C$22
Name Data_Code: Data!$B:$B
Name Data_Currency: Data!$D:$D
Name Data_Residency: Data!$G:$G
Name Data_Size: Data!$F:$F
Name Data_Value: Data!$E:$E
Name Date: Report!$C$23
Name F41_Art: Data!$C$3
Name F41_Code: Data!$B$3
Name F41_Connect: Data!$H$3
Name F41_Currency: Data!$D$3
Name F41_Residency: Data!$G$3
Name F41_Size: Data!$F$3
Name F41_Value: Data!$E$3
Name Ref_Code: Reference!$A:$A
Name Ref_Connect: Reference!$N$3:$N$4
Name Ref_Curname: Reference!$G$4:$G$16
Name Ref_Currency: Reference!$H$3:$H$18
Name Ref_Currency1st: Reference!$H$4:$H$12
Name Ref_Currency2nd: Reference!$H$13:$H$16
Name Ref_FCur: Reference!$H$4:$H$16
Name Ref_Name: Reference!$B:$B
Name Ref_Rate: Reference!$D:$D
Name Ref_residency: Reference!$L$3:$L$5
Name Ref_size: Reference!$J$3:$J$9

Sheet Report
A1: 2023_June | U1: Հավելված 4
U2: Հայաստանի Հանրապետության
U3: կենտրոնական բանկի խորհրդի
U4: 2026 թվականի ապրիլի 21-ի թիվ 110-Ն որոշման
U7: « Հավելված 2
U8: Հաստատված է
U9: ՀՀ կենտրոնական բանկի խորհրդի
U10: 2008 թվականի փետրվարի 26-ի
U11: թիվ 50-Ն որոշմամբ
U13: Ձև թիվ 41
U14: (ամսական)
A15: ՀԱՇՎԵՏՎՈՒԹՅՈՒՆ
A16: Զուտ կայուն ֆինանսավորման նորմատիվի (Ն2⁴,Ն2⁴¹, Ն2⁴², Ն2⁴³) վերաբերյալ
B22: Բանկի անվանումը
B23: Ամսաթիվը | D23: թ.
C26: Աղյուսակ 1
B27: Զուտ կայուն ֆինանսավորման գործակից
B28: Բոլոր արժույթներով
B29: ՀՀ դրամով
B30: Առաջին խմբի նշանակալի արտարժույթներով
B31: Երկրորդ և առաջին խմբի նշանակալի արտարժույթներով
C33: =IF(B33="","",SUM(O44:O60)/SUM(O62:O93))
C34: =IF(B34="","",SUM(P44:P60)/SUM(P62:P93))
C35: =IF(B35="","",SUM(Q44:Q60)/SUM(Q62:Q93))
C36: =IF(B36="","",SUM(R44:R60)/SUM(R62:R93))
C37: =IF(B37="","",SUM(S44:S60)/SUM(S62:S93))
N38: Աղյուսակ 2
N39: հազար դրամ
A40: Կոդ | B40: Հոդվածի անվանում | C40: Ժամկետ | D40: Հաշվեկշռային գումար | M40: Հաշվարկային գումար
D41: AMD | E41: =IFERROR(INDEX(Ref_FCur,MATCH(Report!B32,Ref_Curname,0)),"") | F41: =IFERROR(INDEX(Ref_FCur,MATCH(Report!B33,Ref_Curname,0)),"") | G41: =IFERROR(INDEX(Ref_FCur,MATCH(Report!B34,Ref_Curname,0)),"") | H41: =IFERROR(INDEX(Ref_FCur,MATCH(Report!B35,Ref_Curname,0)),"") | I41: =IFERROR(INDEX(Ref_FCur,MATCH(Report!B36,Ref_Curname,0)),"") | J41: =IFERROR(INDEX(Ref_FCur,MATCH(Report!B37,Ref_Curname,0)),"") | K41: Other 1st group | L41: Other 2nd group | M41: =+D41 -> AMD | N41: =+E41 | O41: =+F41 | P41: =+G41 | Q41: =+H41 | R41: =+I41 | S41: =+J41 | T41: =+K41 -> Other 1st group | U41: =+L41 -> Other 2nd group
A42: 1 | B42: 2 | C42: 3 | D42: 4 | E42: 5 | F42: 6 | G42: 7 | H42: 8 | I42: 9 | J42: 10 | K42: 11 | L42: 12 | M42: 13 | N42: 14 | O42: 15 | P42: 16 | Q42: 17 | R42: 18 | S42: 19 | T42: 20 | U42: 21
A43: A | B43: Բանկին հասանելի կայուն միջոցներ
A44: A1 | B44: Առաջին մակարդակի կապիտալի տարրեր
A45: A2 | B45: Երկրորդ մակարդակի կապիտալի տարրեր
A46: A3.1 | B46: Իրավաբանական անձանցից ներգրավված միջոցներ | C46: ≥ 1 տարի
A47: A3.2 | B47: Բանկի կողմից թողարկված պարտատոմսեր | C47: ≥ 1 տարի
A48: A4.1 | B48: ֆիզիկական անձանցից և անհատ ձեռնարկատերերից ներգրավված միջոցներ | C48: անկախ ժամկետից
A49: A5.1 | B49: ՓՄՁ սուբյեկտներից ներգրավված միջոցներ | C49: < 1 տարի
A50: A6.1 | B50: Ոչ ֆինանսական խոշոր կազմակերպություններից ներգրավված միջոցները | C50: < 1 տարի
A51: A7 | B51: ՀՀ կառավարությունից, ՀՀ տեղական ինքնակառավարման մարմիններից, օտարերկրյա պետական մարմիններից, միջազգային կազմակերպություններից և միջազգային զարգացման բանկերից (multilateral development banks) ներգրավված միջոցները | C51: < 1 տարի
A52: A8 | B52: Կենտրոնական բանկերից և ֆինանսական կազմակերպություններից ներգրավված միջոցներ | C52: ≥ 6 ամիս < 1 տարի
A53: A9 | B53: Այլ միջոցներ | C53: ≥ 6 ամիս < 1 տարի
A54: A11 | B54: Ածանցյալ գործիքների գծով զուտ պարտավորության և բանկի ակտիվներում արտացոլված ածանցյալ գործիքների հաշվեկշռային արժեքի դրական տարբերություն
A55: A12 | B55: Ռեպո համաձայնագրերով ներգրավված միջոցները և ռեպո համաձայնագրերով ձեռք բերված արժեթղթերի գծով պարտավորություններ
A56: A13 | B56: Ռեզիդենտ և օտարերկրյա բանկերի` հաշվետու բանկում առկա «լորո» թղթակցային հաշիվների և ցպահանջ ավանդների մնացորդ
A57: A14 | B57: Ստորադաս փոխառություններ | C57: < 6 ամիս
A58: A15 | B58: Չօգտագործված վարկային գծերը, երաշխիքները, ակրեդիտիվները և իրացվելիության տրամադրման նմանատիպ այլ գործիքներ
A59: A16 | B59: Պարտավորություններ, որոնք հաշվետու բանկի կողմից չեն կատարվել պայմանագրով սահմանված ժամկետում, ինչպես նաև դատարանի կամ միջնորդ դատարանի վարույթում գտնվող գործերով պարտավորություններ
A60: A17 | B60: Այլ միջոցներ | C60: < 6 ամիս
A61: B | B61: Բանկին անհրաժեշտ կայուն միջոցներ
A62: B1 | B62: Կանխիկ դրամական միջոցներ
A63: B2 | B63: Կենտրոնական բանկում թղթակցային հաշվի միջոցներ
A64: B3 | B64: Կենտրոնական բանկի նկատմամբ այլ պահանջներ | C64: < 6 ամիս
A65: B4 | B65: Երկարաժամկետ ավանդների ներգրավման ԲԲԲ+(Բաա1) և ԲԲԲ+(Բաա1)-ից բարձր վարկանիշ ունեցող ոչ ռեզիդենտ բանկին մեկ աշխատանքային օրանոց (օվերնայթ) վարկային պայմանագրերով տրամադրված միջոցներ
A66: B5 | B66: Ֆինանսական գործիքների, արժույթի (արտարժույթի) և թանկարժեք մետաղների վաճառքից ստացվելիք գումարներ | C66: ≤ 2 օր և ժամկետանց չեն
A67: B6 | B67: ՀՀ կառավարության, կենտրոնական բանկի, տեղական ինքնակառավարման մարմինների կողմից թողարկված կամ ամբողջությամբ երաշխավորված ազատ շրջանառելի արժեթղթեր (այդ թվում` ռեպո համաձայնագրով վաճառված)՝ ընթացիկ (շուկայական) արժեքով
A68: B7 | B68: ԱԱ-(Աա3) և բարձր վարկանիշ ունեցող պետությունների (կառավարությունների), կենտրոնական բանկերի, տեղական ինքնակառավարման մարմինների, Միջազգային կազմակերպությունների, Միջազգային հաշվարկների բանկի, Եվրոպական կոմիտեի (European community) կողմից թողարկված կամ ամբողջությամբ երաշխավորված ազատ շրջանառելի արժեթղթեր (այդ թվում` ռեպո համաձայնագրով վաճառված)՝ ընթացիկ (շուկայական) արժեքով
A69: B8 | B69: Չվերականգնվող վարկային գծերի չօգտագործված մասը
A70: B9 | B70: Բանկի այն ռեպո համաձայնագրերի և արժեթղթերի փոխառության պայմանագրերի գումարը, որոնք ամբողջությամբ ապահովված են Կանոնակարգ 2-ի Հավելված 13-ի 12-րդ կետի Աղյուսակ 2-ի 6-7-րդ կետերով սահմանված արժեթղթերով | C70: < 6 ամիս
A71: B10 | B71: Ստանդարտ և Փուրզ կամ Ֆիթչ (կամ Մուդիզ) վարկանիշային կազմակերպությունների կողմից տրամադրված Ա-(Ա3)-ից Ա+(Ա1) վարկանիշ ունեցող պետությունների (կառավարությունների) և կենտրոնական բանկերի կողմից թողարկված կամ ամբողջությամբ երաշխավորված ազատ շրջանառելի արժեթղթեր (այդ թվում` ռեպո համաձայնագրով վաճառված)` ընթացիկ (շուկայական) արժեքով
A72: B11 | B72: ԱԱ-(Աա3) և բարձր վարկանիշ ունեցող կորպորատիվ պարտատոմսեր (այդ թվում` ռեպո համաձայնագրով վաճառված)՝ ընթացիկ (շուկայական) արժեքով
A73: B12 | B73: Ֆինանսական կազմակերպությունների նկատմամբ ունեցած պահանջներ | C73: < 6 ամիս
A74: B13 | B74: Վարկային ռիսկ պարունակող հետհաշվեկշռային պայմանական պարտավորություններ (բացառությամբ` երաշխավորությունների (երաշխիքների և չվերականգնվող վարկային գծերի չօգտագործված մասի))
A75: B14 | B75: ԱԱ (Աա2) և բարձր վարկանիշ ունեցող ապահովված բնակարանային հիփոթեքային պարտատոմսերը
A76: B15 | B76: Վերաֆինանսավորում իրականացնող վարկային կազմակերպությունների կողմից թողարկված ապահովված բնակարանային հիփոթեքային պարտատոմսերը (այդ թվում` ռեպո համաձայնագրով վաճառված)` ընթացիկ (շուկայական) արժեքով
A77: B16 | B77: Ազատ շրջանառելի սովորական բաժնետոմսերը, որոնք թողարկված չեն ֆինանսական կազմակերպության կամ ֆինանսական կազմակերպության հետ փոխկապակցված կազմակերպության կողմից
A78: B17 | B78: ԲԲԲ-(Բաա3)-ից Ա+(Ա1) վարկանիշ ունեցող կորպորատիվ պարտատոմսեր (այդ թվում` ռեպո համաձայնագրով վաճառված)՝ ընթացիկ (շուկայական) արժեքով
A79: B18 | B79: Կենտրոնական բանկերին և ֆինանսական կազմակերպություններին տրված վարկեր | C79: ≥ 6 ամիս < 1 տարի
A80: B19 | B80: Հայաստանի Հանրապետության վարկանիշին համապատասխան, վարկանիշից բարձր կամ մեկ վարկանիշ ցածր վարկանիշ ստացած ՀՀ ռեզիդենտ ոչ ֆինանսական կազմակերպությունների կողմից թողարկված պարտատոմսեր` ընթացիկ (շուկայական) արժեքով, որոնք ցուցակված են Հայաստանի Հանրապետության տարածքում գործող կարգավորվող շուկայում
A81: B20 | B81: Ֆինանսական կազմակերպություն չհանդիսացող անձանց (ներառյալ` ֆիզիկական անձանց և անհատ ձեռնարկատերերի), կառավարություններին, տեղական ինքնակառավարման մարմիններին տրամադրված վարկերի և այլ պահանջների գումարը, որոնք նշված չեն սույն աղյուսակի այլ կետերում և դասակարգված են ստանդարտ դասում | C81: < 1 տարի
A82: B21 | B82: Ֆինանսական կազմակերպություն չհանդիսացող անձանց տրամադրված այլ վարկերի և պահանջների գումարը, որոնք դասակարգված են ստանդարտ դասում, գրավադրված չեն և ունեն 35% կամ ավելի ցածր ռիսկի կշիռ | C82: ≥ 1 տարի
A83: B22 | B83: Ներդրումներ բարձր իրացվելի ակտիվ չհամարվող արժեթղթերում, որոնք դասակարգված են որպես ոչ ռիսկային և գրավադրված չեն | C83: ≥ 1 տարի
A84: B23 | B84: Բանկի թանկարժեք մետաղները՝ հաշվեկշռային արժեքով, ներառյալ բանկային ոսկին, ստանդարտացված ձուլակտորները
A85: B24 | B85: Ֆինանսական կազմակերպություն անձանց (ներառյալ` ֆիզիկական անձանց և անհատ ձեռնարկատերերի), կառավարություններին, տեղական ինքնակառավարման մարմիններին տրամադրված այլ վարկերի և այլ պահանջների գումարը, դասակարգված են ստանդարտ դասում և գրավադրված չեն | C85: ≥ 1 տարի
A86: B25 | B86: Հիմնական միջոցներ (բացառությամբ նորմատիվային կապիտալից նվազեցվող հիմնական միջոցների)
A87: B26 | B87: Չաշխատող ակտիվներ
A88: B27 | B88: Ֆինանսական կազմակերպություններին տրամադրված միջոցներ | C88: ≥ 1 տարի
A89: B28 | B89: Նորմատիվային կապիտալից նվազեցվող ակտիվներ
A90: B29 | B90: Բանկի ակտիվներում արտացոլված ածանցյալ գործիքների հաշվեկշռային արժեքի և ածանցյալ գործիքների գծով զուտ պարտավորության դրական տարբերությունը
A91: B30 | B91: Բանկի կողմից տրված երաշխիքների, երաշխավորությունների գումարը
A92: B31 | B92: Այլ ռեպո համաձայնագրերի, արժեթղթերի փոխառության պայմանագրերի գումար | C92: < 6 ամիս
A93: B32 | B93: Սույն աղյուսակում չնշված այլ միջոցներ
T98: Բանկի վարչության նախագահ
R99: Կ.Տ. | T99: (գործադիր տնօրեն)
T100: Գլխավոր հաշվապահ

Sheet Data
B2: Կոդ | C2: Հոդվածի անվանում | D2: Արժույթ | E2: Գումար (հազ. դրամ) | F2: Պարտավորության կշիռ | G2: Ռեզիդենտություն | H2: Կապվածություն
B3: 1 | C3: 2 | D3: 3 | E3: 4 | F3: 5 | G3: 6 | H3: 7
C4: =IFERROR(INDEX(Ref_Name,MATCH(B4,Ref_Code,0)),"")
C5: =IFERROR(INDEX(Ref_Name,MATCH(B5,Ref_Code,0)),"")
C6: =IFERROR(INDEX(Ref_Name,MATCH(B6,Ref_Code,0)),"")
C7: =IFERROR(INDEX(Ref_Name,MATCH(B7,Ref_Code,0)),"")
C8: =IFERROR(INDEX(Ref_Name,MATCH(B8,Ref_Code,0)),"")
C9: =IFERROR(INDEX(Ref_Name,MATCH(B9,Ref_Code,0)),"")
C10: =IFERROR(INDEX(Ref_Name,MATCH(B10,Ref_Code,0)),"")
C11: =IFERROR(INDEX(Ref_Name,MATCH(B11,Ref_Code,0)),"")
C12: =IFERROR(INDEX(Ref_Name,MATCH(B12,Ref_Code,0)),"")
C13: =IFERROR(INDEX(Ref_Name,MATCH(B13,Ref_Code,0)),"")
C14: =IFERROR(INDEX(Ref_Name,MATCH(B14,Ref_Code,0)),"")
C15: =IFERROR(INDEX(Ref_Name,MATCH(B15,Ref_Code,0)),"")
... C1001: =IFERROR(INDEX(Ref_Name,MATCH(B1001,Ref_Code,0)),"")

Sheet Reference
A1: NSFR | G1: Արժույթներ
A2: Կոդ | B2: Հոդվածի անվանում | C2: ժամկետ | D2: Կշիռ | E2: Համաձայն Կանոնակարգ 2-ի Հավելված 13-ի | G2: Անուն | H2: ISO code | J2: Պարտավորության կշիռ | L2: Ռեզիդենտություն | N2: Կապվածություն
A3: A | B3: Բանկին հասանելի կայուն միջոցներ | G3: ՀՀ դրամ | H3: AMD | J3: փոքր 0.01%-ից | L3: Ռեզիդենտ | N3: Կապված
A4: A1 | B4: Առաջին մակարդակի կապիտալի տարրեր | D4: 1 | E4: Աղյուսակ 1, կետ 1 | G4: ԱՄՆ դոլար | H4: USD | J4: 0.01-0.05% | L4: Ոչ ռեզիդենտ | N4: Չկապված
A5: A2 | B5: Երկրորդ մակարդակի կապիտալի տարրեր | D5: 1 | E5: Աղյուսակ 1, կետ 2 | G5: Եվրո | H5: EUR | J5: 0.05-0.1% | L5: Միջազգային կազմակերպություն
A6: A3.1 | B6: Իրավաբանական անձանցից ներգրավված միջոցներ | C6: ≥ 1 տարի | D6: 1 | E6: Աղյուսակ 1, կետ 3 | G6: Չինական յուան | H6: CNY | J6: 0.1-0.5%
A7: A3.2 | B7: Բանկի կողմից թողարկված պարտատոմսեր | C7: ≥ 1 տարի | D7: 0.95 | E7: Աղյուսակ 1, կետ 3.1 | G7: Մեծ Բրիտանիայի ֆունտ ստերլինգ | H7: GBP | J7: 0.5-1%
A8: A4.1 | B8: ֆիզիկական անձանցից և անհատ ձեռնարկատերերից ներգրավված միջոցները | C8: անկախ ժամկետից | D8: 40-90% | E8: Աղյուսակ 1, կետ 4 Աղյուսակ 1.1, կետ 1 | G8: Շվեյցարական ֆրանկ | H8: CHF | J8: 1-5%
A9: A5.1 | B9: ՓՄՁ սուբյեկտներից ներգրավված միջոցներ | C9: < 1 տարի | D9: 40-90% | E9: Աղյուսակ 1, կետ 5 Աղյուսակ 1.1, կետ 2 | G9: Կանադական դոլար | H9: CAD | J9: 5%-ից ավել
A10: A6.1 | B10: Ոչ ֆինանսական խոշոր կազմակերպություններից ներգրավված միջոցները | C10: < 1 տարի | D10: 20-60% | E10: Աղյուսակ 1, կետ 6 Աղյուսակ 1.1, կետ 3 | G10: Շվեդական կրոն | H10: SEK
A11: A7 | B11: ՀՀ կառավարությունից, ՀՀ տեղական ինքնակառավարման մարմիններից, օտարերկրյա պետական մարմիններից, միջազգային կազմակերպություններից և միջազգային զարգացման բանկերից (multilateral development banks) ներգրավված միջոցները | C11: < 1 տարի | D11: 0.5 | E11: Աղյուսակ 1, կետ 7 | G11: Ավստրալիական դոլար | H11: AUD
A12: A8 | B12: Կենտրոնական բանկերից և ֆինանսական կազմակերպություններից ներգրավված միջոցները | C12: ≥ 6 ամիս < 1 տարի | D12: 0.5 | E12: Աղյուսակ 1, կետ 8 | G12: Ճապոնական իեն | H12: JPY
A13: A9 | B13: Այլ միջոցներ | C13: ≥ 6 ամիս < 1 տարի | D13: 0.5 | E13: Աղյուսակ 1, կետ 9 | G13: Ռուսական ռուբլի | H13: RUB
A14: A11 | B14: Ածանցյալ գործիքների գծով զուտ պարտավորության և բանկի ակտիվներում արտացոլված ածանցյալ գործիքների հաշվեկշռային արժեքի դրական տարբերությունը | D14: 0 | E14: Աղյուսակ 1, կետ 11 | G14: ԱՄԷ դիրհամ | H14: AED
A15: A12 | B15: Ռեպո համաձայնագրերով ներգրավված միջոցները և ռեպո համաձայնագրերով ձեռք բերված արժեթղթերի գծով պարտավորություններ | D15: 0 | E15: Աղյուսակ 1, կետ 12 | G15: Վրացական լարի | H15: GEL
A16: A13 | B16: Ռեզիդենտ և օտարերկրյա բանկերի` հաշվետու բանկում առկա «լորո» թղթակցային հաշիվների և ցպահանջ ավանդների մնացորդ | D16: 0 | E16: Աղյուսակ 1, կետ 13 | G16: Ղազախական տենգե | H16: KZT
A17: A14 | B17: Ստորադաս փոխառություններ | C17: < 6 ամիս | D17: 0 | E17: Աղյուսակ 1, կետ 14 | G17: Այլ 1-ին խմբի արտարժույթ | H17: Other 1st group
A18: A15 | B18: Չօգտագործված վարկային գծերը, երաշխիքները, ակրեդիտիվները և իրացվելիության տրամադրման նմանատիպ այլ գործիքներ | D18: 0 | E18: Աղյուսակ 1, կետ 15 | G18: Այլ 2-րդ խմբի արտարժույթ | H18: Other 2nd group
A19: A16 | B19: Պարտավորություններ, որոնք հաշվետու բանկի կողմից չեն կատարվել պայմանագրով սահմանված ժամկետում, ինչպես նաև դատարանի կամ միջնորդ դատարանի վարույթում գտնվող գործերով պարտավորությունները | D19: 0 | E19: Աղյուսակ 1, կետ 16
A20: A17 | B20: Այլ միջոցներ | C20: < 6 ամիս | D20: 0 | E20: Աղյուսակ 1, կետ 17
A21: B | B21: Բանկին անհրաժեշտ կայուն միջոցներ
A22: B1 | B22: Կանխիկ դրամական միջոցներ | D22: 0 | E22: Աղյուսակ 2, կետ 1
A23: B2 | B23: Կենտրոնական բանկում թղթակցային հաշվի միջոցներ | D23: 0 | E23: Աղյուսակ 2, կետ 2
A24: B3 | B24: Կենտրոնական բանկի նկատմամբ այլ պահանջներ | C24: < 6 ամիս | D24: 0 | E24: Աղյուսակ 2, կետ 3
A25: B4 | B25: Երկարաժամկետ ավանդների ներգրավման ԲԲԲ+(Բաա1) և ԲԲԲ+(Բաա1)-ից բարձր վարկանիշ ունեցող ոչ ռեզիդենտ բանկին մեկ աշխատանքային օրանոց (օվերնայթ) վարկային պայմանագրերով տրամադրված միջոցներ | D25: 0 | E25: Աղյուսակ 2, կետ 4
A26: B5 | B26: Ֆինանսական գործիքների, արժույթի (արտարժույթի) և թանկարժեք մետաղների վաճառքից ստացվելիք գումարները | C26: ≤ 2 օր և ժամկետանց չեն | D26: 0 | E26: Աղյուսակ 2, կետ 5
A27: B6 | B27: ՀՀ կառավարության, կենտրոնական բանկի, տեղական ինքնակառավարման մարմինների կողմից թողարկված կամ ամբողջությամբ երաշխավորված ազատ շրջանառելի արժեթղթեր (այդ թվում` ռեպո համաձայնագրով վաճառված)՝ ընթացիկ (շուկայական) արժեքով | D27: 0.05 | E27: Աղյուսակ 2, կետ 6
A28: B7 | B28: ԱԱ-(Աա3) և բարձր վարկանիշ ունեցող պետությունների (կառավարությունների), կենտրոնական բանկերի, տեղական ինքնակառավարման մարմինների, Միջազգային կազմակերպությունների, Միջազգային հաշվարկների բանկի, Եվրոպական կոմիտեի (European community) կողմից թողարկված կամ ամբողջությամբ երաշխավորված ազատ շրջանառելի արժեթղթեր (այդ թվում` ռեպո համաձայնագրով վաճառված)՝ ընթացիկ (շուկայական) արժեքով | D28: 0.05 | E28: Աղյուսակ 2, կետ 7
A29: B8 | B29: Չվերականգնվող վարկային գծերի չօգտագործված մասը | D29: 0.05 | E29: Աղյուսակ 2, կետ 8
A30: B9 | B30: Բանկի այն ռեպո համաձայնագրերի և արժեթղթերի փոխառության պայմանագրերի գումարը, որոնք ամբողջությամբ ապահովված են Կանոնակարգ 2-ի Հավելված 13-ի 12-րդ կետի Աղյուսակ 2-ի 6-7-րդ կետերով սահմանված արժեթղթերով | C30: < 6 ամիս | D30: 0.1 | E30: Աղյուսակ 2, կետ 9
A31: B10 | B31: Ստանդարտ և Փուրզ կամ Ֆիթչ (կամ Մուդիզ) վարկանիշային կազմակերպությունների կողմից տրամադրված Ա-(Ա3)-ից Ա+(Ա1) վարկանիշ ունեցող պետությունների (կառավարությունների) և կենտրոնական բանկերի կողմից թողարկված կամ ամբողջությամբ երաշխավորված ազատ շրջանառելի արժեթղթեր (այդ թվում` ռեպո համաձայնագրով վաճառված)` ընթացիկ (շուկայական) արժեքով | D31: 0.15 | E31: Աղյուսակ 2, կետ 10
A32: B11 | B32: ԱԱ-(Աա3) և բարձր վարկանիշ ունեցող կորպորատիվ պարտատոմսերը (այդ թվում` ռեպո համաձայնագրով վաճառված)՝ ընթացիկ (շուկայական) արժեքով | D32: 0.15 | E32: Աղյուսակ 2, կետ 11
A33: B12 | B33: Ֆինանսական կազմակերպությունների նկատմամբ ունեցած պահանջներ | C33: < 6 ամիս | D33: 0.15 | E33: Աղյուսակ 2, կետ 12
A34: B13 | B34: Վարկային ռիսկ պարունակող հետհաշվեկշռային պայմանական պարտավորություններ (բացառությամբ` երաշխավորությունների (երաշխիքների և չվերականգնվող վարկային գծերի չօգտագործված մասի)) | D34: 0.2 | E34: Աղյուսակ 2, կետ 13
A35: B14 | B35: ԱԱ (Աա2) և բարձր վարկանիշ ունեցող ապահովված բնակարանային հիփոթեքային պարտատոմսերը | D35: 0.5 | E35: Աղյուսակ 2, կետ 14
A36: B15 | B36: Վերաֆինանսավորում իրականացնող վարկային կազմակերպությունների կողմից թողարկված ապահովված բնակարանային հիփոթեքային պարտատոմսերը (այդ թվում` ռեպո համաձայնագրով վաճառված)` ընթացիկ (շուկայական) արժեքով | D36: 0.5 | E36: Աղյուսակ 2, կետ 15
A37: B16 | B37: Ազատ շրջանառելի սովորական բաժնետոմսերը, որոնք թողարկված չեն ֆինանսական կազմակերպության կամ ֆինանսական կազմակերպության հետ փոխկապակցված կազմակերպության կողմից | D37: 0.5 | E37: Աղյուսակ 2, կետ 16
A38: B17 | B38: ԲԲԲ-(Բաա3)-ից Ա+(Ա1) վարկանիշ ունեցող կորպորատիվ պարտատոմսերը (այդ թվում` ռեպո համաձայնագրով վաճառված)՝ ընթացիկ (շուկայական) արժեքով | D38: 0.5 | E38: Աղյուսակ 2, կետ 17
A39: B18 | B39: Կենտրոնական բանկերին և ֆինանսական կազմակերպություններին տրված վարկեր | C39: ≥ 6 ամիս < 1 տարի | D39: 0.5 | E39: Աղյուսակ 2, կետ 18
A40: B19 | B40: Հայաստանի Հանրապետության վարկանիշին համապատասխան, վարկանիշից բարձր կամ մեկ վարկանիշ ցածր վարկանիշ ստացած ՀՀ ռեզիդենտ ոչ ֆինանսական կազմակերպությունների կողմից թողարկված պարտատոմսեր` ընթացիկ (շուկայական) արժեքով, որոնք ցուցակված են Հայաստանի Հանրապետության տարածքում գործող կարգավորվող շուկայում | D40: 0.5 | E40: Աղյուսակ 2, կետ 19
A41: B20 | B41: Ֆինանսական կազմակերպություն չհանդիսացող անձանց (ներառյալ` ֆիզիկական անձանց և անհատ ձեռնարկատերերի), կառավարություններին, տեղական ինքնակառավարման մարմիններին տրամադրված վարկերի և այլ պահանջների գումարը, որոնք նշված չեն սույն աղյուսակի այլ կետերում և դասակարգված են ստանդարտ դասում | C41: < 1 տարի | D41: 0.5 | E41: Աղյուսակ 2, կետ 20
A42: B21 | B42: Ֆինանսական կազմակերպություն չհանդիսացող անձանց տրամադրված այլ վարկերի և պահանջների գումարը, որոնք դասակարգված են ստանդարտ դասում, գրավադրված չեն և ունեն 35% կամ ավելի ցածր ռիսկի կշիռ | C42: ≥ 1 տարի | D42: 0.65 | E42: Աղյուսակ 2, կետ 21
A43: B22 | B43: Ներդրումներ բարձր իրացվելի ակտիվ չհամարվող արժեթղթերում, որոնք դասակարգված են որպես ոչ ռիսկային և գրավադրված չեն | C43: ≥ 1 տարի | D43: 0.85 | E43: Աղյուսակ 2, կետ 22
A44: B23 | B44: Բանկի թանկարժեք մետաղները՝ հաշվեկշռային արժեքով, ներառյալ բանկային ոսկին, ստանդարտացված ձուլակտորները | D44: 0.85 | E44: Աղյուսակ 2, կետ 23
A45: B24 | B45: Ֆինանսական կազմակերպություն չհանդիսացող անձանց (ներառյալ` ֆիզիկական անձանց և անհատ ձեռնարկատերերի), կառավարություններին, տեղական ինքնակառավարման մարմիններին տրամադրված այլ վարկերի և այլ պահանջների գումարը, դասակարգված են ստանդարտ դասում և գրավադրված չեն | C45: ≥ 1 տարի | D45: 0.85 | E45: Աղյուսակ 2, կետ 24
A46: B25 | B46: Հիմնական միջոցներ (բացառությամբ նորմատիվային կապիտալից նվազեցվող հիմնական միջոցների) | D46: 1 | E46: Աղյուսակ 2, կետ 25
A47: B26 | B47: Չաշխատող ակտիվներ | D47: 1 | E47: Աղյուսակ 2, կետ 26
A48: B27 | B48: Ֆինանսական կազմակերպություններին տրամադրված միջոցները | C48: ≥ 1 տարի | D48: 1 | E48: Աղյուսակ 2, կետ 27
A49: B28 | B49: Նորմատիվային կապիտալից նվազեցվող ակտիվներ | D49: 1 | E49: Աղյուսակ 2, կետ 28
A50: B29 | B50: Բանկի ակտիվներում արտացոլված ածանցյալ գործիքների հաշվեկշռային արժեքի և ածանցյալ գործիքների գծով զուտ պարտավորության դրական տարբերությունը | D50: 1 | E50: Աղյուսակ 2, կետ 29
A51: B30 | B51: Բանկի կողմից տրված երաշխիքների, երաշխավորությունների գումարը | D51: 0.2 | E51: Աղյուսակ 2, կետ 30
A52: B31 | B52: Այլ ռեպո համաձայնագրերի, արժեթղթերի փոխառության պայմանագրերի գումարը | C52: < 6 ամիս | D52: 0.15 | E52: Աղյուսակ 2, կետ 31
A53: B32 | B53: Այլ միջոցներ | D53: 1 | E53: Աղյուսակ 2, կետ 32
